BEGIN:VCALENDAR
VERSION:2.0
PRODID:-// - ECPv6.15.12.2//NONSGML v1.0//EN
CALSCALE:GREGORIAN
METHOD:PUBLISH
X-ORIGINAL-URL:https://ncssa.club
X-WR-CALDESC:Events for 
REFRESH-INTERVAL;VALUE=DURATION:PT1H
X-Robots-Tag:noindex
X-PUBLISHED-TTL:PT1H
BEGIN:VTIMEZONE
TZID:America/Los_Angeles
BEGIN:DAYLIGHT
TZOFFSETFROM:-0800
TZOFFSETTO:-0700
TZNAME:PDT
DTSTART:20240310T100000
END:DAYLIGHT
BEGIN:STANDARD
TZOFFSETFROM:-0700
TZOFFSETTO:-0800
TZNAME:PST
DTSTART:20241103T090000
END:STANDARD
BEGIN:DAYLIGHT
TZOFFSETFROM:-0800
TZOFFSETTO:-0700
TZNAME:PDT
DTSTART:20250309T100000
END:DAYLIGHT
BEGIN:STANDARD
TZOFFSETFROM:-0700
TZOFFSETTO:-0800
TZNAME:PST
DTSTART:20251102T090000
END:STANDARD
BEGIN:DAYLIGHT
TZOFFSETFROM:-0800
TZOFFSETTO:-0700
TZNAME:PDT
DTSTART:20260308T100000
END:DAYLIGHT
BEGIN:STANDARD
TZOFFSETFROM:-0700
TZOFFSETTO:-0800
TZNAME:PST
DTSTART:20261101T090000
END:STANDARD
END:VTIMEZONE
BEGIN:VEVENT
DTSTART;VALUE=DATE:20250315
DTEND;VALUE=DATE:20250317
DTSTAMP:20260421T025849
CREATED:20250121T164949Z
LAST-MODIFIED:20250311T191825Z
UID:25299-1741996800-1742169599@ncssa.club
SUMMARY:San Jose March Madness (canceled)
DESCRIPTION:Bracket – A\nBracket – B\nBracket – C\nBracket – D\n 
URL:https://ncssa.club/event/san-jose-3/
LOCATION:San Jose – Arcadia BallPark\, 2208 Quimby Road\, San Jose\, CA\, United States
CATEGORIES:San Jose
ORGANIZER;CN="John Reedy":MAILTO:jrbaldeagle@sbcglobal.net
END:VEVENT
BEGIN:VEVENT
DTSTART;VALUE=DATE:20250319
DTEND;VALUE=DATE:20250321
DTSTAMP:20260421T025849
CREATED:20250121T163820Z
LAST-MODIFIED:20250321T165735Z
UID:25297-1742342400-1742515199@ncssa.club
SUMMARY:Manteca BLD March Madness (Wed/Thu) - March 19/20
DESCRIPTION:2025 Manteca BLD Waiver (click here)\nHere are the new brackets for BLD rain date March 19\, 20\, its Wed/Thur as BLD closed Friday 21.\nthe time change for Wed is due to BLD request.\nBracket – AA\nBracket – BB
URL:https://ncssa.club/event/manteca-bld-thursday-friday/
LOCATION:Manteca – Big League Dreams\, 1077 Milo Candini Dr\, Manteca\, CA\, 95337\, United States
CATEGORIES:Manteca
ORGANIZER;CN="John Reedy":MAILTO:jrbaldeagle@sbcglobal.net
END:VEVENT
BEGIN:VEVENT
DTSTART;VALUE=DATE:20250329
DTEND;VALUE=DATE:20250331
DTSTAMP:20260421T025849
CREATED:20250121T165119Z
LAST-MODIFIED:20250402T161549Z
UID:25301-1743206400-1743379199@ncssa.club
SUMMARY:Lodi Golden Grape by Big Dawg Softball
DESCRIPTION:Please note – The Lodi Tournaments have expanded the groups from 6-14 to 4-14.\n  \nRevised Flyer (click here)\n  \nBracket – A\nBracket – B\nNew team added to Bracket C\nBracket – C (rev)
URL:https://ncssa.club/event/lodi-16/
LOCATION:Lodi – Softball Complex & Chapman Field\, 401 North Stockton Street\, Lodi\, CA\, 95240\, United States
CATEGORIES:Lodi
END:VEVENT
END:VCALENDAR