BEGIN:VCALENDAR
VERSION:2.0
PRODID:-// - ECPv6.15.12.2//NONSGML v1.0//EN
CALSCALE:GREGORIAN
METHOD:PUBLISH
X-ORIGINAL-URL:https://ncssa.club
X-WR-CALDESC:Events for 
REFRESH-INTERVAL;VALUE=DURATION:PT1H
X-Robots-Tag:noindex
X-PUBLISHED-TTL:PT1H
BEGIN:VTIMEZONE
TZID:America/Los_Angeles
BEGIN:DAYLIGHT
TZOFFSETFROM:-0800
TZOFFSETTO:-0700
TZNAME:PDT
DTSTART:20230312T100000
END:DAYLIGHT
BEGIN:STANDARD
TZOFFSETFROM:-0700
TZOFFSETTO:-0800
TZNAME:PST
DTSTART:20231105T090000
END:STANDARD
BEGIN:DAYLIGHT
TZOFFSETFROM:-0800
TZOFFSETTO:-0700
TZNAME:PDT
DTSTART:20240310T100000
END:DAYLIGHT
BEGIN:STANDARD
TZOFFSETFROM:-0700
TZOFFSETTO:-0800
TZNAME:PST
DTSTART:20241103T090000
END:STANDARD
BEGIN:DAYLIGHT
TZOFFSETFROM:-0800
TZOFFSETTO:-0700
TZNAME:PDT
DTSTART:20250309T100000
END:DAYLIGHT
BEGIN:STANDARD
TZOFFSETFROM:-0700
TZOFFSETTO:-0800
TZNAME:PST
DTSTART:20251102T090000
END:STANDARD
END:VTIMEZONE
BEGIN:VEVENT
DTSTART;VALUE=DATE:20241001
DTEND;VALUE=DATE:20241202
DTSTAMP:20260421T083515
CREATED:20241013T174718Z
LAST-MODIFIED:20241013T174855Z
UID:25147-1727740800-1733097599@ncssa.club
SUMMARY:Request for Tournament Dates for 2025
DESCRIPTION:IMPORTANT – IMPORTANT – IMPORTANT – IMPORTANT – IMPORTANT \nThe NCSSA is asking all Tournament Directors to send in their requests for tournament dates for 2025. This request period will be open from October 1\, 2024 thru December 1\, 2024. \nThe scheduling committee will review all requests and then submit a 2025 NCSSA Tournament Schedule for approval to our Board of Directors. Per the Board’s decision the final 2025 calendar will be available online on Feb. 1\, 2025 or before. \nThis extended period before declaring the schedule final\, will allow the Tournament Directors more time to solidify their venue dates\, which should result in less changes and cancellations to the schedule. \nPlease submit your tournament date requests to: \nGary Tryhorn\nChair\, Scheduling Committee\ngtryhorn20@gmail.com \nIMPORTANT – IMPORTANT – IMPORTANT – IMPORTANT – IMPORTANT
URL:https://ncssa.club/event/request-for-tournament-dates-for-2025/
LOCATION:CA
END:VEVENT
END:VCALENDAR