BEGIN:VCALENDAR
VERSION:2.0
PRODID:-// - ECPv6.15.12.2//NONSGML v1.0//EN
CALSCALE:GREGORIAN
METHOD:PUBLISH
X-ORIGINAL-URL:https://ncssa.club
X-WR-CALDESC:Events for 
REFRESH-INTERVAL;VALUE=DURATION:PT1H
X-Robots-Tag:noindex
X-PUBLISHED-TTL:PT1H
BEGIN:VTIMEZONE
TZID:America/Los_Angeles
BEGIN:DAYLIGHT
TZOFFSETFROM:-0800
TZOFFSETTO:-0700
TZNAME:PDT
DTSTART:20230312T100000
END:DAYLIGHT
BEGIN:STANDARD
TZOFFSETFROM:-0700
TZOFFSETTO:-0800
TZNAME:PST
DTSTART:20231105T090000
END:STANDARD
BEGIN:DAYLIGHT
TZOFFSETFROM:-0800
TZOFFSETTO:-0700
TZNAME:PDT
DTSTART:20240310T100000
END:DAYLIGHT
BEGIN:STANDARD
TZOFFSETFROM:-0700
TZOFFSETTO:-0800
TZNAME:PST
DTSTART:20241103T090000
END:STANDARD
BEGIN:DAYLIGHT
TZOFFSETFROM:-0800
TZOFFSETTO:-0700
TZNAME:PDT
DTSTART:20250309T100000
END:DAYLIGHT
BEGIN:STANDARD
TZOFFSETFROM:-0700
TZOFFSETTO:-0800
TZNAME:PST
DTSTART:20251102T090000
END:STANDARD
END:VTIMEZONE
BEGIN:VEVENT
DTSTART;VALUE=DATE:20241001
DTEND;VALUE=DATE:20241202
DTSTAMP:20260421T100136
CREATED:20241013T174718Z
LAST-MODIFIED:20241013T174855Z
UID:25147-1727740800-1733097599@ncssa.club
SUMMARY:Request for Tournament Dates for 2025
DESCRIPTION:IMPORTANT – IMPORTANT – IMPORTANT – IMPORTANT – IMPORTANT \nThe NCSSA is asking all Tournament Directors to send in their requests for tournament dates for 2025. This request period will be open from October 1\, 2024 thru December 1\, 2024. \nThe scheduling committee will review all requests and then submit a 2025 NCSSA Tournament Schedule for approval to our Board of Directors. Per the Board’s decision the final 2025 calendar will be available online on Feb. 1\, 2025 or before. \nThis extended period before declaring the schedule final\, will allow the Tournament Directors more time to solidify their venue dates\, which should result in less changes and cancellations to the schedule. \nPlease submit your tournament date requests to: \nGary Tryhorn\nChair\, Scheduling Committee\ngtryhorn20@gmail.com \nIMPORTANT – IMPORTANT – IMPORTANT – IMPORTANT – IMPORTANT
URL:https://ncssa.club/event/request-for-tournament-dates-for-2025/
LOCATION:CA
END:VEVENT
BEGIN:VEVENT
DTSTART;VALUE=DATE:20241003
DTEND;VALUE=DATE:20241005
DTSTAMP:20260421T100136
CREATED:20240113T125212Z
LAST-MODIFIED:20241005T160102Z
UID:23844-1727913600-1728086399@ncssa.club
SUMMARY:Manteca BLD (Thu/Fri) - Before Halloween
DESCRIPTION:Note: ** These tournaments allow players who will be the age next year (2025) and must be in team age group.\n \nThe following form is used for all tournaments held at Big League Dreams.\nBLD Team Release & Waiver Form\nBrackets revised due to 100+ degrees for the next 6 days in Manteca.\nJohn Reedy\nTournament Director\nBracket – A (rev)\nBracket – B (rev)\nBracket – C (rev-2)\nBLD Oct results – there are no winners as no awards in Oct tournaments\, due to we don’t know if team loaded up or not\, due to you can use players for next year\, no max add-ons. \nJohn Reedy\nTournament Director
URL:https://ncssa.club/event/manteca-bld-thu-fri-15/
LOCATION:Manteca – Big League Dreams\, 1077 Milo Candini Dr\, Manteca\, CA\, 95337\, United States
CATEGORIES:Manteca
ORGANIZER;CN="John Reedy":MAILTO:jrbaldeagle@sbcglobal.net
END:VEVENT
BEGIN:VEVENT
DTSTART;VALUE=DATE:20241005
DTEND;VALUE=DATE:20241007
DTSTAMP:20260421T100136
CREATED:20240113T125402Z
LAST-MODIFIED:20240924T150317Z
UID:23846-1728086400-1728259199@ncssa.club
SUMMARY:Tracy/Galt (canceled)
DESCRIPTION:Note: ** These tournaments allow players who will be the age next year (2025) and must be in team age group.\nUnfortunately\, this tournament has been canceled due to lack of Playing Fields. I have been trying everywhere but nothing.\nJohn Reedy\nTournament Director
URL:https://ncssa.club/event/tracy-galt-2/
LOCATION:CA
CATEGORIES:Galt,Tracy
ORGANIZER;CN="John Reedy":MAILTO:jrbaldeagle@sbcglobal.net
END:VEVENT
BEGIN:VEVENT
DTSTART;VALUE=DATE:20241019
DTEND;VALUE=DATE:20241021
DTSTAMP:20260421T100136
CREATED:20240113T125633Z
LAST-MODIFIED:20240924T150411Z
UID:23848-1729296000-1729468799@ncssa.club
SUMMARY:San Jose by Big Dawg (canceled)
DESCRIPTION:Unfortunately\, this tournament has been canceled due to lack of Playing Fields. I have been trying everywhere but nothing.\nJohn Reedy\nTournament Director
URL:https://ncssa.club/event/san-jose-by-big-dawg/
LOCATION:San Jose – Arcadia BallPark\, 2208 Quimby Road\, San Jose\, CA\, United States
CATEGORIES:San Jose
END:VEVENT
END:VCALENDAR