BEGIN:VCALENDAR
VERSION:2.0
PRODID:-// - ECPv6.15.12.2//NONSGML v1.0//EN
CALSCALE:GREGORIAN
METHOD:PUBLISH
X-ORIGINAL-URL:https://ncssa.club
X-WR-CALDESC:Events for 
REFRESH-INTERVAL;VALUE=DURATION:PT1H
X-Robots-Tag:noindex
X-PUBLISHED-TTL:PT1H
BEGIN:VTIMEZONE
TZID:America/Los_Angeles
BEGIN:DAYLIGHT
TZOFFSETFROM:-0800
TZOFFSETTO:-0700
TZNAME:PDT
DTSTART:20230312T100000
END:DAYLIGHT
BEGIN:STANDARD
TZOFFSETFROM:-0700
TZOFFSETTO:-0800
TZNAME:PST
DTSTART:20231105T090000
END:STANDARD
BEGIN:DAYLIGHT
TZOFFSETFROM:-0800
TZOFFSETTO:-0700
TZNAME:PDT
DTSTART:20240310T100000
END:DAYLIGHT
BEGIN:STANDARD
TZOFFSETFROM:-0700
TZOFFSETTO:-0800
TZNAME:PST
DTSTART:20241103T090000
END:STANDARD
BEGIN:DAYLIGHT
TZOFFSETFROM:-0800
TZOFFSETTO:-0700
TZNAME:PDT
DTSTART:20250309T100000
END:DAYLIGHT
BEGIN:STANDARD
TZOFFSETFROM:-0700
TZOFFSETTO:-0800
TZNAME:PST
DTSTART:20251102T090000
END:STANDARD
END:VTIMEZONE
BEGIN:VEVENT
DTSTART;VALUE=DATE:20240817
DTEND;VALUE=DATE:20240819
DTSTAMP:20260421T124636
CREATED:20240113T124642Z
LAST-MODIFIED:20240823T160313Z
UID:23836-1723852800-1724025599@ncssa.club
SUMMARY:Lodi Grape Stomp by Big Valley Seniors
DESCRIPTION:Bracket – A (rev-1)\nBracket – B (rev-1)\nBracket – C (rev-1)
URL:https://ncssa.club/event/lodi-by-big-valley/
LOCATION:Lodi – Softball Complex & Chapman Field\, 401 North Stockton Street\, Lodi\, CA\, 95240\, United States
CATEGORIES:Lodi
ORGANIZER;CN="Darryl Cabral":MAILTO:dacxiv@gmail.com
END:VEVENT
BEGIN:VEVENT
DTSTART;VALUE=DATE:20240824
DTEND;VALUE=DATE:20240826
DTSTAMP:20260421T124636
CREATED:20240113T124737Z
LAST-MODIFIED:20240830T161225Z
UID:23838-1724457600-1724630399@ncssa.club
SUMMARY:Galt NCSSA Classic
DESCRIPTION:Bracket – A\nBracket – B (rev-1)\nBracket – C (rev-1)
URL:https://ncssa.club/event/galt/
LOCATION:Galt – Sports Complex\, 1022 Caroline Avenue\, Galt\, CA\, 95632\, United States
CATEGORIES:Galt
ORGANIZER;CN="John Reedy":MAILTO:jrbaldeagle@sbcglobal.net
END:VEVENT
BEGIN:VEVENT
DTSTART;VALUE=DATE:20240829
DTEND;VALUE=DATE:20240831
DTSTAMP:20260421T124636
CREATED:20240113T124849Z
LAST-MODIFIED:20240831T165439Z
UID:23840-1724889600-1725062399@ncssa.club
SUMMARY:Manteca BLD (Thu/Fri) - Hot August Nights
DESCRIPTION:The following form is used for all tournaments held at Big League Dreams.\nBLD Team Release & Waiver Form\nBracket – A\nBracket – B\nBracket – C
URL:https://ncssa.club/event/manteca-bld-thu-fri-14/
LOCATION:Manteca – Big League Dreams\, 1077 Milo Candini Dr\, Manteca\, CA\, 95337\, United States
CATEGORIES:Manteca
ORGANIZER;CN="John Reedy":MAILTO:jrbaldeagle@sbcglobal.net
END:VEVENT
END:VCALENDAR