BEGIN:VCALENDAR
VERSION:2.0
PRODID:-// - ECPv6.15.12.2//NONSGML v1.0//EN
CALSCALE:GREGORIAN
METHOD:PUBLISH
X-ORIGINAL-URL:https://ncssa.club
X-WR-CALDESC:Events for 
REFRESH-INTERVAL;VALUE=DURATION:PT1H
X-Robots-Tag:noindex
X-PUBLISHED-TTL:PT1H
BEGIN:VTIMEZONE
TZID:America/Los_Angeles
BEGIN:DAYLIGHT
TZOFFSETFROM:-0800
TZOFFSETTO:-0700
TZNAME:PDT
DTSTART:20230312T100000
END:DAYLIGHT
BEGIN:STANDARD
TZOFFSETFROM:-0700
TZOFFSETTO:-0800
TZNAME:PST
DTSTART:20231105T090000
END:STANDARD
BEGIN:DAYLIGHT
TZOFFSETFROM:-0800
TZOFFSETTO:-0700
TZNAME:PDT
DTSTART:20240310T100000
END:DAYLIGHT
BEGIN:STANDARD
TZOFFSETFROM:-0700
TZOFFSETTO:-0800
TZNAME:PST
DTSTART:20241103T090000
END:STANDARD
BEGIN:DAYLIGHT
TZOFFSETFROM:-0800
TZOFFSETTO:-0700
TZNAME:PDT
DTSTART:20250309T100000
END:DAYLIGHT
BEGIN:STANDARD
TZOFFSETFROM:-0700
TZOFFSETTO:-0800
TZNAME:PST
DTSTART:20251102T090000
END:STANDARD
END:VTIMEZONE
BEGIN:VEVENT
DTSTART;VALUE=DATE:20240711
DTEND;VALUE=DATE:20240713
DTSTAMP:20260421T143417
CREATED:20240113T124352Z
LAST-MODIFIED:20240713T155540Z
UID:23832-1720656000-1720828799@ncssa.club
SUMMARY:Manteca BLD (Thu/Fri) - Heat Wave Classic
DESCRIPTION:The following form is used for all tournaments held at Big League Dreams.\nBLD Team Release & Waiver Form\nBracket – A\nBrackets – B & C
URL:https://ncssa.club/event/turlock-by-quick-silver-2/
LOCATION:Manteca – Big League Dreams\, 1077 Milo Candini Dr\, Manteca\, CA\, 95337\, United States
CATEGORIES:Manteca
ORGANIZER;CN="John Reedy":MAILTO:jrbaldeagle@sbcglobal.net
END:VEVENT
BEGIN:VEVENT
DTSTART;VALUE=DATE:20240720
DTEND;VALUE=DATE:20240722
DTSTAMP:20260421T143417
CREATED:20240113T124437Z
LAST-MODIFIED:20240723T153321Z
UID:23834-1721433600-1721606399@ncssa.club
SUMMARY:San Jose NCSSA Classic
DESCRIPTION:Bracket – A\nBracket – B (rev)\nBracket – C\nBracket – D
URL:https://ncssa.club/event/san-jose-2/
LOCATION:San Jose – Arcadia BallPark\, 2208 Quimby Road\, San Jose\, CA\, United States
CATEGORIES:San Jose
ORGANIZER;CN="John Reedy":MAILTO:jrbaldeagle@sbcglobal.net
END:VEVENT
END:VCALENDAR