BEGIN:VCALENDAR
VERSION:2.0
PRODID:-// - ECPv6.15.12.2//NONSGML v1.0//EN
CALSCALE:GREGORIAN
METHOD:PUBLISH
X-ORIGINAL-URL:https://ncssa.club
X-WR-CALDESC:Events for 
REFRESH-INTERVAL;VALUE=DURATION:PT1H
X-Robots-Tag:noindex
X-PUBLISHED-TTL:PT1H
BEGIN:VTIMEZONE
TZID:America/Los_Angeles
BEGIN:DAYLIGHT
TZOFFSETFROM:-0800
TZOFFSETTO:-0700
TZNAME:PDT
DTSTART:20230312T100000
END:DAYLIGHT
BEGIN:STANDARD
TZOFFSETFROM:-0700
TZOFFSETTO:-0800
TZNAME:PST
DTSTART:20231105T090000
END:STANDARD
BEGIN:DAYLIGHT
TZOFFSETFROM:-0800
TZOFFSETTO:-0700
TZNAME:PDT
DTSTART:20240310T100000
END:DAYLIGHT
BEGIN:STANDARD
TZOFFSETFROM:-0700
TZOFFSETTO:-0800
TZNAME:PST
DTSTART:20241103T090000
END:STANDARD
BEGIN:DAYLIGHT
TZOFFSETFROM:-0800
TZOFFSETTO:-0700
TZNAME:PDT
DTSTART:20250309T100000
END:DAYLIGHT
BEGIN:STANDARD
TZOFFSETFROM:-0700
TZOFFSETTO:-0800
TZNAME:PST
DTSTART:20251102T090000
END:STANDARD
END:VTIMEZONE
BEGIN:VEVENT
DTSTART;VALUE=DATE:20240613
DTEND;VALUE=DATE:20240615
DTSTAMP:20260421T160632
CREATED:20240113T123834Z
LAST-MODIFIED:20240615T151254Z
UID:23821-1718236800-1718409599@ncssa.club
SUMMARY:Manteca BLD (Thu/Fri)
DESCRIPTION:The following form is used for all tournaments held at Big League Dreams.\nBLD Team Release & Waiver Form\nBracket – A\nBracket – B (rev-1)\nBracket – C (rev-1)
URL:https://ncssa.club/event/manteca-bld-thu-fri-13/
LOCATION:Manteca – Big League Dreams\, 1077 Milo Candini Dr\, Manteca\, CA\, 95337\, United States
CATEGORIES:Manteca
ORGANIZER;CN="John Reedy":MAILTO:jrbaldeagle@sbcglobal.net
END:VEVENT
BEGIN:VEVENT
DTSTART;VALUE=DATE:20240622
DTEND;VALUE=DATE:20240624
DTSTAMP:20260421T160632
CREATED:20240113T124011Z
LAST-MODIFIED:20240627T140330Z
UID:23825-1719014400-1719187199@ncssa.club
SUMMARY:Redwood City by Redwood City Senors
DESCRIPTION:All Brackets (click here)\n  \nThe Redwood City Señors Softball Club had the pleasure of hosting 18 great teams for the RWC Annual Tournament. We wish them all the best of luck in their upcoming games.\nPat Michael\nRWC Tournament Director
URL:https://ncssa.club/event/redwood-city-8/
LOCATION:Redwood City – Red Morton Community Park\, 1120 Roosevelt Ave\, Redwood City\, CA\, 94061\, United States
CATEGORIES:Redwood City
ORGANIZER;CN="Pat Michael":MAILTO:patcee@flash.net
END:VEVENT
BEGIN:VEVENT
DTSTART;VALUE=DATE:20240627
DTEND;VALUE=DATE:20240629
DTSTAMP:20260421T160632
CREATED:20240113T124148Z
LAST-MODIFIED:20240629T153350Z
UID:23828-1719446400-1719619199@ncssa.club
SUMMARY:Manteca BLD (Thu/Fri) - NCSSA Championships
DESCRIPTION:The following form is used for all tournaments held at Big League Dreams.\nBLD Team Release & Waiver Form\nList of Teams for NCSSA Championships for Elk Grove & Manteca BLD. The tournament is FULL.\nList of Teams (click here)\n\n  \nBracket – A\nBracket – B\nBracket – D\nBracket – C (rev-1)\nBracket – E (rev-1)\nBracket – G (rev-1)
URL:https://ncssa.club/event/manteca-bld-thu-fri-championship/
LOCATION:Manteca – Big League Dreams\, 1077 Milo Candini Dr\, Manteca\, CA\, 95337\, United States
CATEGORIES:Manteca
ORGANIZER;CN="John Reedy":MAILTO:jrbaldeagle@sbcglobal.net
END:VEVENT
BEGIN:VEVENT
DTSTART;VALUE=DATE:20240629
DTEND;VALUE=DATE:20240701
DTSTAMP:20260421T160632
CREATED:20240113T124250Z
LAST-MODIFIED:20240702T152217Z
UID:23830-1719619200-1719791999@ncssa.club
SUMMARY:Elk Grove - NCSSA Championships
DESCRIPTION:List of Teams for NCSSA Championships for Elk Grove & Manteca BLD. The tournament is FULL.\nList of Teams (click here)\nBracket – A\nBracket – B\nBracket – C
URL:https://ncssa.club/event/elk-grove-ncssa-championships/
LOCATION:Elk Grove – Hal Bartholomew Sports Park\, 10150 Franklin High Rd\, Elk Grove\, CA\, 95624\, United States
CATEGORIES:Elk Grove
ORGANIZER;CN="John Reedy":MAILTO:jrbaldeagle@sbcglobal.net
END:VEVENT
END:VCALENDAR