BEGIN:VCALENDAR
VERSION:2.0
PRODID:-// - ECPv6.15.12.2//NONSGML v1.0//EN
CALSCALE:GREGORIAN
METHOD:PUBLISH
X-ORIGINAL-URL:https://ncssa.club
X-WR-CALDESC:Events for 
REFRESH-INTERVAL;VALUE=DURATION:PT1H
X-Robots-Tag:noindex
X-PUBLISHED-TTL:PT1H
BEGIN:VTIMEZONE
TZID:America/Los_Angeles
BEGIN:DAYLIGHT
TZOFFSETFROM:-0800
TZOFFSETTO:-0700
TZNAME:PDT
DTSTART:20230312T100000
END:DAYLIGHT
BEGIN:STANDARD
TZOFFSETFROM:-0700
TZOFFSETTO:-0800
TZNAME:PST
DTSTART:20231105T090000
END:STANDARD
BEGIN:DAYLIGHT
TZOFFSETFROM:-0800
TZOFFSETTO:-0700
TZNAME:PDT
DTSTART:20240310T100000
END:DAYLIGHT
BEGIN:STANDARD
TZOFFSETFROM:-0700
TZOFFSETTO:-0800
TZNAME:PST
DTSTART:20241103T090000
END:STANDARD
BEGIN:DAYLIGHT
TZOFFSETFROM:-0800
TZOFFSETTO:-0700
TZNAME:PDT
DTSTART:20250309T100000
END:DAYLIGHT
BEGIN:STANDARD
TZOFFSETFROM:-0700
TZOFFSETTO:-0800
TZNAME:PST
DTSTART:20251102T090000
END:STANDARD
END:VTIMEZONE
BEGIN:VEVENT
DTSTART;VALUE=DATE:20240504
DTEND;VALUE=DATE:20240506
DTSTAMP:20260421T174455
CREATED:20240113T123354Z
LAST-MODIFIED:20240502T190724Z
UID:23812-1714780800-1714953599@ncssa.club
SUMMARY:Manteca  Northgate Spring Classic by SSSA (canceled)
DESCRIPTION:Please Note – this tournament has been moved from Turlock to Manteca Northgate (March 7).\nThe Initial posting of Bracket A was erroneous\, the teams were transposed\, and the schedule had the Farthest away teams listed as the closest teams. Sorry for the confusion\, it is correct now.\nBracket – A (rev-1)\nBracket – B\nBracket – C\nUnfortunately\, due to the weather forecast for Saturday we are canceling the tournament. Your entry fee checks will be shredded unless you contact myself or Al Sterling and want them returned. There is a possibility we may reschedule for July 13-14.\nThanks\,\nDan Yoder\n209-324-9550
URL:https://ncssa.club/event/turlock-by-sssa/
LOCATION:Manteca – Northgate Softball Complex\, 1750 Hoyt Ln\, Manteca\, CA\, 95336\, United States
CATEGORIES:Manteca
END:VEVENT
BEGIN:VEVENT
DTSTART;VALUE=DATE:20240508
DTEND;VALUE=DATE:20240510
DTSTAMP:20260421T174455
CREATED:20240113T123528Z
LAST-MODIFIED:20240510T162716Z
UID:23815-1715126400-1715299199@ncssa.club
SUMMARY:Manteca BLD Mothers Day Classic (Wed/Thu)
DESCRIPTION:The following form is used for all tournaments held at Big League Dreams.\nBLD Team Release & Waiver Form\nDue to rain out at Manteca Northgate two teams wanted to play. So we now have three – 5 team brackets\, playing each team 1 time which is a lot better. Only Brackets A & C revised.\nBracket – A (rev)\nBracket – C (rev)\nThis is just a field change\, I had them wrong on previous Bracket.\nJohn Reedy\nTournament Director\nBracket – B (rev-1)
URL:https://ncssa.club/event/manteca-bld-thu-fri-12/
LOCATION:Manteca – Big League Dreams\, 1077 Milo Candini Dr\, Manteca\, CA\, 95337\, United States
CATEGORIES:Manteca
ORGANIZER;CN="John Reedy":MAILTO:jrbaldeagle@sbcglobal.net
END:VEVENT
BEGIN:VEVENT
DTSTART;VALUE=DATE:20240518
DTEND;VALUE=DATE:20240520
DTSTAMP:20260421T174455
CREATED:20240113T123743Z
LAST-MODIFIED:20240527T160625Z
UID:23819-1715990400-1716163199@ncssa.club
SUMMARY:Manteca Northgate Invitational by Animals
DESCRIPTION:Bracket – A\nBracket – B\nBracket – C\nCongratulations to those Winners!!!\nThank you all for participating in a successful tournament\, it was a pleasure to host 18 wonderful teams\, players and fans. We are looking forward to another successful tournament in the future…\nDon Angle\n“Always An Animal”\n209 573 3369\ndon.angle@aol.com
URL:https://ncssa.club/event/manteca-by-animals/
LOCATION:Manteca – Northgate Softball Complex\, 1750 Hoyt Ln\, Manteca\, CA\, 95336\, United States
CATEGORIES:Manteca
ORGANIZER;CN="Don Angle":MAILTO:don.angle@aol.com
END:VEVENT
END:VCALENDAR