BEGIN:VCALENDAR
VERSION:2.0
PRODID:-// - ECPv6.15.12.2//NONSGML v1.0//EN
CALSCALE:GREGORIAN
METHOD:PUBLISH
X-ORIGINAL-URL:https://ncssa.club
X-WR-CALDESC:Events for 
REFRESH-INTERVAL;VALUE=DURATION:PT1H
X-Robots-Tag:noindex
X-PUBLISHED-TTL:PT1H
BEGIN:VTIMEZONE
TZID:America/Los_Angeles
BEGIN:DAYLIGHT
TZOFFSETFROM:-0800
TZOFFSETTO:-0700
TZNAME:PDT
DTSTART:20210314T100000
END:DAYLIGHT
BEGIN:STANDARD
TZOFFSETFROM:-0700
TZOFFSETTO:-0800
TZNAME:PST
DTSTART:20211107T090000
END:STANDARD
BEGIN:DAYLIGHT
TZOFFSETFROM:-0800
TZOFFSETTO:-0700
TZNAME:PDT
DTSTART:20220313T100000
END:DAYLIGHT
BEGIN:STANDARD
TZOFFSETFROM:-0700
TZOFFSETTO:-0800
TZNAME:PST
DTSTART:20221106T090000
END:STANDARD
BEGIN:DAYLIGHT
TZOFFSETFROM:-0800
TZOFFSETTO:-0700
TZNAME:PDT
DTSTART:20230312T100000
END:DAYLIGHT
BEGIN:STANDARD
TZOFFSETFROM:-0700
TZOFFSETTO:-0800
TZNAME:PST
DTSTART:20231105T090000
END:STANDARD
END:VTIMEZONE
BEGIN:VEVENT
DTSTART;VALUE=DATE:20221001
DTEND;VALUE=DATE:20221003
DTSTAMP:20260422T210800
CREATED:20220126T005014Z
LAST-MODIFIED:20220914T155429Z
UID:18979-1664582400-1664755199@ncssa.club
SUMMARY:Tracy** October Fest (canceled)
DESCRIPTION:Note: ** These tournaments allow players who will be the age next year (2023) and must be in team age group.\nSept 14th – Unfortunately\, this tournament has been canceled\, not enough teams.\nJohn Reedy\nTournament Director
URL:https://ncssa.club/event/tracy-20/
LOCATION:Tracy – Sports Complex\, 955 Crossroads Dr\, Tracy\, CA\, 95377\, United States
CATEGORIES:Tracy
ORGANIZER;CN="John Reedy":MAILTO:jrbaldeagle@sbcglobal.net
END:VEVENT
BEGIN:VEVENT
DTSTART;VALUE=DATE:20221001
DTEND;VALUE=DATE:20221202
DTSTAMP:20260422T210800
CREATED:20221008T165841Z
LAST-MODIFIED:20221008T165841Z
UID:22112-1664582400-1669939199@ncssa.club
SUMMARY:2023 Tournament Dates Request
DESCRIPTION:IMPORTANT – IMPORTANT – IMPORTANT – IMPORTANT – IMPORTANT\nThe NCSSA is asking all Tournament Directors to send in their requests for tournament dates for 2023. This request period will be open from October 1\, 2022 thru December 1\, 2022. The scheduling committee will review all requests and then submit a 2023 NCSSA Tournament Schedule for approval to our Board of Directors. Per the Board’s decision the final 2023 calendar will be available online on Feb. 1\, 2023 or before. This extended period before declaring the schedule final\, will allow the Tournament Directors more time to solidify their venue dates\, which should result in less changes and cancellations to the schedule. \nPlease submit your tournament date requests to: \nGary Tryhorn\nChair\, Scheduling Committee\ngtryhorn20@gmail.com\nIMPORTANT – IMPORTANT – IMPORTANT – IMPORTANT – IMPORTANT
URL:https://ncssa.club/event/2023-tournament-dates-request/
LOCATION:CA
END:VEVENT
BEGIN:VEVENT
DTSTART;VALUE=DATE:20221022
DTEND;VALUE=DATE:20221024
DTSTAMP:20260422T210800
CREATED:20220126T005305Z
LAST-MODIFIED:20221026T161136Z
UID:18981-1666396800-1666569599@ncssa.club
SUMMARY:Sacramento Complex
DESCRIPTION:Note: ** These tournaments allow players who will be the age next year (2023) and must be in team age group.\nThe Sacramento Softball Complex changed the start time on us for the Fall to 9 am start time.\nBill Hill\nTournament Director\nBracket – Diamond (rev-1)\nBracket – Gold (rev-1)\nBracket – Silver (rev-1)\nBracket – Bronze (rev-2)
URL:https://ncssa.club/event/sacramento-complex-5/
LOCATION:Sacramento Softball Complex\, 3450 Longview Dr\, Sacramento\, CA\, 95821
CATEGORIES:Sacramento
END:VEVENT
BEGIN:VEVENT
DTSTART;VALUE=DATE:20221022
DTEND;VALUE=DATE:20221024
DTSTAMP:20260422T210800
CREATED:20220126T005423Z
LAST-MODIFIED:20221010T155839Z
UID:18983-1666396800-1666569599@ncssa.club
SUMMARY:Tracy** October Fest (canceled)
DESCRIPTION:Note: ** These tournaments allow players who will be the age next year (2023) and must be in team age group.\nOct 10th – Unfortunately\, this tournament has been canceled due to not enough teams for fair brackets.\nJohn Reedy\nTournament Director
URL:https://ncssa.club/event/tracy-21/
LOCATION:Tracy – Sports Complex\, 955 Crossroads Dr\, Tracy\, CA\, 95377\, United States
CATEGORIES:Tracy
ORGANIZER;CN="John Reedy":MAILTO:jrbaldeagle@sbcglobal.net
END:VEVENT
END:VCALENDAR