BEGIN:VCALENDAR
VERSION:2.0
PRODID:-// - ECPv6.15.12.2//NONSGML v1.0//EN
CALSCALE:GREGORIAN
METHOD:PUBLISH
X-ORIGINAL-URL:https://ncssa.club
X-WR-CALDESC:Events for 
REFRESH-INTERVAL;VALUE=DURATION:PT1H
X-Robots-Tag:noindex
X-PUBLISHED-TTL:PT1H
BEGIN:VTIMEZONE
TZID:America/Los_Angeles
BEGIN:DAYLIGHT
TZOFFSETFROM:-0800
TZOFFSETTO:-0700
TZNAME:PDT
DTSTART:20210314T100000
END:DAYLIGHT
BEGIN:STANDARD
TZOFFSETFROM:-0700
TZOFFSETTO:-0800
TZNAME:PST
DTSTART:20211107T090000
END:STANDARD
BEGIN:DAYLIGHT
TZOFFSETFROM:-0800
TZOFFSETTO:-0700
TZNAME:PDT
DTSTART:20220313T100000
END:DAYLIGHT
BEGIN:STANDARD
TZOFFSETFROM:-0700
TZOFFSETTO:-0800
TZNAME:PST
DTSTART:20221106T090000
END:STANDARD
BEGIN:DAYLIGHT
TZOFFSETFROM:-0800
TZOFFSETTO:-0700
TZNAME:PDT
DTSTART:20230312T100000
END:DAYLIGHT
BEGIN:STANDARD
TZOFFSETFROM:-0700
TZOFFSETTO:-0800
TZNAME:PST
DTSTART:20231105T090000
END:STANDARD
END:VTIMEZONE
BEGIN:VEVENT
DTSTART;VALUE=DATE:20220901
DTEND;VALUE=DATE:20220903
DTSTAMP:20260422T224005
CREATED:20220126T004736Z
LAST-MODIFIED:20220903T153420Z
UID:18975-1661990400-1662163199@ncssa.club
SUMMARY:Manteca BLD Labor Day Classic (Thu\, Fri)
DESCRIPTION:BIG LEAGUE DREAMS SPORTS PARK ACKNOWLEDGEMENT\nAND ASSUMPTION OF RISK\, RELEASE\, WAIVER AND INDEMNITY\nTournament Team Form (click here)\n  \nGame Times changed to Morning Times.\nBracket – A (rev-2)\nBracket – B (rev-2)\nBracket – C (rev-2)\nBracket – D (rev-2)\nI would like to thank all that played\, new schedule all AM\, players said worked very well\nthank you.\nJohn Reedy\nTournament Director
URL:https://ncssa.club/event/manteca-bld-thu-fri-4/
LOCATION:Manteca – Big League Dreams\, 1077 Milo Candini Dr\, Manteca\, CA\, 95337\, United States
CATEGORIES:Manteca
ORGANIZER;CN="John Reedy":MAILTO:jrbaldeagle@sbcglobal.net
END:VEVENT
BEGIN:VEVENT
DTSTART;VALUE=DATE:20220910
DTEND;VALUE=DATE:20220912
DTSTAMP:20260422T224005
CREATED:20220126T004826Z
LAST-MODIFIED:20220913T154824Z
UID:18977-1662768000-1662940799@ncssa.club
SUMMARY:Manteca SSSA Fall Classic
DESCRIPTION:Teams dropped out and all brackets will start at 8:00.\nBracket – A (rev-1)\nBracket – B (rev-1)\nBracket – C (rev-1)
URL:https://ncssa.club/event/turlock-16/
LOCATION:Manteca – Northgate Softball Complex\, 1750 Hoyt Ln\, Manteca\, CA\, 95336\, United States
CATEGORIES:Manteca
ORGANIZER;CN="Don Angle":MAILTO:don.angle@aol.com
END:VEVENT
END:VCALENDAR