BEGIN:VCALENDAR
VERSION:2.0
PRODID:-// - ECPv6.15.12.2//NONSGML v1.0//EN
CALSCALE:GREGORIAN
METHOD:PUBLISH
X-ORIGINAL-URL:https://ncssa.club
X-WR-CALDESC:Events for 
REFRESH-INTERVAL;VALUE=DURATION:PT1H
X-Robots-Tag:noindex
X-PUBLISHED-TTL:PT1H
BEGIN:VTIMEZONE
TZID:America/Los_Angeles
BEGIN:DAYLIGHT
TZOFFSETFROM:-0800
TZOFFSETTO:-0700
TZNAME:PDT
DTSTART:20210314T100000
END:DAYLIGHT
BEGIN:STANDARD
TZOFFSETFROM:-0700
TZOFFSETTO:-0800
TZNAME:PST
DTSTART:20211107T090000
END:STANDARD
BEGIN:DAYLIGHT
TZOFFSETFROM:-0800
TZOFFSETTO:-0700
TZNAME:PDT
DTSTART:20220313T100000
END:DAYLIGHT
BEGIN:STANDARD
TZOFFSETFROM:-0700
TZOFFSETTO:-0800
TZNAME:PST
DTSTART:20221106T090000
END:STANDARD
BEGIN:DAYLIGHT
TZOFFSETFROM:-0800
TZOFFSETTO:-0700
TZNAME:PDT
DTSTART:20230312T100000
END:DAYLIGHT
BEGIN:STANDARD
TZOFFSETFROM:-0700
TZOFFSETTO:-0800
TZNAME:PST
DTSTART:20231105T090000
END:STANDARD
END:VTIMEZONE
BEGIN:VEVENT
DTSTART;VALUE=DATE:20220811
DTEND;VALUE=DATE:20220815
DTSTAMP:20260423T000735
CREATED:20220126T004409Z
LAST-MODIFIED:20220815T232941Z
UID:18971-1660176000-1660521599@ncssa.club
SUMMARY:Manteca NCSSA - Hall of Fame Championships
DESCRIPTION:BIG LEAGUE DREAMS SPORTS PARK ACKNOWLEDGEMENT\nAND ASSUMPTION OF RISK\, RELEASE\, WAIVER AND INDEMNITY\nTournament Team Form (click here)\nBrackets for Thursday & Friday – Aug 11/12\nBracket – Elite Fellas\nBracket – Having Fun\nBracket – Runner Blue (rev-1).  added the required 5 runs per rule 23\,\nBracket – Still Kickin\nBrackets for Saturday & Sunday – Aug 13/14\nBracket – Fierce Battles\nBracket – Good Old Boys\nBracket – Rookies\nBracket – Smart Guys\nBracket – Trying Hard\nBracket – Wanna Be 0’s\nBLD-Waiver-2022\nTournament Results – Thursday/Friday\nTournament Results – Saturday/Sunday
URL:https://ncssa.club/event/manteca-ncssa-hall-of-fame-5/
LOCATION:Manteca – Big League Dreams\, 1077 Milo Candini Dr\, Manteca\, CA\, 95337\, United States
CATEGORIES:Manteca
ORGANIZER;CN="Don Angle":MAILTO:don.angle@aol.com
END:VEVENT
BEGIN:VEVENT
DTSTART;VALUE=DATE:20220827
DTEND;VALUE=DATE:20220829
DTSTAMP:20260423T000735
CREATED:20220126T004537Z
LAST-MODIFIED:20220831T152302Z
UID:18973-1661558400-1661731199@ncssa.club
SUMMARY:Tracy NCSSA Classic
DESCRIPTION:Just a reminder\, the Tracy Tournament on August 27/28 is a go. We have the fields and the tournament will go on as scheduled.\nJohn Reedy\nTournament Director \nBracket – C\nBracket – D\n  \nRevised brackets for Tracy – a team dropped out 3 players with COVID\nI had 2 teams on waiting list\, so adding Dirt Bags.\nall team time did not change\, just put where team dropped.\nBracket A & B revised\, if you look at the group I have them in\, new ranking will be out wed to show correct ranking.\nJohn Reedy\nBracket – A (rev-1)\nBracket – B (rev-1)
URL:https://ncssa.club/event/tracy-19/
LOCATION:Tracy – Sports Complex\, 955 Crossroads Dr\, Tracy\, CA\, 95377\, United States
CATEGORIES:Tracy
ORGANIZER;CN="John Reedy":MAILTO:jrbaldeagle@sbcglobal.net
END:VEVENT
END:VCALENDAR