BEGIN:VCALENDAR
VERSION:2.0
PRODID:-// - ECPv6.15.12.2//NONSGML v1.0//EN
CALSCALE:GREGORIAN
METHOD:PUBLISH
X-ORIGINAL-URL:https://ncssa.club
X-WR-CALDESC:Events for 
REFRESH-INTERVAL;VALUE=DURATION:PT1H
X-Robots-Tag:noindex
X-PUBLISHED-TTL:PT1H
BEGIN:VTIMEZONE
TZID:America/Los_Angeles
BEGIN:DAYLIGHT
TZOFFSETFROM:-0800
TZOFFSETTO:-0700
TZNAME:PDT
DTSTART:20210314T100000
END:DAYLIGHT
BEGIN:STANDARD
TZOFFSETFROM:-0700
TZOFFSETTO:-0800
TZNAME:PST
DTSTART:20211107T090000
END:STANDARD
BEGIN:DAYLIGHT
TZOFFSETFROM:-0800
TZOFFSETTO:-0700
TZNAME:PDT
DTSTART:20220313T100000
END:DAYLIGHT
BEGIN:STANDARD
TZOFFSETFROM:-0700
TZOFFSETTO:-0800
TZNAME:PST
DTSTART:20221106T090000
END:STANDARD
BEGIN:DAYLIGHT
TZOFFSETFROM:-0800
TZOFFSETTO:-0700
TZNAME:PDT
DTSTART:20230312T100000
END:DAYLIGHT
BEGIN:STANDARD
TZOFFSETFROM:-0700
TZOFFSETTO:-0800
TZNAME:PST
DTSTART:20231105T090000
END:STANDARD
END:VTIMEZONE
BEGIN:VEVENT
DTSTART;VALUE=DATE:20220604
DTEND;VALUE=DATE:20220606
DTSTAMP:20260423T035730
CREATED:20220125T183323Z
LAST-MODIFIED:20220420T204600Z
UID:18950-1654300800-1654473599@ncssa.club
SUMMARY:Yuba City - STPA (canceled)
DESCRIPTION:The Yuba City Tournament scheduled for June 4th and 5th has been cancelled due to conflict with SSUSA Reno Tournament.
URL:https://ncssa.club/event/yuba-city-stpa/
LOCATION:CA
CATEGORIES:Yuba City
END:VEVENT
BEGIN:VEVENT
DTSTART;VALUE=DATE:20220611
DTEND;VALUE=DATE:20220613
DTSTAMP:20260423T035730
CREATED:20220125T184100Z
LAST-MODIFIED:20220614T153804Z
UID:18952-1654905600-1655078399@ncssa.club
SUMMARY:Elk Grove NCSSA Classic
DESCRIPTION:Bracket A (rev-1)\nBracket B\nBracket C (rev-1)\nCorrected score for Bracket C: \nSunday 8:00 game: should be Coyotes 80s 19 vs Crankees 12\, not 19-22.
URL:https://ncssa.club/event/elk-grove-ncssa-classic-2/
LOCATION:Elk Grove – Kloss Park\, 9950 Elk Grove Florin Rd\, Elk Grove\, CA\, 95624\, United States
CATEGORIES:Elk Grove
ORGANIZER;CN="John Reedy":MAILTO:jrbaldeagle@sbcglobal.net
END:VEVENT
BEGIN:VEVENT
DTSTART;VALUE=DATE:20220611
DTEND;VALUE=DATE:20220613
DTSTAMP:20260423T035730
CREATED:20220125T184235Z
LAST-MODIFIED:20220530T161303Z
UID:18955-1654905600-1655078399@ncssa.club
SUMMARY:Manteca - Animals Summer Invitational (canceled)
DESCRIPTION:Due to a limited number of teams\, the June 11-12 Animals Tourney is cancelled.\nThank you to those team who entered.\nDon Angle\nAnimals\n209 573 3369
URL:https://ncssa.club/event/manteca-12/
LOCATION:Manteca – Northgate Softball Complex\, 1750 Hoyt Ln\, Manteca\, CA\, 95336\, United States
CATEGORIES:Manteca
ORGANIZER;CN="Don Angle":MAILTO:don.angle@aol.com
END:VEVENT
BEGIN:VEVENT
DTSTART;VALUE=DATE:20220618
DTEND;VALUE=DATE:20220620
DTSTAMP:20260423T035730
CREATED:20220125T184352Z
LAST-MODIFIED:20220608T223350Z
UID:18957-1655510400-1655683199@ncssa.club
SUMMARY:Tuolomne Quicksilver Shootout (canceled)
DESCRIPTION:Due to lack of teams this year the Annual Tuolumne Shoot-Out Tournament on June 18 & 19 is unfortunately cancelled. This a fun tournament and we are sad to see it cancelled this year. We will definitely be back on the schedule for next year!! Thank you\nTIM BRAZIL\n209-402-3365\n1856 Charles Place\nTurlock\, CA 95380\nunderdog1959@sbcglobal.net
URL:https://ncssa.club/event/tuolomne-5/
LOCATION:Tuolumne – Standard Park Sports Complex\, 18500 Standard Rd\, Sonora\, CA\, 95370\, United States
CATEGORIES:Tuolomne
ORGANIZER;CN="Tim Brazil":MAILTO:underdog1959@sbcglobal.net
END:VEVENT
BEGIN:VEVENT
DTSTART;VALUE=DATE:20220625
DTEND;VALUE=DATE:20220627
DTSTAMP:20260423T035730
CREATED:20220126T003517Z
LAST-MODIFIED:20220702T163529Z
UID:18959-1656115200-1656287999@ncssa.club
SUMMARY:Redwood City - 41st Annual Redwood City Senior Men’s Softball Tournament
DESCRIPTION:Redwood City Senior Softball Tournament Update 4-14-22 \nDue to unforeseen changes to field availability for our June 25/26 Tournament\, we will most likely need to schedule some Saturday (Groups 0-3) games under the lights.  We have been informed by Redwood City that they have changed the reservations schedule and that our Saturday start time for McGarvey Field has moved from 7am to approximately 11:30am\, possibly noon. \nThis change does not impact the Sunday schedule. \nWe apologize for any inconvenience.  If you have questions or concerns\, please contact our tournament director. \nPaul McKowan\, RWC Tournament Director. 650.888.5118 \nvolunteerpaul@yahoo.com \nWe had a team cancellation due to team illness in the White Bracket. \nAll Brackets (rev-1)\n \nCorrected Score Results (click here)  \nSonoma Co Crush – 12\nWu Tang Clan – 13
URL:https://ncssa.club/event/redwood-city-6/
LOCATION:Redwood City – Red Morton Community Park\, 1120 Roosevelt Ave\, Redwood City\, CA\, 94061\, United States
CATEGORIES:Redwood City
END:VEVENT
BEGIN:VEVENT
DTSTART;VALUE=DATE:20220630
DTEND;VALUE=DATE:20220702
DTSTAMP:20260423T035730
CREATED:20220126T194157Z
LAST-MODIFIED:20220703T161942Z
UID:18996-1656547200-1656719999@ncssa.club
SUMMARY:MANTECA\, BLD (Thu\, Fri) Summer Madness
DESCRIPTION:BIG LEAGUE DREAMS SPORTS PARK ACKNOWLEDGEMENT\nAND ASSUMPTION OF RISK\, RELEASE\, WAIVER AND INDEMNITY\nTournament Team Form (click here)\nPlease Note – this tournament has NOT been canceled due to HEAT. The tournament has been renamed to Summer Madness to be less confusing. The Brackets below reflect the new tournament name.\nBracket AA\nBracket BB\nBracket CC\nBracket DD
URL:https://ncssa.club/event/manteca-bld-thu-fri-6/
LOCATION:Manteca – Big League Dreams\, 1077 Milo Candini Dr\, Manteca\, CA\, 95337\, United States
CATEGORIES:Manteca
ORGANIZER;CN="John Reedy":MAILTO:jrbaldeagle@sbcglobal.net
END:VEVENT
END:VCALENDAR