BEGIN:VCALENDAR
VERSION:2.0
PRODID:-// - ECPv6.15.12.2//NONSGML v1.0//EN
CALSCALE:GREGORIAN
METHOD:PUBLISH
X-ORIGINAL-URL:https://ncssa.club
X-WR-CALDESC:Events for 
REFRESH-INTERVAL;VALUE=DURATION:PT1H
X-Robots-Tag:noindex
X-PUBLISHED-TTL:PT1H
BEGIN:VTIMEZONE
TZID:America/Los_Angeles
BEGIN:DAYLIGHT
TZOFFSETFROM:-0800
TZOFFSETTO:-0700
TZNAME:PDT
DTSTART:20210314T100000
END:DAYLIGHT
BEGIN:STANDARD
TZOFFSETFROM:-0700
TZOFFSETTO:-0800
TZNAME:PST
DTSTART:20211107T090000
END:STANDARD
BEGIN:DAYLIGHT
TZOFFSETFROM:-0800
TZOFFSETTO:-0700
TZNAME:PDT
DTSTART:20220313T100000
END:DAYLIGHT
BEGIN:STANDARD
TZOFFSETFROM:-0700
TZOFFSETTO:-0800
TZNAME:PST
DTSTART:20221106T090000
END:STANDARD
BEGIN:DAYLIGHT
TZOFFSETFROM:-0800
TZOFFSETTO:-0700
TZNAME:PDT
DTSTART:20230312T100000
END:DAYLIGHT
BEGIN:STANDARD
TZOFFSETFROM:-0700
TZOFFSETTO:-0800
TZNAME:PST
DTSTART:20231105T090000
END:STANDARD
END:VTIMEZONE
BEGIN:VEVENT
DTSTART;VALUE=DATE:20220402
DTEND;VALUE=DATE:20220404
DTSTAMP:20260423T070042
CREATED:20220124T174927Z
LAST-MODIFIED:20220405T163826Z
UID:18926-1648857600-1649030399@ncssa.club
SUMMARY:Elk Grove - NCSSA Classic
DESCRIPTION:Bracket A\nBracket B\nA team has not paid registration fees\, so I dropped them out replaced Woodland OMG 60 group 6. \nJohn Reedy\nTournament Director \nBracket C (rev)\n \nBracket C has been revised with correct Champion.
URL:https://ncssa.club/event/elk-grove-6/
LOCATION:Elk Grove – Hal Bartholomew Sports Park\, 10150 Franklin High Rd\, Elk Grove\, CA\, 95624\, United States
CATEGORIES:Elk Grove
ORGANIZER;CN="John Reedy":MAILTO:jrbaldeagle@sbcglobal.net
END:VEVENT
BEGIN:VEVENT
DTSTART;VALUE=DATE:20220409
DTEND;VALUE=DATE:20220411
DTSTAMP:20260423T070042
CREATED:20220124T175026Z
LAST-MODIFIED:20220420T210338Z
UID:18928-1649462400-1649635199@ncssa.club
SUMMARY:Turlock SSSA - Spring Classic
DESCRIPTION:Bracket A (rev-1)\nBracket B\nBracket C\nBracket D
URL:https://ncssa.club/event/turlock-14/
LOCATION:Turlock – Pedretti Park Sports Complex\, 2400 N Tegner Rd\, Turlock\, CA\, 95380\, United States
CATEGORIES:Turlock
ORGANIZER;CN="Don Angle":MAILTO:don.angle@aol.com
END:VEVENT
BEGIN:VEVENT
DTSTART;VALUE=DATE:20220414
DTEND;VALUE=DATE:20220416
DTSTAMP:20260423T070042
CREATED:20220124T175241Z
LAST-MODIFIED:20220420T210635Z
UID:18931-1649894400-1650067199@ncssa.club
SUMMARY:Manteca BLD (Thu\, Friday) - Easter Ball Hunt
DESCRIPTION:BIG LEAGUE DREAMS SPORTS PARK ACKNOWLEDGEMENT\nAND ASSUMPTION OF RISK\, RELEASE\, WAIVER AND INDEMNITY\nTournament Team Form (click here)\nBracket AA\nBracket BB\nBracket EGG
URL:https://ncssa.club/event/manteca-bld-thu-fri-2/
LOCATION:Manteca – Big League Dreams\, 1077 Milo Candini Dr\, Manteca\, CA\, 95337\, United States
CATEGORIES:Manteca
ORGANIZER;CN="John Reedy":MAILTO:jrbaldeagle@sbcglobal.net
END:VEVENT
BEGIN:VEVENT
DTSTART;VALUE=DATE:20220416
DTEND;VALUE=DATE:20220417
DTSTAMP:20260423T070042
CREATED:20220124T175343Z
LAST-MODIFIED:20220407T162223Z
UID:18933-1650067200-1650153599@ncssa.club
SUMMARY:Yuba City (1 day) - (canceled)
DESCRIPTION:The April 16th one day Yuba City Tournament has been cancelled due to the lack of team entries.\nBill Hill\nTournament Director
URL:https://ncssa.club/event/yuba-city-1-day/
LOCATION:CA
CATEGORIES:Yuba City
END:VEVENT
BEGIN:VEVENT
DTSTART;VALUE=DATE:20220423
DTEND;VALUE=DATE:20220425
DTSTAMP:20260423T070042
CREATED:20220124T175604Z
LAST-MODIFIED:20220426T001453Z
UID:18935-1650672000-1650844799@ncssa.club
SUMMARY:Elk Grove - NCSSA Classic
DESCRIPTION:Elk Grove Brackets as of April 14th. \nBracket A – Rev 4-14 \nBracket B – Rev 4-14 \nBracket C – Rev 4-14 \nRain number for Elk Grove\nEK rain number – 916-405-5682\nMy rain number – cel 209-613-6560 // HM 209-869-6888 \nWe will decide Friday afternoon\, as Sat/Sun will be nice just depends on there maintence dept & standing water.\nJohn Reedy\nTournament Director \nCome Early or Car Pool for Elk Grove\nPLEASE COME EARLY OR CAR POOL AS PARKING WILL BE TIGHT. SOCCER TOURNAMENT THIS WEEKEND. \nTHANKS JOHN REEDY\,\nTournament Director
URL:https://ncssa.club/event/elk-grove-ncssa-classic/
LOCATION:Elk Grove – Hal Bartholomew Sports Park\, 10150 Franklin High Rd\, Elk Grove\, CA\, 95624\, United States
CATEGORIES:Elk Grove
ORGANIZER;CN="John Reedy":MAILTO:jrbaldeagle@sbcglobal.net
END:VEVENT
BEGIN:VEVENT
DTSTART;VALUE=DATE:20220430
DTEND;VALUE=DATE:20220502
DTSTAMP:20260423T070042
CREATED:20220124T175849Z
LAST-MODIFIED:20220503T161910Z
UID:18937-1651276800-1651449599@ncssa.club
SUMMARY:Lodi - BVS Danny Caruso Memorial Tournament - Apr 30/May 1
DESCRIPTION:Bracket – James Sullivan\nBracket – Jan Kizlin\nBracket – Leo Panzarino
URL:https://ncssa.club/event/lodi-11/
LOCATION:Lodi – Softball Complex & Chapman Field\, 401 North Stockton Street\, Lodi\, CA\, 95240\, United States
CATEGORIES:Lodi
ORGANIZER;CN="Darryl Cabral":MAILTO:dacxiv@gmail.com
END:VEVENT
BEGIN:VEVENT
DTSTART;VALUE=DATE:20220430
DTEND;VALUE=DATE:20220502
DTSTAMP:20260423T070042
CREATED:20220124T180450Z
LAST-MODIFIED:20220407T162825Z
UID:18939-1651276800-1651449599@ncssa.club
SUMMARY:Tracy NCSSA Classic - (canceled)
DESCRIPTION:The Tracy tournament scheduled for April 30th – May 1st has been cancelled because Tracy has had to reassign the fields for City use.\nSorry\,\nJohn Reedy\nTournament Director
URL:https://ncssa.club/event/tracy-ncssa-classic/
LOCATION:Tracy – Sports Complex\, 955 Crossroads Dr\, Tracy\, CA\, 95377\, United States
CATEGORIES:Tracy
ORGANIZER;CN="John Reedy":MAILTO:jrbaldeagle@sbcglobal.net
END:VEVENT
END:VCALENDAR