BEGIN:VCALENDAR
VERSION:2.0
PRODID:-// - ECPv6.15.12.2//NONSGML v1.0//EN
CALSCALE:GREGORIAN
METHOD:PUBLISH
X-ORIGINAL-URL:https://ncssa.club
X-WR-CALDESC:Events for 
REFRESH-INTERVAL;VALUE=DURATION:PT1H
X-Robots-Tag:noindex
X-PUBLISHED-TTL:PT1H
BEGIN:VTIMEZONE
TZID:America/Los_Angeles
BEGIN:DAYLIGHT
TZOFFSETFROM:-0800
TZOFFSETTO:-0700
TZNAME:PDT
DTSTART:20140309T100000
END:DAYLIGHT
BEGIN:STANDARD
TZOFFSETFROM:-0700
TZOFFSETTO:-0800
TZNAME:PST
DTSTART:20141102T090000
END:STANDARD
BEGIN:DAYLIGHT
TZOFFSETFROM:-0800
TZOFFSETTO:-0700
TZNAME:PDT
DTSTART:20150308T100000
END:DAYLIGHT
BEGIN:STANDARD
TZOFFSETFROM:-0700
TZOFFSETTO:-0800
TZNAME:PST
DTSTART:20151101T090000
END:STANDARD
BEGIN:DAYLIGHT
TZOFFSETFROM:-0800
TZOFFSETTO:-0700
TZNAME:PDT
DTSTART:20160313T100000
END:DAYLIGHT
BEGIN:STANDARD
TZOFFSETFROM:-0700
TZOFFSETTO:-0800
TZNAME:PST
DTSTART:20161106T090000
END:STANDARD
BEGIN:DAYLIGHT
TZOFFSETFROM:-0800
TZOFFSETTO:-0700
TZNAME:PDT
DTSTART:20170312T100000
END:DAYLIGHT
BEGIN:STANDARD
TZOFFSETFROM:-0700
TZOFFSETTO:-0800
TZNAME:PST
DTSTART:20171105T090000
END:STANDARD
END:VTIMEZONE
BEGIN:VEVENT
DTSTART;VALUE=DATE:20160305
DTEND;VALUE=DATE:20160307
DTSTAMP:20260420T005002
CREATED:20160108T005739Z
LAST-MODIFIED:20160228T201350Z
UID:1930-1457136000-1457308799@ncssa.club
SUMMARY:Manteca - Spring Classic (Northgate)
DESCRIPTION:Flyer Manteca-March 5\,6 \n2016 Manteca Schedule A \n2016 Manteca Schedule B \n 
URL:https://ncssa.club/event/manteca-northgate/
LOCATION:Manteca – Northgate Softball Complex\, 1750 Hoyt Ln\, Manteca\, CA\, 95336\, United States
CATEGORIES:Manteca
ORGANIZER;CN="John Reedy":MAILTO:jrbaldeagle@sbcglobal.net
END:VEVENT
BEGIN:VEVENT
DTSTART;VALUE=DATE:20160303
DTEND;VALUE=DATE:20160305
DTSTAMP:20260420T005002
CREATED:20160108T005605Z
LAST-MODIFIED:20160306T000742Z
UID:1929-1456963200-1457135999@ncssa.club
SUMMARY:Manteca - Big League Dreams
DESCRIPTION:Flyer Manteca-March 3\,4 \nBrackets BLD Schedule A \nBrackets BLD Schedule B \nBrackets BLD Schedule C \nResults A Manteca-March 3\,4 \nResults B Manteca-March 3\,4 \nResults C Manteca-March 3\,4 \nNote – the attached Release & Waiver must be signed by each player and team who plays at the Manteca Big League Dreams Sports Park. \n2016 Manteca BLD Release Waiver \n 
URL:https://ncssa.club/event/manteca-big-league-dreams/
LOCATION:Manteca – Big League Dreams\, 1077 Milo Candini Dr\, Manteca\, CA\, 95337\, United States
CATEGORIES:Manteca
ORGANIZER;CN="John Reedy":MAILTO:jrbaldeagle@sbcglobal.net
END:VEVENT
BEGIN:VEVENT
DTSTART;VALUE=DATE:20160227
DTEND;VALUE=DATE:20160229
DTSTAMP:20260420T005002
CREATED:20160108T005334Z
LAST-MODIFIED:20160301T002146Z
UID:1928-1456531200-1456703999@ncssa.club
SUMMARY:Pleasanton - NCSSA Season Opener
DESCRIPTION:Flyer-Pleasanton \nBrackets Pleasanton-Feb 27\,28 \nBrackets Pleasanton-Feb 27\,28b-Red (revised) \nBrackets Pleasanton-Feb 27\,28b-Silver (revised) \nResults Pleasanton-Feb 27\,28
URL:https://ncssa.club/event/pleasanton-4/
LOCATION:CA
CATEGORIES:Pleasanton
END:VEVENT
BEGIN:VEVENT
DTSTART;VALUE=DATE:20151106
DTEND;VALUE=DATE:20151109
DTSTAMP:20260420T005002
CREATED:20150815T162344Z
LAST-MODIFIED:20151117T173949Z
UID:326-1446850800-1447023599@ncssa.club
SUMMARY:Pleasanton
DESCRIPTION:Flyer \nBrackets Pleasanton Nov 7-8 \nResults-Pleasanton-Nov-7-8 \n 
URL:https://ncssa.club/event/pleasanton-3/
LOCATION:CA
END:VEVENT
BEGIN:VEVENT
DTSTART;VALUE=DATE:20151031
DTEND;VALUE=DATE:20151102
DTSTAMP:20260420T005002
CREATED:20150815T162259Z
LAST-MODIFIED:20150815T162648Z
UID:325-1446249600-1446422399@ncssa.club
SUMMARY:Pleasanton
DESCRIPTION:Flyer
URL:https://ncssa.club/event/pleasanton-2/
LOCATION:CA
END:VEVENT
BEGIN:VEVENT
DTSTART;VALUE=DATE:20151023
DTEND;VALUE=DATE:20151026
DTSTAMP:20260420T005002
CREATED:20150815T162200Z
LAST-MODIFIED:20151031T171005Z
UID:323-1445641200-1445813999@ncssa.club
SUMMARY:Pleasanton
DESCRIPTION:Flyer \nBlue Division \nGold Division \nGreen Division \nOrange Division \nRed Division \nResults Pleasanton Oct 24-25
URL:https://ncssa.club/event/pleasanton/
LOCATION:CA
END:VEVENT
BEGIN:VEVENT
DTSTART;VALUE=DATE:20151017
DTEND;VALUE=DATE:20151019
DTSTAMP:20260420T005002
CREATED:20150815T161916Z
LAST-MODIFIED:20150815T162742Z
UID:322-1445040000-1445212799@ncssa.club
SUMMARY:Concord-Antioch
DESCRIPTION:Flyer
URL:https://ncssa.club/event/concord-antioch-3/
LOCATION:CA
END:VEVENT
BEGIN:VEVENT
DTSTART;VALUE=DATE:20151010
DTEND;VALUE=DATE:20151012
DTSTAMP:20260420T005002
CREATED:20150815T161825Z
LAST-MODIFIED:20150815T162804Z
UID:321-1444435200-1444607999@ncssa.club
SUMMARY:Concord-Antioch
DESCRIPTION:Flyer
URL:https://ncssa.club/event/concord-antioch-2/
LOCATION:CA
END:VEVENT
BEGIN:VEVENT
DTSTART;VALUE=DATE:20151003
DTEND;VALUE=DATE:20151005
DTSTAMP:20260420T005002
CREATED:20150815T161717Z
LAST-MODIFIED:20150815T162825Z
UID:319-1443830400-1444003199@ncssa.club
SUMMARY:Concord-Antioch
DESCRIPTION:Flyer
URL:https://ncssa.club/event/concord-antioch/
LOCATION:CA
END:VEVENT
BEGIN:VEVENT
DTSTART;VALUE=DATE:20150918
DTEND;VALUE=DATE:20150921
DTSTAMP:20260420T005002
CREATED:20150815T161426Z
LAST-MODIFIED:20150926T214756Z
UID:317-1442617200-1442789999@ncssa.club
SUMMARY:Manteca
DESCRIPTION:Flyer \n2015_SeniorSoftballSign_WhiteDiv Results \n2015_SeniorSoftballSign_OrangeDiv Results \n2015_SeniorSoftballSign_GreenDiv Results \n2015_SeniorSoftballSign_BlueDiv Results \n 
URL:https://ncssa.club/event/manteca/
LOCATION:Manteca – Northgate Softball Complex\, 1750 Hoyt Ln\, Manteca\, CA\, 95336\, United States
END:VEVENT
BEGIN:VEVENT
DTSTART;VALUE=DATE:20150911
DTEND;VALUE=DATE:20150914
DTSTAMP:20260420T005002
CREATED:20150815T161108Z
LAST-MODIFIED:20150926T221247Z
UID:315-1442012400-1442185199@ncssa.club
SUMMARY:Ripon
DESCRIPTION:Flyer\nSSSA Fall Classic Schedule \nRevised Schedule for Field #1 \nResults Ripon Sept 12-13
URL:https://ncssa.club/event/ripon/
LOCATION:Ripon – Mistlin Sports Complex\, 1201 West River Rd\, Ripon\, CA\, 95366\, United States
END:VEVENT
BEGIN:VEVENT
DTSTART;VALUE=DATE:20150911
DTEND;VALUE=DATE:20150913
DTSTAMP:20260420T005002
CREATED:20150809T193405Z
LAST-MODIFIED:20150903T145112Z
UID:221-1441929600-1442102399@ncssa.club
SUMMARY:Medford\, Oregon
DESCRIPTION:Flyer \nMedford-Schedule
URL:https://ncssa.club/event/medford-oregon/
LOCATION:Medford\, Oregon – U.S. Cellular Community Park\, 300 Lowry Lane\, Medford\, OR\, OR\, 97501\, United States
END:VEVENT
BEGIN:VEVENT
DTSTART;VALUE=DATE:20150904
DTEND;VALUE=DATE:20150907
DTSTAMP:20260420T005002
CREATED:20150809T193316Z
LAST-MODIFIED:20150926T220526Z
UID:220-1441407600-1441580399@ncssa.club
SUMMARY:Folsom
DESCRIPTION:Flyer \nSchedule Folsom Sept 5 – 6 \nResults Folsom Sept 5 – 6
URL:https://ncssa.club/event/folsom-2/
LOCATION:Folsom – Lembi Community Park\, 1302 Riley\, Folsom\, CA\, 95630\, United States
END:VEVENT
BEGIN:VEVENT
DTSTART;VALUE=DATE:20150829
DTEND;VALUE=DATE:20150831
DTSTAMP:20260420T005002
CREATED:20150809T190043Z
LAST-MODIFIED:20150831T161246Z
UID:213-1440806400-1440979199@ncssa.club
SUMMARY:Tracy
DESCRIPTION:Flyer \nTracy 29\, 30 2015 A rv3 \nTracy 29\, 30 2015 B rv3 \nTracy 29\, 30 2015 C RV3 \nTracy 29\, 30 2015 D \nResults \nTracy 29\, 30 2015 A rv3 Final \nTracy 29\, 30 2015 B rv3 Final \nTracy 29\, 30 2015 C RV3 Final \nTracy 29\, 30 2015 D r Final
URL:https://ncssa.club/event/tracy/
LOCATION:Tracy – Sports Complex\, 955 Crossroads Dr\, Tracy\, CA\, 95377\, United States
ORGANIZER;CN="John Reedy":MAILTO:jrbaldeagle@sbcglobal.net
END:VEVENT
BEGIN:VEVENT
DTSTART;VALUE=DATE:20150822
DTEND;VALUE=DATE:20150824
DTSTAMP:20260420T005002
CREATED:20150809T190008Z
LAST-MODIFIED:20150829T222433Z
UID:212-1440201600-1440374399@ncssa.club
SUMMARY:Folsom
DESCRIPTION:Flyer \nresults-folsom-aug-22-23
URL:https://ncssa.club/event/folsom/
LOCATION:Folsom – Lembi Community Park\, 1302 Riley\, Folsom\, CA\, 95630\, United States
END:VEVENT
BEGIN:VEVENT
DTSTART;VALUE=DATE:20150813
DTEND;VALUE=DATE:20150817
DTSTAMP:20260420T005002
CREATED:20150809T185818Z
LAST-MODIFIED:20150818T150014Z
UID:210-1439424000-1439769599@ncssa.club
SUMMARY:Manteca NCSSA Hall of Fame
DESCRIPTION:Flyer \nSchedule \nHall of Fame Results \n 
URL:https://ncssa.club/event/manteca-ncssa-hall-of-fame/
LOCATION:Manteca – Big League Dreams\, 1077 Milo Candini Dr\, Manteca\, CA\, 95337\, United States
ATTACH;FMTTYPE=image/png:https://ncssa.club/wp-content/uploads/2015/07/logo_small.png
ORGANIZER;CN="John Reedy":MAILTO:jrbaldeagle@sbcglobal.net
END:VEVENT
END:VCALENDAR