BEGIN:VCALENDAR
VERSION:2.0
PRODID:-// - ECPv6.15.12.2//NONSGML v1.0//EN
CALSCALE:GREGORIAN
METHOD:PUBLISH
X-ORIGINAL-URL:https://ncssa.club
X-WR-CALDESC:Events for 
REFRESH-INTERVAL;VALUE=DURATION:PT1H
X-Robots-Tag:noindex
X-PUBLISHED-TTL:PT1H
BEGIN:VTIMEZONE
TZID:America/Los_Angeles
BEGIN:DAYLIGHT
TZOFFSETFROM:-0800
TZOFFSETTO:-0700
TZNAME:PDT
DTSTART:20140309T100000
END:DAYLIGHT
BEGIN:STANDARD
TZOFFSETFROM:-0700
TZOFFSETTO:-0800
TZNAME:PST
DTSTART:20141102T090000
END:STANDARD
BEGIN:DAYLIGHT
TZOFFSETFROM:-0800
TZOFFSETTO:-0700
TZNAME:PDT
DTSTART:20150308T100000
END:DAYLIGHT
BEGIN:STANDARD
TZOFFSETFROM:-0700
TZOFFSETTO:-0800
TZNAME:PST
DTSTART:20151101T090000
END:STANDARD
BEGIN:DAYLIGHT
TZOFFSETFROM:-0800
TZOFFSETTO:-0700
TZNAME:PDT
DTSTART:20160313T100000
END:DAYLIGHT
BEGIN:STANDARD
TZOFFSETFROM:-0700
TZOFFSETTO:-0800
TZNAME:PST
DTSTART:20161106T090000
END:STANDARD
END:VTIMEZONE
BEGIN:VEVENT
DTSTART;VALUE=DATE:20150911
DTEND;VALUE=DATE:20150913
DTSTAMP:20260419T230455
CREATED:20150809T193405Z
LAST-MODIFIED:20150903T145112Z
UID:221-1441929600-1442102399@ncssa.club
SUMMARY:Medford\, Oregon
DESCRIPTION:Flyer \nMedford-Schedule
URL:https://ncssa.club/event/medford-oregon/
LOCATION:Medford\, Oregon – U.S. Cellular Community Park\, 300 Lowry Lane\, Medford\, OR\, OR\, 97501\, United States
END:VEVENT
BEGIN:VEVENT
DTSTART;VALUE=DATE:20150904
DTEND;VALUE=DATE:20150907
DTSTAMP:20260419T230455
CREATED:20150809T193316Z
LAST-MODIFIED:20150926T220526Z
UID:220-1441407600-1441580399@ncssa.club
SUMMARY:Folsom
DESCRIPTION:Flyer \nSchedule Folsom Sept 5 – 6 \nResults Folsom Sept 5 – 6
URL:https://ncssa.club/event/folsom-2/
LOCATION:Folsom – Lembi Community Park\, 1302 Riley\, Folsom\, CA\, 95630\, United States
END:VEVENT
BEGIN:VEVENT
DTSTART;VALUE=DATE:20150829
DTEND;VALUE=DATE:20150831
DTSTAMP:20260419T230455
CREATED:20150809T190043Z
LAST-MODIFIED:20150831T161246Z
UID:213-1440806400-1440979199@ncssa.club
SUMMARY:Tracy
DESCRIPTION:Flyer \nTracy 29\, 30 2015 A rv3 \nTracy 29\, 30 2015 B rv3 \nTracy 29\, 30 2015 C RV3 \nTracy 29\, 30 2015 D \nResults \nTracy 29\, 30 2015 A rv3 Final \nTracy 29\, 30 2015 B rv3 Final \nTracy 29\, 30 2015 C RV3 Final \nTracy 29\, 30 2015 D r Final
URL:https://ncssa.club/event/tracy/
LOCATION:Tracy – Sports Complex\, 955 Crossroads Dr\, Tracy\, CA\, 95377\, United States
ORGANIZER;CN="John Reedy":MAILTO:jrbaldeagle@sbcglobal.net
END:VEVENT
BEGIN:VEVENT
DTSTART;VALUE=DATE:20150822
DTEND;VALUE=DATE:20150824
DTSTAMP:20260419T230455
CREATED:20150809T190008Z
LAST-MODIFIED:20150829T222433Z
UID:212-1440201600-1440374399@ncssa.club
SUMMARY:Folsom
DESCRIPTION:Flyer \nresults-folsom-aug-22-23
URL:https://ncssa.club/event/folsom/
LOCATION:Folsom – Lembi Community Park\, 1302 Riley\, Folsom\, CA\, 95630\, United States
END:VEVENT
BEGIN:VEVENT
DTSTART;VALUE=DATE:20150813
DTEND;VALUE=DATE:20150817
DTSTAMP:20260419T230455
CREATED:20150809T185818Z
LAST-MODIFIED:20150818T150014Z
UID:210-1439424000-1439769599@ncssa.club
SUMMARY:Manteca NCSSA Hall of Fame
DESCRIPTION:Flyer \nSchedule \nHall of Fame Results \n 
URL:https://ncssa.club/event/manteca-ncssa-hall-of-fame/
LOCATION:Manteca – Big League Dreams\, 1077 Milo Candini Dr\, Manteca\, CA\, 95337\, United States
ATTACH;FMTTYPE=image/png:https://ncssa.club/wp-content/uploads/2015/07/logo_small.png
ORGANIZER;CN="John Reedy":MAILTO:jrbaldeagle@sbcglobal.net
END:VEVENT
END:VCALENDAR