BEGIN:VCALENDAR
VERSION:2.0
PRODID:-// - ECPv6.15.12.2//NONSGML v1.0//EN
CALSCALE:GREGORIAN
METHOD:PUBLISH
X-ORIGINAL-URL:https://ncssa.club
X-WR-CALDESC:Events for 
REFRESH-INTERVAL;VALUE=DURATION:PT1H
X-Robots-Tag:noindex
X-PUBLISHED-TTL:PT1H
BEGIN:VTIMEZONE
TZID:America/Los_Angeles
BEGIN:DAYLIGHT
TZOFFSETFROM:-0800
TZOFFSETTO:-0700
TZNAME:PDT
DTSTART:20150308T100000
END:DAYLIGHT
BEGIN:STANDARD
TZOFFSETFROM:-0700
TZOFFSETTO:-0800
TZNAME:PST
DTSTART:20151101T090000
END:STANDARD
BEGIN:DAYLIGHT
TZOFFSETFROM:-0800
TZOFFSETTO:-0700
TZNAME:PDT
DTSTART:20160313T100000
END:DAYLIGHT
BEGIN:STANDARD
TZOFFSETFROM:-0700
TZOFFSETTO:-0800
TZNAME:PST
DTSTART:20161106T090000
END:STANDARD
BEGIN:DAYLIGHT
TZOFFSETFROM:-0800
TZOFFSETTO:-0700
TZNAME:PDT
DTSTART:20170312T100000
END:DAYLIGHT
BEGIN:STANDARD
TZOFFSETFROM:-0700
TZOFFSETTO:-0800
TZNAME:PST
DTSTART:20171105T090000
END:STANDARD
BEGIN:DAYLIGHT
TZOFFSETFROM:-0800
TZOFFSETTO:-0700
TZNAME:PDT
DTSTART:20180311T100000
END:DAYLIGHT
BEGIN:STANDARD
TZOFFSETFROM:-0700
TZOFFSETTO:-0800
TZNAME:PST
DTSTART:20181104T090000
END:STANDARD
END:VTIMEZONE
BEGIN:VEVENT
DTSTART;VALUE=DATE:20170715
DTEND;VALUE=DATE:20170717
DTSTAMP:20260419T152927
CREATED:20170102T193526Z
LAST-MODIFIED:20170719T154314Z
UID:5026-1500076800-1500249599@ncssa.club
SUMMARY:Ripon/Tracy - Summer Championships
DESCRIPTION:Tracy Sports Complex & Ripon Mistlin Sports Complex\n \n  \n  \n  \nRIPON AA Division \nRIPON BB Division \nRipon CC Division \nRIPON DD Division \nTRACY A Division \nTRACY B Division \nTRACY C Division
URL:https://ncssa.club/event/ripontracy-2/
LOCATION:Ripon – Mistlin Sports Complex\, 1201 West River Rd\, Ripon\, CA\, 95366\, United States
CATEGORIES:Tracy
ORGANIZER;CN="John Reedy":MAILTO:jrbaldeagle@sbcglobal.net
END:VEVENT
BEGIN:VEVENT
DTSTART;VALUE=DATE:20170708
DTEND;VALUE=DATE:20170710
DTSTAMP:20260419T152927
CREATED:20170102T193022Z
LAST-MODIFIED:20170711T155613Z
UID:5024-1499472000-1499644799@ncssa.club
SUMMARY:Turlock - Legends 9th Annual
DESCRIPTION:  \n  \n  \nFRANK SOARES Divison \nJACK LEACH Division REVISISION 7.1.2017 \nJOE RICO Division \nLOUIE CHAVEZ Division \n \n 
URL:https://ncssa.club/event/turlock-5/
LOCATION:Turlock – Pedretti Park Sports Complex\, 2400 N Tegner Rd\, Turlock\, CA\, 95380\, United States
CATEGORIES:Turlock
END:VEVENT
BEGIN:VEVENT
DTSTART;VALUE=DATE:20170701
DTEND;VALUE=DATE:20170703
DTSTAMP:20260419T152927
CREATED:20170102T192929Z
LAST-MODIFIED:20170709T174138Z
UID:5022-1498867200-1499039999@ncssa.club
SUMMARY:Twin Creeks\, Sunnyvale - 2nd Annual Fire Cracker Classic
DESCRIPTION:  \n  \n  \nGold Division REVISED 6.25.17
URL:https://ncssa.club/event/twin-creeks-sunnyvale-2/
LOCATION:Sunnyvale – Twin Creeks Sports Complex\, 969 E Caribbean Dr\, Sunnyvale\, CA\, 94089\, United States
CATEGORIES:Sunnyvale
END:VEVENT
BEGIN:VEVENT
DTSTART;VALUE=DATE:20170624
DTEND;VALUE=DATE:20170626
DTSTAMP:20260419T152927
CREATED:20170102T192717Z
LAST-MODIFIED:20170709T173458Z
UID:5020-1498262400-1498435199@ncssa.club
SUMMARY:Tuolumne - Shootout
DESCRIPTION:  \n  \n  \nBlue Bracket\nGold Bracket\nRed Bracket\n \n 
URL:https://ncssa.club/event/tuolomne/
LOCATION:Tuolumne – Standard Park Sports Complex\, 18500 Standard Rd\, Sonora\, CA\, 95370\, United States
CATEGORIES:Tuolomne
END:VEVENT
BEGIN:VEVENT
DTSTART;VALUE=DATE:20170622
DTEND;VALUE=DATE:20170626
DTSTAMP:20260419T152927
CREATED:20170102T192421Z
LAST-MODIFIED:20170709T173116Z
UID:5017-1498089600-1498435199@ncssa.club
SUMMARY:Redwood City - 37th Annual Senior Men's Tournament
DESCRIPTION:  \n  \n  \nEarly Bird Registration Deadline: Monday\, May 15 Entry Fee: $305 \nFinal Registration Deadline: Friday June 9 Entry Fee: $320 \nRevised Brackets – Red\, White & Blue Divisions\n \n 
URL:https://ncssa.club/event/redwood-city-2/
LOCATION:Redwood City – Red Morton Community Park\, 1120 Roosevelt Ave\, Redwood City\, CA\, 94061\, United States
CATEGORIES:Redwood City
END:VEVENT
BEGIN:VEVENT
DTSTART;VALUE=DATE:20170610
DTEND;VALUE=DATE:20170612
DTSTAMP:20260419T152927
CREATED:20170102T192204Z
LAST-MODIFIED:20170614T154420Z
UID:5015-1497052800-1497225599@ncssa.club
SUMMARY:Yuba City - STPA Summer Shootout
DESCRIPTION:  \n  \n  \nBrackets – Fields 3\, 2 1 \n \n  \n  \n  \n 
URL:https://ncssa.club/event/yuba-city-4/
CATEGORIES:Yuba City
END:VEVENT
BEGIN:VEVENT
DTSTART;VALUE=DATE:20170610
DTEND;VALUE=DATE:20170612
DTSTAMP:20260419T152927
CREATED:20170102T192113Z
LAST-MODIFIED:20170613T000343Z
UID:5013-1497052800-1497225599@ncssa.club
SUMMARY:Pleasanton/Livermore - June Classic
DESCRIPTION:  \n  \n  \nPLEASANTON/LIVERMORE TOURNAMENT JUN 10/11 CHANGES. NOTE FROM BOB SEBRING:  \nTHE CITY OF PLEASANTON WILL NOT ALLOW ME TO HAVE 2:15 GAME ON SUNDAY. THEREFORE\, I HAD TO MOVE THESE GAMES TO LIVERMORE AS WELL AS 8:00 AM ON FIELD 2 IN PLEASANTON. CHANGES IN SILVER\, GOLD\, AND RED. BLUE IS OK \nBlue Bracket\nRED BRACKET CHANGES 6.7.17\nSilver division: Battle born dropped out of the event. Please see revised bracket for five teams (No Livermore Games) \nGold division: Due to field availability there is no need to use the Livermore fields. However\, Bad Seed & JU (Aftershock) will play four games on Saturday and one game on Sunday. I apologize for this scheduling but my hands are tied by the City of Pleasanton. \nThanks for understanding; \nBob Sebring 408 859-3867 \nGold Bracket (revised June 8)\nSilver Bracket (revised June 8)
URL:https://ncssa.club/event/pleasantonlivermore-2/
CATEGORIES:Pleasanton
END:VEVENT
BEGIN:VEVENT
DTSTART;VALUE=DATE:20170520
DTEND;VALUE=DATE:20170522
DTSTAMP:20260419T152927
CREATED:20170102T191923Z
LAST-MODIFIED:20170528T153441Z
UID:5011-1495238400-1495411199@ncssa.club
SUMMARY:Manteca - Animals
DESCRIPTION:  \n  \n  \nGroup A Bracket \nGroup B Bracket \nGroup C Bracket \n \n  \n  \n  \n 
URL:https://ncssa.club/event/manteca-3/
LOCATION:Manteca – Northgate Softball Complex\, 1750 Hoyt Ln\, Manteca\, CA\, 95336\, United States
CATEGORIES:Manteca
ORGANIZER;CN="Don Angle":MAILTO:don.angle@aol.com
END:VEVENT
BEGIN:VEVENT
DTSTART;VALUE=DATE:20170520
DTEND;VALUE=DATE:20170522
DTSTAMP:20260419T152927
CREATED:20170102T191647Z
LAST-MODIFIED:20170528T153714Z
UID:5009-1495238400-1495411199@ncssa.club
SUMMARY:Folsom - STPA (moved from Elk Grove)
DESCRIPTION:THE ELK GROVE TOURNAMENT MAY 20 & 21 IS BEING MOVED TO FOLSOM\n \n  \n  \n  \nBrackets – Fields 1 & 2 Kemp and Fields A\, B\, D Lembi \n \n  \n  \n  \n 
URL:https://ncssa.club/event/elk-grove-2/
LOCATION:Elk Grove – Hal Bartholomew Sports Park\, 10150 Franklin High Rd\, Elk Grove\, CA\, 95624\, United States
CATEGORIES:Folsom
END:VEVENT
BEGIN:VEVENT
DTSTART;VALUE=DATE:20170513
DTEND;VALUE=DATE:20170514
DTSTAMP:20260419T152927
CREATED:20170102T191512Z
LAST-MODIFIED:20170515T233718Z
UID:5007-1494633600-1494719999@ncssa.club
SUMMARY:Pleasanton - Mother's Day Classic (1 day)
DESCRIPTION:  \n  \n  \nBLUE BRACKET \nGOLD BRACKET \nRED BRACKET
URL:https://ncssa.club/event/pleasanton-1-day-2/
CATEGORIES:Pleasanton
END:VEVENT
BEGIN:VEVENT
DTSTART;VALUE=DATE:20170506
DTEND;VALUE=DATE:20170508
DTSTAMP:20260419T152927
CREATED:20170102T191345Z
LAST-MODIFIED:20170508T150113Z
UID:5005-1494028800-1494201599@ncssa.club
SUMMARY:Ripon - Summer Madness
DESCRIPTION:  \n  \n  \nA Bracket \nB Bracket \nC Bracket \nD BRACKET REVISED 4.30.17 \n \n  \n  \n  \n 
URL:https://ncssa.club/event/ripontracy/
LOCATION:Ripon – Mistlin Sports Complex\, 1201 West River Rd\, Ripon\, CA\, 95366\, United States
ORGANIZER;CN="John Reedy":MAILTO:jrbaldeagle@sbcglobal.net
END:VEVENT
BEGIN:VEVENT
DTSTART;VALUE=DATE:20170506
DTEND;VALUE=DATE:20170508
DTSTAMP:20260419T152927
CREATED:20170102T191245Z
LAST-MODIFIED:20170508T150329Z
UID:5003-1494028800-1494201599@ncssa.club
SUMMARY:Chico - Spring Classic
DESCRIPTION:  \n  \n  \nBARILE BRACKET \nBOOTH BRACKET \nMERTZ BRACKET \n \n  \n  \n  \n  \n 
URL:https://ncssa.club/event/chico-2/
END:VEVENT
BEGIN:VEVENT
DTSTART;VALUE=DATE:20170429
DTEND;VALUE=DATE:20170501
DTSTAMP:20260419T152927
CREATED:20170102T191138Z
LAST-MODIFIED:20170501T161111Z
UID:5001-1493424000-1493596799@ncssa.club
SUMMARY:Elk Grove - Spring Classic
DESCRIPTION:  \n  \n  \nA BRACKET \nB BRACKET REVISED 4.26.17 \nC BRACKET REVISED 4.25.17 \nD BRACKET REVISED 4.26.17
URL:https://ncssa.club/event/elk-grove/
LOCATION:Elk Grove – Hal Bartholomew Sports Park\, 10150 Franklin High Rd\, Elk Grove\, CA\, 95624\, United States
CATEGORIES:Elk Grove
ORGANIZER;CN="John Reedy":MAILTO:jrbaldeagle@sbcglobal.net
END:VEVENT
BEGIN:VEVENT
DTSTART;VALUE=DATE:20170429
DTEND;VALUE=DATE:20170501
DTSTAMP:20260419T152927
CREATED:20170102T191049Z
LAST-MODIFIED:20170502T194302Z
UID:4999-1493424000-1493596799@ncssa.club
SUMMARY:Lodi - Danny Caruso Memorial
DESCRIPTION:  \n  \n  \nBlue Bracket \nRed Bracket (revised Apr 24) \nWhite Bracket (revised Apr 24) \n \n  \n  \n 
URL:https://ncssa.club/event/lodi-3/
LOCATION:Lodi – Softball Complex & Chapman Field\, 401 North Stockton Street\, Lodi\, CA\, 95240\, United States
CATEGORIES:Lodi
ORGANIZER;CN="Darryl Cabral":MAILTO:dacxiv@gmail.com
END:VEVENT
BEGIN:VEVENT
DTSTART;VALUE=DATE:20170422
DTEND;VALUE=DATE:20170424
DTSTAMP:20260419T152927
CREATED:20170102T190959Z
LAST-MODIFIED:20170428T151033Z
UID:4997-1492819200-1492991999@ncssa.club
SUMMARY:Folsom - STPA Slugfest
DESCRIPTION:  \n  \n  \nAll Five Brackets…Scroll through\n \n  \n  \n  \n 
URL:https://ncssa.club/event/folsom-5/
LOCATION:Folsom – Lembi Community Park\, 1302 Riley\, Folsom\, CA\, 95630\, United States
CATEGORIES:Folsom
END:VEVENT
BEGIN:VEVENT
DTSTART;VALUE=DATE:20170415
DTEND;VALUE=DATE:20170416
DTSTAMP:20260419T152927
CREATED:20170102T190903Z
LAST-MODIFIED:20170417T212416Z
UID:4995-1492214400-1492300799@ncssa.club
SUMMARY:Pleasanton - Tax Day Invitational (1 day)
DESCRIPTION:  \n  \n  \nGold Bracket \nRed Bracket \nSilver Bracket
URL:https://ncssa.club/event/pleasanton-1-day/
CATEGORIES:Pleasanton
END:VEVENT
BEGIN:VEVENT
DTSTART;VALUE=DATE:20170408
DTEND;VALUE=DATE:20170410
DTSTAMP:20260419T152927
CREATED:20161230T010031Z
LAST-MODIFIED:20170331T173030Z
UID:4970-1491609600-1491782399@ncssa.club
SUMMARY:Turlock - Spring Classic
DESCRIPTION:  \n  \n  \nBracket 1 \nBracket 2 \nBracket 3 \nBracket 4 \nBracket 5
URL:https://ncssa.club/event/turlock-4/
LOCATION:Turlock – Pedretti Park Sports Complex\, 2400 N Tegner Rd\, Turlock\, CA\, 95380\, United States
CATEGORIES:Turlock
END:VEVENT
BEGIN:VEVENT
DTSTART;VALUE=DATE:20170401
DTEND;VALUE=DATE:20170403
DTSTAMP:20260419T152927
CREATED:20161230T005941Z
LAST-MODIFIED:20170405T150824Z
UID:4968-1491004800-1491177599@ncssa.club
SUMMARY:Folsom - STPA (moved from Yuba City)
DESCRIPTION:THE YUBA CITY TOURNAMENT APRIL 1 & 2 IS BEING MOVED TO FOLSOM BECAUSE OF DAMAGE TO THE MARYSVILLE FIELDS.\n \n  \n  \n  \nGroup 1 bracket \nGroup 2 bracket \nBracket 3 update …run differential 3.28.17 \nGroup 4 bracket \nGroup 5 bracket
URL:https://ncssa.club/event/yuba-city-3/
LOCATION:Folsom – Lembi Community Park\, 1302 Riley\, Folsom\, CA\, 95630\, United States
CATEGORIES:Folsom
END:VEVENT
BEGIN:VEVENT
DTSTART;VALUE=DATE:20170401
DTEND;VALUE=DATE:20170403
DTSTAMP:20260419T152927
CREATED:20161230T005841Z
LAST-MODIFIED:20170404T000204Z
UID:4966-1491004800-1491177599@ncssa.club
SUMMARY:Pleasanton/Livermore - April Fools Classic
DESCRIPTION:  \n  \n  \nBlue Bracket (revised) \nGold Bracket \nGreen Bracket \nRed Bracket \nSilver Bracket \n \n  \n  \n  \n 
URL:https://ncssa.club/event/pleasantonlivermore/
CATEGORIES:Pleasanton
END:VEVENT
BEGIN:VEVENT
DTSTART;VALUE=DATE:20170318
DTEND;VALUE=DATE:20170320
DTSTAMP:20260419T152927
CREATED:20161230T005729Z
LAST-MODIFIED:20170321T231500Z
UID:4964-1489795200-1489967999@ncssa.club
SUMMARY:Hayward
DESCRIPTION:  \n  \n  \nBrackets A thru E \n \n  \n 
URL:https://ncssa.club/event/hayward-2/
ORGANIZER;CN="Lanny Witt":MAILTO:marlan4551@att.net
END:VEVENT
BEGIN:VEVENT
DTSTART;VALUE=DATE:20170311
DTEND;VALUE=DATE:20170313
DTSTAMP:20260419T152927
CREATED:20161230T005639Z
LAST-MODIFIED:20170225T174615Z
UID:4961-1489190400-1489363199@ncssa.club
SUMMARY:Fresno (canceled)
DESCRIPTION:Note – this tournament was canceled on Feb 18th due to lack of teams.
URL:https://ncssa.club/event/fresno/
CATEGORIES:Fresno
END:VEVENT
BEGIN:VEVENT
DTSTART;VALUE=DATE:20170311
DTEND;VALUE=DATE:20170313
DTSTAMP:20260419T152927
CREATED:20161230T005520Z
LAST-MODIFIED:20170313T151720Z
UID:4959-1489190400-1489363199@ncssa.club
SUMMARY:Tracy - March Madness
DESCRIPTION:  \n  \n  \nDivision A Bracket \nDivision D Bracket (revised)
URL:https://ncssa.club/event/tracy-3/
LOCATION:Tracy – Sports Complex\, 955 Crossroads Dr\, Tracy\, CA\, 95377\, United States
CATEGORIES:Tracy
ORGANIZER;CN="John Reedy":MAILTO:jrbaldeagle@sbcglobal.net
END:VEVENT
BEGIN:VEVENT
DTSTART;VALUE=DATE:20170309
DTEND;VALUE=DATE:20170311
DTSTAMP:20260419T152927
CREATED:20161230T005414Z
LAST-MODIFIED:20170311T162841Z
UID:4957-1489017600-1489190399@ncssa.club
SUMMARY:Manteca - March Madness
DESCRIPTION:  \n  \n  \nBracket A \nBracket B \nBracket C (Revised 3.3.17) \n \n  \n  \n  \n 
URL:https://ncssa.club/event/manteca-bld-2/
LOCATION:Manteca – Big League Dreams\, 1077 Milo Candini Dr\, Manteca\, CA\, 95337\, United States
CATEGORIES:Manteca
ORGANIZER;CN="John Reedy":MAILTO:jrbaldeagle@sbcglobal.net
END:VEVENT
BEGIN:VEVENT
DTSTART;VALUE=DATE:20170304
DTEND;VALUE=DATE:20170306
DTSTAMP:20260419T152927
CREATED:20161229T005241Z
LAST-MODIFIED:20170311T163318Z
UID:4941-1488585600-1488758399@ncssa.club
SUMMARY:Pleasanton
DESCRIPTION:  \n  \n  \nBlue Division Bracket \nGreen Division Bracket \nGold Division Bracket \nOrange Division Bracket \nRed Division Bracket \nSilver Division Bracket \n \n  \n  \n 
URL:https://ncssa.club/event/pleasanton-10/
CATEGORIES:Pleasanton
END:VEVENT
BEGIN:VEVENT
DTSTART;VALUE=DATE:20170302
DTEND;VALUE=DATE:20170304
DTSTAMP:20260419T152927
CREATED:20161229T005129Z
LAST-MODIFIED:20170219T171716Z
UID:4939-1488412800-1488585599@ncssa.club
SUMMARY:Manteca - Big League Dreams (canceled)
DESCRIPTION:Note – this tournament was canceled on Feb 19th.
URL:https://ncssa.club/event/manteca-bld/
LOCATION:Manteca – Big League Dreams\, 1077 Milo Candini Dr\, Manteca\, CA\, 95337\, United States
CATEGORIES:Manteca
ORGANIZER;CN="John Reedy":MAILTO:jrbaldeagle@sbcglobal.net
END:VEVENT
BEGIN:VEVENT
DTSTART;VALUE=DATE:20170225
DTEND;VALUE=DATE:20170227
DTSTAMP:20260419T152927
CREATED:20161229T004858Z
LAST-MODIFIED:20170225T173751Z
UID:4937-1487980800-1488153599@ncssa.club
SUMMARY:Pleasanton (canceled)
DESCRIPTION:This tournament was canceled on Feb 23rd due to field conditions and forecast.\n \n  \n  \n  \nBlue division bracket \nGold division bracket \nRed division bracket \nSilver division bracket
URL:https://ncssa.club/event/pleasanton-8/
CATEGORIES:Pleasanton
END:VEVENT
BEGIN:VEVENT
DTSTART;VALUE=DATE:20170204
DTEND;VALUE=DATE:20170205
DTSTAMP:20260419T152927
CREATED:20161229T004705Z
LAST-MODIFIED:20170206T220806Z
UID:4935-1486166400-1486252799@ncssa.club
SUMMARY:Twin Creeks\, Sunnyvale (1 day)
DESCRIPTION:  \n  \n  \nFeb 4 Twin Creeks – Bracket\n \n  \n  \n  \n 
URL:https://ncssa.club/event/twin-creeks-sunnyvale-1-day/
LOCATION:Sunnyvale – Twin Creeks Sports Complex\, 969 E Caribbean Dr\, Sunnyvale\, CA\, 94089\, United States
CATEGORIES:Sunnyvale
END:VEVENT
BEGIN:VEVENT
DTSTART;VALUE=DATE:20170121
DTEND;VALUE=DATE:20170123
DTSTAMP:20260419T152927
CREATED:20161229T004312Z
LAST-MODIFIED:20170219T172237Z
UID:4932-1484956800-1485129599@ncssa.club
SUMMARY:Fremont - (canceled)
DESCRIPTION:Note – this tournament was canceled on Jan 13th due to lack of teams.
URL:https://ncssa.club/event/fremont/
END:VEVENT
BEGIN:VEVENT
DTSTART;VALUE=DATE:20161105
DTEND;VALUE=DATE:20161107
DTSTAMP:20260419T152927
CREATED:20160108T185339Z
LAST-MODIFIED:20161114T163710Z
UID:1978-1478304000-1478476799@ncssa.club
SUMMARY:Pleasanton
DESCRIPTION:Flyer Pleasanton-Nov 5\,6 \nblue-division-bracket          silver-division-bracket \nred-divison bracket (revised-oct-30th)         gold-division bracket (revised-oct-30th) \nblue-division-results           gold-division-results \nred-division-results           silver-division-results
URL:https://ncssa.club/event/pleasanton-9/
CATEGORIES:Pleasanton
END:VEVENT
BEGIN:VEVENT
DTSTART;VALUE=DATE:20161022
DTEND;VALUE=DATE:20161024
DTSTAMP:20260419T152927
CREATED:20160108T185300Z
LAST-MODIFIED:20161027T151423Z
UID:1977-1477094400-1477267199@ncssa.club
SUMMARY:Pleasanton-Livermore
DESCRIPTION:Flyer Pleasanton-Oct 22\,23 \nBrackets green-division     Brackets red-division     Brackets blue-division \nBrackets silver-division     Brackets gold-division \nblue-division (results) \ngold-division (results) \ngreen-division (results) \nred-division (results) \nsilver-division (results)
URL:https://ncssa.club/event/pleasanton-livermore-2/
CATEGORIES:Pleasanton
END:VEVENT
END:VCALENDAR