BEGIN:VCALENDAR
VERSION:2.0
PRODID:-// - ECPv6.15.12.2//NONSGML v1.0//EN
CALSCALE:GREGORIAN
METHOD:PUBLISH
X-ORIGINAL-URL:https://ncssa.club
X-WR-CALDESC:Events for 
REFRESH-INTERVAL;VALUE=DURATION:PT1H
X-Robots-Tag:noindex
X-PUBLISHED-TTL:PT1H
BEGIN:VTIMEZONE
TZID:America/Los_Angeles
BEGIN:DAYLIGHT
TZOFFSETFROM:-0800
TZOFFSETTO:-0700
TZNAME:PDT
DTSTART:20160313T100000
END:DAYLIGHT
BEGIN:STANDARD
TZOFFSETFROM:-0700
TZOFFSETTO:-0800
TZNAME:PST
DTSTART:20161106T090000
END:STANDARD
BEGIN:DAYLIGHT
TZOFFSETFROM:-0800
TZOFFSETTO:-0700
TZNAME:PDT
DTSTART:20170312T100000
END:DAYLIGHT
BEGIN:STANDARD
TZOFFSETFROM:-0700
TZOFFSETTO:-0800
TZNAME:PST
DTSTART:20171105T090000
END:STANDARD
BEGIN:DAYLIGHT
TZOFFSETFROM:-0800
TZOFFSETTO:-0700
TZNAME:PDT
DTSTART:20180311T100000
END:DAYLIGHT
BEGIN:STANDARD
TZOFFSETFROM:-0700
TZOFFSETTO:-0800
TZNAME:PST
DTSTART:20181104T090000
END:STANDARD
BEGIN:DAYLIGHT
TZOFFSETFROM:-0800
TZOFFSETTO:-0700
TZNAME:PDT
DTSTART:20190310T100000
END:DAYLIGHT
BEGIN:STANDARD
TZOFFSETFROM:-0700
TZOFFSETTO:-0800
TZNAME:PST
DTSTART:20191103T090000
END:STANDARD
END:VTIMEZONE
BEGIN:VEVENT
DTSTART;VALUE=DATE:20180317
DTEND;VALUE=DATE:20180319
DTSTAMP:20260419T134537
CREATED:20180120T165117Z
LAST-MODIFIED:20180316T185905Z
UID:9355-1521244800-1521417599@ncssa.club
SUMMARY:Hayward (canceled)
DESCRIPTION:Bracket A\nBracket B (revised)\nBracket C\n\nNote – Tournament canceled as of 9:15 am Friday March 16th.
URL:https://ncssa.club/event/hayward-6/
ORGANIZER;CN="Lanny Witt":MAILTO:marlan4551@att.net
END:VEVENT
BEGIN:VEVENT
DTSTART;VALUE=DATE:20180310
DTEND;VALUE=DATE:20180312
DTSTAMP:20260419T134537
CREATED:20180120T004259Z
LAST-MODIFIED:20180309T155648Z
UID:9353-1520640000-1520812799@ncssa.club
SUMMARY:Tracy - Spring Classic (canceled)
DESCRIPTION:A Bracket \nB Bracket \nTracy tournament cancelled for March 10/11 due to inclement whether. 
URL:https://ncssa.club/event/tracy-6/
LOCATION:Tracy – Sports Complex\, 955 Crossroads Dr\, Tracy\, CA\, 95377\, United States
CATEGORIES:Tracy
ORGANIZER;CN="John Reedy":MAILTO:jrbaldeagle@sbcglobal.net
END:VEVENT
BEGIN:VEVENT
DTSTART;VALUE=DATE:20180308
DTEND;VALUE=DATE:20180310
DTSTAMP:20260419T134537
CREATED:20180120T004205Z
LAST-MODIFIED:20180311T152139Z
UID:9351-1520467200-1520639999@ncssa.club
SUMMARY:Manteca BLD - March Madness
DESCRIPTION:  \nAA Bracket \nBB Bracket \nCC Bracket (revised)\n \n  \n  \n  \nTo all Tournament Teams\,\nBelow is a copy of the tournament liability release waiver form for 2018. Due to the ever increasing number of law suits our corporate legal staff is cracking down and requiring that these waivers be complete filled out and turned into the park before teams participate in your events. Games will have to be held up until all waivers are collected. Please be one of the good guys and either you or someone in your organization collect these waivers and turn them in to our daytime coordinators. \n  \nThanks. \nRoy Fetherolf\nGeneral Manager\nBig League Dreams Sports Park\n1077 Milo Candini Drive\nManteca\, CA 95337\n209-824-2400 Ext 101\n209-824-2442 Fax \nTournament Liability Release Waiver (click here) \n \n 
URL:https://ncssa.club/event/manteca-bld-3/
LOCATION:Manteca – Big League Dreams\, 1077 Milo Candini Dr\, Manteca\, CA\, 95337\, United States
CATEGORIES:Manteca
ORGANIZER;CN="John Reedy":MAILTO:jrbaldeagle@sbcglobal.net
END:VEVENT
BEGIN:VEVENT
DTSTART;VALUE=DATE:20180303
DTEND;VALUE=DATE:20180305
DTSTAMP:20260419T134537
CREATED:20180120T004044Z
LAST-MODIFIED:20180302T234356Z
UID:9349-1520035200-1520207999@ncssa.club
SUMMARY:Pleasanton/Livermore - March Madness
DESCRIPTION:Pleasanton tournament cancelled for March 3-4 due to inclement whether. For those teams that wish to play March 24-25\, there are only six spots left. Please contact Bob Sebring (408) 859-3867.\nRegards\,\nBob Sebring\n Tournament Director\n  \nChanges to Brackets:\nGold – from six to five teams\nSilver – from four to five teams\nRed – changed field from 3 to 2\nBlue Bracket  \nGold Bracket (revised) \nRed Bracket (revised) \nSilver Bracket (revised) \n 
URL:https://ncssa.club/event/pleasanton-livermore-4/
CATEGORIES:Pleasanton
END:VEVENT
BEGIN:VEVENT
DTSTART;VALUE=DATE:20180224
DTEND;VALUE=DATE:20180226
DTSTAMP:20260419T134537
CREATED:20180120T003858Z
LAST-MODIFIED:20180226T181353Z
UID:9347-1519430400-1519603199@ncssa.club
SUMMARY:Pleasanton/Livermore - Season Opener
DESCRIPTION:  \nGold Bracket \nRed Bracket\n \n  \n 
URL:https://ncssa.club/event/pleasanton-livermore-3/
CATEGORIES:Pleasanton
END:VEVENT
BEGIN:VEVENT
DTSTART;VALUE=DATE:20180217
DTEND;VALUE=DATE:20180219
DTSTAMP:20260419T134537
CREATED:20180120T002706Z
LAST-MODIFIED:20180215T200448Z
UID:9344-1518825600-1518998399@ncssa.club
SUMMARY:Hayward (canceled)
DESCRIPTION:As of Thursday Feb 15th\, this tournament has been canceled.\n 
URL:https://ncssa.club/event/hayward-5/
END:VEVENT
BEGIN:VEVENT
DTSTART;VALUE=DATE:20171111
DTEND;VALUE=DATE:20171113
DTSTAMP:20260419T134537
CREATED:20170102T195700Z
LAST-MODIFIED:20171116T163549Z
UID:5069-1510358400-1510531199@ncssa.club
SUMMARY:Dublin/Livermore - Veteran's Day Classic
DESCRIPTION:  \n  \n  \nNote – THIS TOURNAMENT WILL BE PLAYED IN DUBLIN/LIVERMORE DUE TO THE CITY OF PLEASANTON CLOSING THEIR FIELDS AT THE END OF OCTOBER.\nGold Bracket Revised 11.6.17 \nRed Bracket – Livermore and Dublin \nSilver Bracket – Dublin and Livermore \n \n 
URL:https://ncssa.club/event/pleasanton-12/
END:VEVENT
BEGIN:VEVENT
DTSTART;VALUE=DATE:20171104
DTEND;VALUE=DATE:20171106
DTSTAMP:20260419T134537
CREATED:20170102T195544Z
LAST-MODIFIED:20171103T155802Z
UID:5067-1509753600-1509926399@ncssa.club
SUMMARY:Tracy - Winter Classic (canceled)
DESCRIPTION:  \n  \n  \nNote – this tournament has been cancelled.
URL:https://ncssa.club/event/tracy-5/
LOCATION:Tracy – Sports Complex\, 955 Crossroads Dr\, Tracy\, CA\, 95377\, United States
CATEGORIES:Tracy
ORGANIZER;CN="John Reedy":MAILTO:jrbaldeagle@sbcglobal.net
END:VEVENT
BEGIN:VEVENT
DTSTART;VALUE=DATE:20171028
DTEND;VALUE=DATE:20171030
DTSTAMP:20260419T134537
CREATED:20170102T195455Z
LAST-MODIFIED:20171031T161003Z
UID:5064-1509148800-1509321599@ncssa.club
SUMMARY:Pleasanton/Livermore - Halloween Classic
DESCRIPTION:  \n  \n  \nBlue Bracket revised 10.23.17 \nGold Bracket revised 10.23.17 \nGreen Bracket revised 10.23.17 \nRed Bracket revised 10.23.17 \nSilver Bracket revised 10.23.17
URL:https://ncssa.club/event/pleasantonlivermore-3/
CATEGORIES:Pleasanton
END:VEVENT
BEGIN:VEVENT
DTSTART;VALUE=DATE:20171014
DTEND;VALUE=DATE:20171016
DTSTAMP:20260419T134538
CREATED:20170102T195321Z
LAST-MODIFIED:20171013T170257Z
UID:5062-1507939200-1508111999@ncssa.club
SUMMARY:Fresno
DESCRIPTION:  \n  \n  \nThis tournament has been canceled.
URL:https://ncssa.club/event/fresno-2/
CATEGORIES:Fresno
END:VEVENT
BEGIN:VEVENT
DTSTART;VALUE=DATE:20170916
DTEND;VALUE=DATE:20170918
DTSTAMP:20260419T134538
CREATED:20170102T194805Z
LAST-MODIFIED:20170921T185250Z
UID:5053-1505520000-1505692799@ncssa.club
SUMMARY:Turlock - Fall Classic
DESCRIPTION:  \n  \n  \nBlue Bracket \nGold Bracket \nTurlock Green revised 9.14.17 \nRed Bracket
URL:https://ncssa.club/event/turlock-6/
LOCATION:Turlock – Pedretti Park Sports Complex\, 2400 N Tegner Rd\, Turlock\, CA\, 95380\, United States
CATEGORIES:Turlock
END:VEVENT
BEGIN:VEVENT
DTSTART;VALUE=DATE:20170909
DTEND;VALUE=DATE:20170911
DTSTAMP:20260419T134538
CREATED:20170102T195130Z
LAST-MODIFIED:20170901T224953Z
UID:5059-1504915200-1505087999@ncssa.club
SUMMARY:Manteca - Park & Record (canceled)
DESCRIPTION:  \n  \n  \nTournament canceled as of Friday Sept 1st due to lack of teams.\n 
URL:https://ncssa.club/event/manteca-5/
LOCATION:Manteca – Northgate Softball Complex\, 1750 Hoyt Ln\, Manteca\, CA\, 95336\, United States
CATEGORIES:Manteca
END:VEVENT
BEGIN:VEVENT
DTSTART;VALUE=DATE:20170909
DTEND;VALUE=DATE:20170911
DTSTAMP:20260419T134538
CREATED:20170102T194919Z
LAST-MODIFIED:20170904T000011Z
UID:5055-1504915200-1505087999@ncssa.club
SUMMARY:Medford\, OR - 10th Annual Rogue Valley Tournament (canceled)
DESCRIPTION:  \n  \n  \n \nGentlemen.  Regretfully\, on Sept 3rd\, I must cancel the Medford tournament.  Due to the very unhealthy level of air quality due to the many fires burning in Southern Oregon and Northern California player health is the paramount issue. I will send cancellation notices to all managers. \nHarry Purslow\nTournament Director
URL:https://ncssa.club/event/medford-or/
LOCATION:Medford\, Oregon – U.S. Cellular Community Park\, 300 Lowry Lane\, Medford\, OR\, OR\, 97501\, United States
END:VEVENT
BEGIN:VEVENT
DTSTART;VALUE=DATE:20170826
DTEND;VALUE=DATE:20170828
DTSTAMP:20260419T134538
CREATED:20170102T194709Z
LAST-MODIFIED:20170828T200439Z
UID:5051-1503705600-1503878399@ncssa.club
SUMMARY:Tracy - Summer Madness
DESCRIPTION:  \n  \n  \nA Bracket REVISED 8.18.17 \nB Bracket REVISED 8.18.17 \nC Bracket \nD Bracket
URL:https://ncssa.club/event/tracy-4/
LOCATION:Tracy – Sports Complex\, 955 Crossroads Dr\, Tracy\, CA\, 95377\, United States
CATEGORIES:Tracy
ORGANIZER;CN="John Reedy":MAILTO:jrbaldeagle@sbcglobal.net
END:VEVENT
BEGIN:VEVENT
DTSTART;VALUE=DATE:20170819
DTEND;VALUE=DATE:20170821
DTSTAMP:20260419T134538
CREATED:20170102T194611Z
LAST-MODIFIED:20170812T161711Z
UID:5047-1503100800-1503273599@ncssa.club
SUMMARY:Manteca - Park & Record (canceled)
DESCRIPTION:  \n  \n  \nTournament canceled as of Friday Aug 11th due to lack of teams.
URL:https://ncssa.club/event/manteca-4/
LOCATION:Manteca – Northgate Softball Complex\, 1750 Hoyt Ln\, Manteca\, CA\, 95336\, United States
CATEGORIES:Manteca
END:VEVENT
BEGIN:VEVENT
DTSTART;VALUE=DATE:20170810
DTEND;VALUE=DATE:20170814
DTSTAMP:20260419T134538
CREATED:20170102T194426Z
LAST-MODIFIED:20170816T230245Z
UID:5045-1502323200-1502668799@ncssa.club
SUMMARY:Manteca - NCSSA Hall of Fame
DESCRIPTION:  \n  \n  \n2017 Senior Release Waiver March 9-10 2017\nBracket A Thurs Fri 2nd REVISION 8.6.17  Bracket B Thurs Fri REVISED 8.6.17 \nBracket C Thurs Fri 2nd REVISION 8.6.17  Bracket D Thurs Fri REVISED 8.6.17 \nBracket E Thurs Fri REVISED 8.6.17 \nBracket AA Sat Sun  Bracket BB Sat Sun \nBracket CC Sat Sun REVISION 8.6.17  Bracket DD Sat Sun \nBracket EE Sat Sun  Bracket FF Sat Sun \nTournament Results for Thursday & Friday \nTournament Results for Saturday & Sunday\n  \n 
URL:https://ncssa.club/event/manteca-ncssa-hall-of-fame-3/
LOCATION:Manteca – Big League Dreams\, 1077 Milo Candini Dr\, Manteca\, CA\, 95337\, United States
CATEGORIES:Manteca
ORGANIZER;CN="John Reedy":MAILTO:jrbaldeagle@sbcglobal.net
END:VEVENT
BEGIN:VEVENT
DTSTART;VALUE=DATE:20170805
DTEND;VALUE=DATE:20170807
DTSTAMP:20260419T134538
CREATED:20170102T194319Z
LAST-MODIFIED:20170719T154717Z
UID:5043-1501891200-1502063999@ncssa.club
SUMMARY:Tuolumne - 1st Annual Standard Mountain Classic (canceled)
DESCRIPTION:  \n  \n  \nTournament canceled as of Tuesday July 18\, 2017
URL:https://ncssa.club/event/tuolumne-2/
LOCATION:Tuolumne – Standard Park Sports Complex\, 18500 Standard Rd\, Sonora\, CA\, 95370\, United States
CATEGORIES:Tuolomne
END:VEVENT
BEGIN:VEVENT
DTSTART;VALUE=DATE:20170729
DTEND;VALUE=DATE:20170731
DTSTAMP:20260419T134538
CREATED:20170102T194130Z
LAST-MODIFIED:20170731T230821Z
UID:5039-1501286400-1501459199@ncssa.club
SUMMARY:Lodi - Grape Stomp
DESCRIPTION:  \n  \n  \nChardonnay Revised Bracket \nChianti Bracket – 2nd Revision \nOld Vine Revised Bracket \n \n  \n 
URL:https://ncssa.club/event/lodi-4/
LOCATION:Lodi – Softball Complex & Chapman Field\, 401 North Stockton Street\, Lodi\, CA\, 95240\, United States
CATEGORIES:Lodi
ORGANIZER;CN="Darryl Cabral":MAILTO:dacxiv@gmail.com
END:VEVENT
BEGIN:VEVENT
DTSTART;VALUE=DATE:20170729
DTEND;VALUE=DATE:20170731
DTSTAMP:20260419T134538
CREATED:20170102T194028Z
LAST-MODIFIED:20170722T154822Z
UID:5034-1501286400-1501459199@ncssa.club
SUMMARY:Pleasanton (canceled)
DESCRIPTION:  \n  \n  \nTournament canceled as of Friday July 21\, 2017
URL:https://ncssa.club/event/pleasanton-11/
CATEGORIES:Pleasanton
END:VEVENT
BEGIN:VEVENT
DTSTART;VALUE=DATE:20170722
DTEND;VALUE=DATE:20170724
DTSTAMP:20260419T134538
CREATED:20170102T193824Z
LAST-MODIFIED:20170717T222759Z
UID:5030-1500681600-1500854399@ncssa.club
SUMMARY:Hayward (canceled)
DESCRIPTION:  \n \n  \n  \n  \n  \n  \n  \nTournament canceled as of Monday July 17\, 2017\n 
URL:https://ncssa.club/event/hayward-4/
ORGANIZER;CN="Lanny Witt":MAILTO:marlan4551@att.net
END:VEVENT
BEGIN:VEVENT
DTSTART;VALUE=DATE:20170722
DTEND;VALUE=DATE:20170724
DTSTAMP:20260419T134538
CREATED:20170102T193625Z
LAST-MODIFIED:20170731T230614Z
UID:5028-1500681600-1500854399@ncssa.club
SUMMARY:Carson City - Summer Invitational
DESCRIPTION:  \n  \n  \nBracket One \nBracket two \nBracket three \nBracket four
URL:https://ncssa.club/event/carson-city-2/
END:VEVENT
BEGIN:VEVENT
DTSTART;VALUE=DATE:20170715
DTEND;VALUE=DATE:20170717
DTSTAMP:20260419T134538
CREATED:20170102T193526Z
LAST-MODIFIED:20170719T154314Z
UID:5026-1500076800-1500249599@ncssa.club
SUMMARY:Ripon/Tracy - Summer Championships
DESCRIPTION:Tracy Sports Complex & Ripon Mistlin Sports Complex\n \n  \n  \n  \nRIPON AA Division \nRIPON BB Division \nRipon CC Division \nRIPON DD Division \nTRACY A Division \nTRACY B Division \nTRACY C Division
URL:https://ncssa.club/event/ripontracy-2/
LOCATION:Ripon – Mistlin Sports Complex\, 1201 West River Rd\, Ripon\, CA\, 95366\, United States
CATEGORIES:Tracy
ORGANIZER;CN="John Reedy":MAILTO:jrbaldeagle@sbcglobal.net
END:VEVENT
BEGIN:VEVENT
DTSTART;VALUE=DATE:20170708
DTEND;VALUE=DATE:20170710
DTSTAMP:20260419T134538
CREATED:20170102T193022Z
LAST-MODIFIED:20170711T155613Z
UID:5024-1499472000-1499644799@ncssa.club
SUMMARY:Turlock - Legends 9th Annual
DESCRIPTION:  \n  \n  \nFRANK SOARES Divison \nJACK LEACH Division REVISISION 7.1.2017 \nJOE RICO Division \nLOUIE CHAVEZ Division \n \n 
URL:https://ncssa.club/event/turlock-5/
LOCATION:Turlock – Pedretti Park Sports Complex\, 2400 N Tegner Rd\, Turlock\, CA\, 95380\, United States
CATEGORIES:Turlock
END:VEVENT
BEGIN:VEVENT
DTSTART;VALUE=DATE:20170701
DTEND;VALUE=DATE:20170703
DTSTAMP:20260419T134538
CREATED:20170102T192929Z
LAST-MODIFIED:20170709T174138Z
UID:5022-1498867200-1499039999@ncssa.club
SUMMARY:Twin Creeks\, Sunnyvale - 2nd Annual Fire Cracker Classic
DESCRIPTION:  \n  \n  \nGold Division REVISED 6.25.17
URL:https://ncssa.club/event/twin-creeks-sunnyvale-2/
LOCATION:Sunnyvale – Twin Creeks Sports Complex\, 969 E Caribbean Dr\, Sunnyvale\, CA\, 94089\, United States
CATEGORIES:Sunnyvale
END:VEVENT
BEGIN:VEVENT
DTSTART;VALUE=DATE:20170624
DTEND;VALUE=DATE:20170626
DTSTAMP:20260419T134538
CREATED:20170102T192717Z
LAST-MODIFIED:20170709T173458Z
UID:5020-1498262400-1498435199@ncssa.club
SUMMARY:Tuolumne - Shootout
DESCRIPTION:  \n  \n  \nBlue Bracket\nGold Bracket\nRed Bracket\n \n 
URL:https://ncssa.club/event/tuolomne/
LOCATION:Tuolumne – Standard Park Sports Complex\, 18500 Standard Rd\, Sonora\, CA\, 95370\, United States
CATEGORIES:Tuolomne
END:VEVENT
BEGIN:VEVENT
DTSTART;VALUE=DATE:20170622
DTEND;VALUE=DATE:20170626
DTSTAMP:20260419T134538
CREATED:20170102T192421Z
LAST-MODIFIED:20170709T173116Z
UID:5017-1498089600-1498435199@ncssa.club
SUMMARY:Redwood City - 37th Annual Senior Men's Tournament
DESCRIPTION:  \n  \n  \nEarly Bird Registration Deadline: Monday\, May 15 Entry Fee: $305 \nFinal Registration Deadline: Friday June 9 Entry Fee: $320 \nRevised Brackets – Red\, White & Blue Divisions\n \n 
URL:https://ncssa.club/event/redwood-city-2/
LOCATION:Redwood City – Red Morton Community Park\, 1120 Roosevelt Ave\, Redwood City\, CA\, 94061\, United States
CATEGORIES:Redwood City
END:VEVENT
BEGIN:VEVENT
DTSTART;VALUE=DATE:20170610
DTEND;VALUE=DATE:20170612
DTSTAMP:20260419T134538
CREATED:20170102T192204Z
LAST-MODIFIED:20170614T154420Z
UID:5015-1497052800-1497225599@ncssa.club
SUMMARY:Yuba City - STPA Summer Shootout
DESCRIPTION:  \n  \n  \nBrackets – Fields 3\, 2 1 \n \n  \n  \n  \n 
URL:https://ncssa.club/event/yuba-city-4/
CATEGORIES:Yuba City
END:VEVENT
BEGIN:VEVENT
DTSTART;VALUE=DATE:20170610
DTEND;VALUE=DATE:20170612
DTSTAMP:20260419T134538
CREATED:20170102T192113Z
LAST-MODIFIED:20170613T000343Z
UID:5013-1497052800-1497225599@ncssa.club
SUMMARY:Pleasanton/Livermore - June Classic
DESCRIPTION:  \n  \n  \nPLEASANTON/LIVERMORE TOURNAMENT JUN 10/11 CHANGES. NOTE FROM BOB SEBRING:  \nTHE CITY OF PLEASANTON WILL NOT ALLOW ME TO HAVE 2:15 GAME ON SUNDAY. THEREFORE\, I HAD TO MOVE THESE GAMES TO LIVERMORE AS WELL AS 8:00 AM ON FIELD 2 IN PLEASANTON. CHANGES IN SILVER\, GOLD\, AND RED. BLUE IS OK \nBlue Bracket\nRED BRACKET CHANGES 6.7.17\nSilver division: Battle born dropped out of the event. Please see revised bracket for five teams (No Livermore Games) \nGold division: Due to field availability there is no need to use the Livermore fields. However\, Bad Seed & JU (Aftershock) will play four games on Saturday and one game on Sunday. I apologize for this scheduling but my hands are tied by the City of Pleasanton. \nThanks for understanding; \nBob Sebring 408 859-3867 \nGold Bracket (revised June 8)\nSilver Bracket (revised June 8)
URL:https://ncssa.club/event/pleasantonlivermore-2/
CATEGORIES:Pleasanton
END:VEVENT
BEGIN:VEVENT
DTSTART;VALUE=DATE:20170520
DTEND;VALUE=DATE:20170522
DTSTAMP:20260419T134538
CREATED:20170102T191923Z
LAST-MODIFIED:20170528T153441Z
UID:5011-1495238400-1495411199@ncssa.club
SUMMARY:Manteca - Animals
DESCRIPTION:  \n  \n  \nGroup A Bracket \nGroup B Bracket \nGroup C Bracket \n \n  \n  \n  \n 
URL:https://ncssa.club/event/manteca-3/
LOCATION:Manteca – Northgate Softball Complex\, 1750 Hoyt Ln\, Manteca\, CA\, 95336\, United States
CATEGORIES:Manteca
ORGANIZER;CN="Don Angle":MAILTO:don.angle@aol.com
END:VEVENT
BEGIN:VEVENT
DTSTART;VALUE=DATE:20170520
DTEND;VALUE=DATE:20170522
DTSTAMP:20260419T134538
CREATED:20170102T191647Z
LAST-MODIFIED:20170528T153714Z
UID:5009-1495238400-1495411199@ncssa.club
SUMMARY:Folsom - STPA (moved from Elk Grove)
DESCRIPTION:THE ELK GROVE TOURNAMENT MAY 20 & 21 IS BEING MOVED TO FOLSOM\n \n  \n  \n  \nBrackets – Fields 1 & 2 Kemp and Fields A\, B\, D Lembi \n \n  \n  \n  \n 
URL:https://ncssa.club/event/elk-grove-2/
LOCATION:Elk Grove – Hal Bartholomew Sports Park\, 10150 Franklin High Rd\, Elk Grove\, CA\, 95624\, United States
CATEGORIES:Folsom
END:VEVENT
END:VCALENDAR