BEGIN:VCALENDAR
VERSION:2.0
PRODID:-// - ECPv6.15.12.2//NONSGML v1.0//EN
CALSCALE:GREGORIAN
METHOD:PUBLISH
X-ORIGINAL-URL:https://ncssa.club
X-WR-CALDESC:Events for 
REFRESH-INTERVAL;VALUE=DURATION:PT1H
X-Robots-Tag:noindex
X-PUBLISHED-TTL:PT1H
BEGIN:VTIMEZONE
TZID:America/Los_Angeles
BEGIN:DAYLIGHT
TZOFFSETFROM:-0800
TZOFFSETTO:-0700
TZNAME:PDT
DTSTART:20170312T100000
END:DAYLIGHT
BEGIN:STANDARD
TZOFFSETFROM:-0700
TZOFFSETTO:-0800
TZNAME:PST
DTSTART:20171105T090000
END:STANDARD
BEGIN:DAYLIGHT
TZOFFSETFROM:-0800
TZOFFSETTO:-0700
TZNAME:PDT
DTSTART:20180311T100000
END:DAYLIGHT
BEGIN:STANDARD
TZOFFSETFROM:-0700
TZOFFSETTO:-0800
TZNAME:PST
DTSTART:20181104T090000
END:STANDARD
BEGIN:DAYLIGHT
TZOFFSETFROM:-0800
TZOFFSETTO:-0700
TZNAME:PDT
DTSTART:20190310T100000
END:DAYLIGHT
BEGIN:STANDARD
TZOFFSETFROM:-0700
TZOFFSETTO:-0800
TZNAME:PST
DTSTART:20191103T090000
END:STANDARD
BEGIN:DAYLIGHT
TZOFFSETFROM:-0800
TZOFFSETTO:-0700
TZNAME:PDT
DTSTART:20200308T100000
END:DAYLIGHT
BEGIN:STANDARD
TZOFFSETFROM:-0700
TZOFFSETTO:-0800
TZNAME:PST
DTSTART:20201101T090000
END:STANDARD
END:VTIMEZONE
BEGIN:VEVENT
DTSTART;VALUE=DATE:20190615
DTEND;VALUE=DATE:20190617
DTSTAMP:20260419T103135
CREATED:20190125T191506Z
LAST-MODIFIED:20190703T140317Z
UID:12820-1560556800-1560729599@ncssa.club
SUMMARY:Tuolomne - Quicksilver Shoot-Out
DESCRIPTION:Bracket Blue \nBracket Red \nBracket White
URL:https://ncssa.club/event/tuolomne-3/
LOCATION:Tuolumne – Standard Park Sports Complex\, 18500 Standard Rd\, Sonora\, CA\, 95370\, United States
CATEGORIES:Tuolomne
ORGANIZER;CN="Tim Brazil":MAILTO:underdog1959@sbcglobal.net
END:VEVENT
BEGIN:VEVENT
DTSTART;VALUE=DATE:20190613
DTEND;VALUE=DATE:20190615
DTSTAMP:20260419T103135
CREATED:20190125T182655Z
LAST-MODIFIED:20190704T214241Z
UID:12647-1560384000-1560556799@ncssa.club
SUMMARY:Manteca BLD (Th-Fr)
DESCRIPTION:Bracket A \nBracket B \n \n\n\n\n\n\nTo all Tournament Teams\,\nBelow is a copy of the tournament liability release waiver form for 2019. Due to the ever increasing number of law suits our corporate legal staff is cracking down and requiring that these waivers be complete filled out and turned into the park before teams participate in your events. Games will have to be held up until all waivers are collected. Please be one of the good guys and either you or someone in your organization collect these waivers and turn them in to our daytime coordinators. \nThanks. \nRoy Fetherolf\nGeneral Manager\nBig League Dreams Sports Park\n1077 Milo Candini Drive\nManteca\, CA 95337\n209-824-2400 Ext 101\n209-824-2442 Fax \nTournament Liability Release Waiver (click here)
URL:https://ncssa.club/event/manteca-bld-th-fr-4/
LOCATION:Manteca – Big League Dreams\, 1077 Milo Candini Dr\, Manteca\, CA\, 95337\, United States
CATEGORIES:Manteca
ORGANIZER;CN="John Reedy":MAILTO:jrbaldeagle@sbcglobal.net
END:VEVENT
BEGIN:VEVENT
DTSTART;VALUE=DATE:20190608
DTEND;VALUE=DATE:20190610
DTSTAMP:20260419T103135
CREATED:20190125T183331Z
LAST-MODIFIED:20190703T135650Z
UID:12684-1559952000-1560124799@ncssa.club
SUMMARY:Pleasanton Father’s Day Invitational
DESCRIPTION:Bracket Blue \nBracket Gold (rev-2) \nBracket Red \nBracket Silver
URL:https://ncssa.club/event/pleasanton-18/
LOCATION:CA
CATEGORIES:Pleasanton
END:VEVENT
BEGIN:VEVENT
DTSTART;VALUE=DATE:20190608
DTEND;VALUE=DATE:20190609
DTSTAMP:20260419T103135
CREATED:20190125T190928Z
LAST-MODIFIED:20190531T150956Z
UID:12799-1559952000-1560038399@ncssa.club
SUMMARY:STPA - Yuba City/Sacramento (canceled)
DESCRIPTION:This Tournament has been canceled.
URL:https://ncssa.club/event/stpa-yuba-city-1-day/
LOCATION:CA
CATEGORIES:Yuba City
END:VEVENT
BEGIN:VEVENT
DTSTART;VALUE=DATE:20190518
DTEND;VALUE=DATE:20190520
DTSTAMP:20260419T103135
CREATED:20190125T191202Z
LAST-MODIFIED:20190517T235907Z
UID:12813-1558137600-1558310399@ncssa.club
SUMMARY:Manteca - Animals Invitational (canceled)
DESCRIPTION:Group A \nGroup B \nGroup C \nThe Manteca tourney is canceled\, the fields at Northgate will not improve with expected additional rain this weekend. Thanks to all who have entered.\nDon Angle\nTournament Director
URL:https://ncssa.club/event/manteca-8/
LOCATION:Manteca – Northgate Softball Complex\, 1750 Hoyt Ln\, Manteca\, CA\, 95336\, United States
CATEGORIES:Manteca
ORGANIZER;CN="Don Angle":MAILTO:don.angle@aol.com
END:VEVENT
BEGIN:VEVENT
DTSTART;VALUE=DATE:20190518
DTEND;VALUE=DATE:20190520
DTSTAMP:20260419T103135
CREATED:20190125T185905Z
LAST-MODIFIED:20190517T235820Z
UID:12769-1558137600-1558310399@ncssa.club
SUMMARY:STPA Sacramento - Get Ready for Reno (canceled)
DESCRIPTION:Bracket Black \nBracket Blue \nBracket Gray \nBracket Green \nBracket Orange \nBracket Red \nBracket White \nBracket Yellow \nThis tournament has been cancelled.\nBad Weather forced us to cancelled the Tournament.\nBill Hill\nTournament Director
URL:https://ncssa.club/event/stpa-sacramento/
LOCATION:Sacramento Softball Complex\, 3450 Longview Dr\, Sacramento\, CA\, 95821
CATEGORIES:Sacramento
END:VEVENT
BEGIN:VEVENT
DTSTART;VALUE=DATE:20190511
DTEND;VALUE=DATE:20190512
DTSTAMP:20260419T103135
CREATED:20190125T183133Z
LAST-MODIFIED:20190516T163807Z
UID:12666-1557532800-1557619199@ncssa.club
SUMMARY:Pleasanton (1 day) - Mother's Day Classic
DESCRIPTION:Please note – as of April 17th\, this is a 1 Day Tournament!\nBracket Gold \nBracket Red (rev-1) \nBracket Silver
URL:https://ncssa.club/event/pleasanton-17/
LOCATION:CA
CATEGORIES:Pleasanton
END:VEVENT
BEGIN:VEVENT
DTSTART;VALUE=DATE:20190509
DTEND;VALUE=DATE:20190511
DTSTAMP:20260419T103135
CREATED:20190125T182507Z
LAST-MODIFIED:20190503T155421Z
UID:12632-1557360000-1557532799@ncssa.club
SUMMARY:Manteca BLD - Canceled
DESCRIPTION:As of Friday May 3rd\, this tournament has been cancelled.\nJohn Reedy\nTournament Director\n\nTo all Tournament Teams\,\nBelow is a copy of the tournament liability release waiver form for 2019. Due to the ever increasing number of law suits our corporate legal staff is cracking down and requiring that these waivers be complete filled out and turned into the park before teams participate in your events. Games will have to be held up until all waivers are collected. Please be one of the good guys and either you or someone in your organization collect these waivers and turn them in to our daytime coordinators. \nThanks. \nRoy Fetherolf\nGeneral Manager\nBig League Dreams Sports Park\n1077 Milo Candini Drive\nManteca\, CA 95337\n209-824-2400 Ext 101\n209-824-2442 Fax \nTournament Liability Release Waiver (click here)
URL:https://ncssa.club/event/manteca-bld-th-fr-3/
LOCATION:Manteca – Big League Dreams\, 1077 Milo Candini Dr\, Manteca\, CA\, 95337\, United States
CATEGORIES:Manteca
ORGANIZER;CN="John Reedy":MAILTO:jrbaldeagle@sbcglobal.net
END:VEVENT
BEGIN:VEVENT
DTSTART;VALUE=DATE:20190504
DTEND;VALUE=DATE:20190506
DTSTAMP:20260419T103135
CREATED:20190125T182101Z
LAST-MODIFIED:20190506T165906Z
UID:12616-1556928000-1557100799@ncssa.club
SUMMARY:Tracy - Summer Madness
DESCRIPTION:Bracket BB \nBracket CC \nBracket AA (rev-1) \nBracket DD (rev-1)
URL:https://ncssa.club/event/tracy-summer-madness/
LOCATION:Tracy – Sports Complex\, 955 Crossroads Dr\, Tracy\, CA\, 95377\, United States
CATEGORIES:Tracy
ORGANIZER;CN="John Reedy":MAILTO:jrbaldeagle@sbcglobal.net
END:VEVENT
BEGIN:VEVENT
DTSTART;VALUE=DATE:20190504
DTEND;VALUE=DATE:20190506
DTSTAMP:20260419T103135
CREATED:20190125T181900Z
LAST-MODIFIED:20190508T164817Z
UID:12609-1556928000-1557100799@ncssa.club
SUMMARY:Lodi - Danny Caruso Memorial
DESCRIPTION:Bracket Chapman \nBracket North \nBracket South \n 
URL:https://ncssa.club/event/lodi-7/
LOCATION:Lodi – Softball Complex & Chapman Field\, 401 North Stockton Street\, Lodi\, CA\, 95240\, United States
CATEGORIES:Lodi
ORGANIZER;CN="Darryl Cabral":MAILTO:dacxiv@gmail.com
END:VEVENT
BEGIN:VEVENT
DTSTART;VALUE=DATE:20190427
DTEND;VALUE=DATE:20190429
DTSTAMP:20260419T103135
CREATED:20190125T181723Z
LAST-MODIFIED:20190430T154132Z
UID:12592-1556323200-1556495999@ncssa.club
SUMMARY:Elk Grove - Spring Classic
DESCRIPTION:Bracket “Laguna Park” \nBracket Blue (rev-1) \nBracket Red \nBracket Yellow
URL:https://ncssa.club/event/elk-grove-spring-classic-2/
LOCATION:Elk Grove – Hal Bartholomew Sports Park\, 10150 Franklin High Rd\, Elk Grove\, CA\, 95624\, United States
CATEGORIES:Elk Grove
ORGANIZER;CN="John Reedy":MAILTO:jrbaldeagle@sbcglobal.net
END:VEVENT
BEGIN:VEVENT
DTSTART;VALUE=DATE:20190420
DTEND;VALUE=DATE:20190421
DTSTAMP:20260419T103135
CREATED:20190125T190510Z
LAST-MODIFIED:20190424T001331Z
UID:12789-1555718400-1555804799@ncssa.club
SUMMARY:STPA Easter Scramble - Yuba City (1 day)
DESCRIPTION:Bracket Blue (rev-1) \nBracket Red \nBracket White \n \nPlease Note – the Red group has no winner as the championship game was rained out.
URL:https://ncssa.club/event/stpa-folsom-1-day/
LOCATION:CA
CATEGORIES:Folsom
END:VEVENT
BEGIN:VEVENT
DTSTART;VALUE=DATE:20190418
DTEND;VALUE=DATE:20190420
DTSTAMP:20260419T103135
CREATED:20190125T180924Z
LAST-MODIFIED:20190421T161455Z
UID:12545-1555545600-1555718399@ncssa.club
SUMMARY:Manteca BLD (Th-Fr)
DESCRIPTION:Bracket AA (rev-1) \nBracket BB \nBracket CC (rev-2) \nBracket DD (rev-1) \n \n \nTo all Tournament Teams\,\nBelow is a copy of the tournament liability release waiver form for 2019. Due to the ever increasing number of law suits our corporate legal staff is cracking down and requiring that these waivers be complete filled out and turned into the park before teams participate in your events. Games will have to be held up until all waivers are collected. Please be one of the good guys and either you or someone in your organization collect these waivers and turn them in to our daytime coordinators. \nThanks. \nRoy Fetherolf\nGeneral Manager\nBig League Dreams Sports Park\n1077 Milo Candini Drive\nManteca\, CA 95337\n209-824-2400 Ext 101\n209-824-2442 Fax \nTournament Liability Release Waiver (click here)
URL:https://ncssa.club/event/manteca-bld-th-fr-2/
LOCATION:Manteca – Big League Dreams\, 1077 Milo Candini Dr\, Manteca\, CA\, 95337\, United States
CATEGORIES:Manteca
ORGANIZER;CN="John Reedy":MAILTO:jrbaldeagle@sbcglobal.net
END:VEVENT
BEGIN:VEVENT
DTSTART;VALUE=DATE:20190413
DTEND;VALUE=DATE:20190415
DTSTAMP:20260419T103135
CREATED:20190125T175107Z
LAST-MODIFIED:20190415T160352Z
UID:12523-1555113600-1555286399@ncssa.club
SUMMARY:Elk Grove - Spring Classic
DESCRIPTION:Bracket AA (rev-1) \nBracket BB \nBracket CC
URL:https://ncssa.club/event/elk-grove-spring-classic/
LOCATION:Elk Grove – Hal Bartholomew Sports Park\, 10150 Franklin High Rd\, Elk Grove\, CA\, 95624\, United States
CATEGORIES:Elk Grove
ORGANIZER;CN="John Reedy":MAILTO:jrbaldeagle@sbcglobal.net
END:VEVENT
BEGIN:VEVENT
DTSTART;VALUE=DATE:20190406
DTEND;VALUE=DATE:20190408
DTSTAMP:20260419T103135
CREATED:20190125T174714Z
LAST-MODIFIED:20190411T162937Z
UID:12515-1554508800-1554681599@ncssa.club
SUMMARY:Turlock - Spring Classic
DESCRIPTION:Bracket A (rev-1) \nBracket B \nBracket C \nBracket D (rev-1) \nBracket E (rev-1)
URL:https://ncssa.club/event/turlock-8/
LOCATION:Turlock – Pedretti Park Sports Complex\, 2400 N Tegner Rd\, Turlock\, CA\, 95380\, United States
CATEGORIES:Turlock
ORGANIZER;CN="Don Angle":MAILTO:don.angle@aol.com
END:VEVENT
BEGIN:VEVENT
DTSTART;VALUE=DATE:20190330
DTEND;VALUE=DATE:20190401
DTSTAMP:20260419T103135
CREATED:20190125T171012Z
LAST-MODIFIED:20190328T212741Z
UID:12411-1553904000-1554076799@ncssa.club
SUMMARY:STPA - Folsom Spring Slugfest (canceled)
DESCRIPTION:  \nBracket Blue \nBracket Gold (rev-1) \nBracket Green (rev-1) \nBracket Red \nBracket Silver (rev-1) \n\nThey cannot prep the fields\, too wet. Folsom waited as long as possible but it is raining now and we ran out of time for the fields to dry.\nBill Hill\nTournament Director
URL:https://ncssa.club/event/folsom-7/
LOCATION:Folsom – Lembi Community Park\, 1302 Riley\, Folsom\, CA\, 95630\, United States
CATEGORIES:Folsom
END:VEVENT
BEGIN:VEVENT
DTSTART;VALUE=DATE:20190323
DTEND;VALUE=DATE:20190325
DTSTAMP:20260419T103135
CREATED:20190122T223029Z
LAST-MODIFIED:20190323T141713Z
UID:12333-1553299200-1553471999@ncssa.club
SUMMARY:Pleasanton - Spring Kick-Off (canceled)
DESCRIPTION:As of Saturday morning at 7:00 AM the Pleasanton Spring Kick-Off tournament has been cancelled.\nBob Sebring\nTournament Director\n \nPlease note Special Rules for Sunday listed below: \nBracket Blue \nBracket Gold \nBracket Red (rev-1) \nBracket Silver \nSpecial Rules for Sunday
URL:https://ncssa.club/event/pleasanton-16/
LOCATION:CA
CATEGORIES:Pleasanton
END:VEVENT
BEGIN:VEVENT
DTSTART;VALUE=DATE:20190316
DTEND;VALUE=DATE:20190318
DTSTAMP:20260419T103135
CREATED:20190122T222932Z
LAST-MODIFIED:20190321T155300Z
UID:12325-1552694400-1552867199@ncssa.club
SUMMARY:STPA Sacramento - St Patricks Luck of the Irish Tournament
DESCRIPTION:All Brackets \nThe results for 1 bracket have been revised: (click here)
URL:https://ncssa.club/event/sacramento-complex/
LOCATION:Sacramento Softball Complex\, 3450 Longview Dr\, Sacramento\, CA\, 95821
CATEGORIES:Sacramento
END:VEVENT
BEGIN:VEVENT
DTSTART;VALUE=DATE:20190316
DTEND;VALUE=DATE:20190318
DTSTAMP:20260419T103135
CREATED:20190122T222712Z
LAST-MODIFIED:20190319T165807Z
UID:12316-1552694400-1552867199@ncssa.club
SUMMARY:Hayward
DESCRIPTION:  \nBracket Blue \nBracket Green \nBracket Red
URL:https://ncssa.club/event/hayward-8/
LOCATION:CA
ORGANIZER;CN="Lanny Witt":MAILTO:marlan4551@att.net
END:VEVENT
BEGIN:VEVENT
DTSTART;VALUE=DATE:20190309
DTEND;VALUE=DATE:20190311
DTSTAMP:20260419T103135
CREATED:20190122T204238Z
LAST-MODIFIED:20190306T194048Z
UID:12279-1552089600-1552262399@ncssa.club
SUMMARY:Tracy - Spring Classic
DESCRIPTION:As of Wednesday at 12 Noon\, the Tracy Tournament for March 9/10 has been canceled.\nJohn Reedy\nTournament Director \n\n \nBracket A revised: Oh My 55 out\, WEST COAST AFTERSHOCK 50 in. \nBracket A (rev 3-2) \nBracket B \nTracy – 209-869-6888 // 209-613-6560\nTracy hot line 209-831-6350 available every day after 3:00\nJohn Reedy\nTournament Director
URL:https://ncssa.club/event/tracy-9/
LOCATION:Tracy – Sports Complex\, 955 Crossroads Dr\, Tracy\, CA\, 95377\, United States
CATEGORIES:Tracy
ORGANIZER;CN="John Reedy":MAILTO:jrbaldeagle@sbcglobal.net
END:VEVENT
BEGIN:VEVENT
DTSTART;VALUE=DATE:20190307
DTEND;VALUE=DATE:20190309
DTSTAMP:20260419T103135
CREATED:20190122T204140Z
LAST-MODIFIED:20190311T161958Z
UID:12269-1551916800-1552089599@ncssa.club
SUMMARY:Manteca\, BLD (1 day)
DESCRIPTION:  \n\n\n\n\n\nThe Manteca BLD Tournament has been changed to a 1 day tournament on Friday March 8th. \nBrackets A & B replaced with BB. I kept all starting time same except “WHO”\nBracket BB \nBracket C \nResults Bracket BB \nResults Bracket C \n 
URL:https://ncssa.club/event/manteca-bld-th-fr/
LOCATION:Manteca – Big League Dreams\, 1077 Milo Candini Dr\, Manteca\, CA\, 95337\, United States
CATEGORIES:Manteca
ORGANIZER;CN="John Reedy":MAILTO:jrbaldeagle@sbcglobal.net
END:VEVENT
BEGIN:VEVENT
DTSTART;VALUE=DATE:20190302
DTEND;VALUE=DATE:20190304
DTSTAMP:20260419T103135
CREATED:20190122T203938Z
LAST-MODIFIED:20190226T173806Z
UID:12262-1551484800-1551657599@ncssa.club
SUMMARY:STPA - Yuba City (cancelled)
DESCRIPTION:As of Tuesday Feb 26th @ 10:00 am\, this tournament has been cancelled.
URL:https://ncssa.club/event/yuba-city-5/
LOCATION:CA
CATEGORIES:Yuba City
END:VEVENT
BEGIN:VEVENT
DTSTART;VALUE=DATE:20190223
DTEND;VALUE=DATE:20190225
DTSTAMP:20260419T103135
CREATED:20190122T203510Z
LAST-MODIFIED:20190228T160707Z
UID:12252-1550880000-1551052799@ncssa.club
SUMMARY:Pleasanton - Season Opener (1 day)
DESCRIPTION:A team dropped out of Gold Bracket so one team was moved from silver to gold. Now two 4 team Brackets. \nGold Bracket (rev-2) \nSilver Bracket (rev-2)
URL:https://ncssa.club/event/pleasanton-15/
LOCATION:CA
CATEGORIES:Pleasanton
END:VEVENT
BEGIN:VEVENT
DTSTART;TZID=America/Los_Angeles:20181201T100000
DTEND;TZID=America/Los_Angeles:20181201T120000
DTSTAMP:20260419T103135
CREATED:20181112T185239Z
LAST-MODIFIED:20181112T185303Z
UID:11817-1543658400-1543665600@ncssa.club
SUMMARY:NCSSA General Meeting in Manteca
DESCRIPTION:  \nThe General Meeting is scheduled for:\nSaturday December 1\, 2018 at 10:00 AM\nManteca City Council Chambers\n1001 West Center Street\nManteca\, CA\n 
URL:https://ncssa.club/event/ncssa-general-meeting/
LOCATION:CA
CATEGORIES:Manteca
END:VEVENT
BEGIN:VEVENT
DTSTART;VALUE=DATE:20181110
DTEND;VALUE=DATE:20181112
DTSTAMP:20260419T103135
CREATED:20180120T173755Z
LAST-MODIFIED:20190122T180050Z
UID:9428-1541808000-1541980799@ncssa.club
SUMMARY:Dublin/Livermore - Winter Classic (canceled)
DESCRIPTION:Bracket AA\nBracket BB\nBracket CC (rev 11-05)\nBracket DD \n  \nThe Dublin/Livermore tournament has been canceled due to bad air Quality as of 7:00 AM Saturday morning.
URL:https://ncssa.club/event/dublin-livermore-4/
LOCATION:CA
END:VEVENT
BEGIN:VEVENT
DTSTART;VALUE=DATE:20181103
DTEND;VALUE=DATE:20181105
DTSTAMP:20260419T103135
CREATED:20180120T173701Z
LAST-MODIFIED:20181026T154707Z
UID:9426-1541203200-1541375999@ncssa.club
SUMMARY:Tracy - Winter Classic (canceled)
DESCRIPTION:Tournament canceled Oct 26\, 2018
URL:https://ncssa.club/event/tracy-8/
LOCATION:Tracy – Sports Complex\, 955 Crossroads Dr\, Tracy\, CA\, 95377\, United States
CATEGORIES:Tracy
ORGANIZER;CN="John Reedy":MAILTO:jrbaldeagle@sbcglobal.net
END:VEVENT
BEGIN:VEVENT
DTSTART;VALUE=DATE:20181027
DTEND;VALUE=DATE:20181029
DTSTAMP:20260419T103135
CREATED:20180120T173601Z
LAST-MODIFIED:20181102T163308Z
UID:9424-1540598400-1540771199@ncssa.club
SUMMARY:Pleasanton/Livermore - 17th Annual Halloween Classic
DESCRIPTION:Blue Bracket (rev 10-24)\nBracket Gold (rev)\nBracket Red (rev)\nBracket Silver
URL:https://ncssa.club/event/pleasanton-livermore-7/
LOCATION:CA
CATEGORIES:Pleasanton
END:VEVENT
BEGIN:VEVENT
DTSTART;VALUE=DATE:20181013
DTEND;VALUE=DATE:20181015
DTSTAMP:20260419T103135
CREATED:20180120T173506Z
LAST-MODIFIED:20181004T161654Z
UID:9422-1539388800-1539561599@ncssa.club
SUMMARY:Dublin/Livermore (canceled)
DESCRIPTION:Tournament Canceled Oct 4\, 2018
URL:https://ncssa.club/event/dublin-livermore-3/
LOCATION:CA
END:VEVENT
BEGIN:VEVENT
DTSTART;VALUE=DATE:20180915
DTEND;VALUE=DATE:20180917
DTSTAMP:20260419T103135
CREATED:20180120T173413Z
LAST-MODIFIED:20180918T164310Z
UID:9420-1536969600-1537142399@ncssa.club
SUMMARY:Turlock - SSSA Fall Classic
DESCRIPTION:Bracket A (rev 9-11)\nBracket B\nBracket C\nBracket D
URL:https://ncssa.club/event/turlock-9/
LOCATION:Turlock – Pedretti Park Sports Complex\, 2400 N Tegner Rd\, Turlock\, CA\, 95380\, United States
CATEGORIES:Turlock
ORGANIZER;CN="Don Angle":MAILTO:don.angle@aol.com
END:VEVENT
BEGIN:VEVENT
DTSTART;VALUE=DATE:20180915
DTEND;VALUE=DATE:20180917
DTSTAMP:20260419T103135
CREATED:20180120T173329Z
LAST-MODIFIED:20180912T153106Z
UID:9418-1536969600-1537142399@ncssa.club
SUMMARY:Manteca - Parks & Rec (canceled)
DESCRIPTION:Canceled Sept 6th due to lack of teams.
URL:https://ncssa.club/event/manteca-7/
LOCATION:Manteca – Northgate Softball Complex\, 1750 Hoyt Ln\, Manteca\, CA\, 95336\, United States
CATEGORIES:Manteca
END:VEVENT
END:VCALENDAR