BEGIN:VCALENDAR
VERSION:2.0
PRODID:-// - ECPv6.15.12.2//NONSGML v1.0//EN
CALSCALE:GREGORIAN
METHOD:PUBLISH
X-ORIGINAL-URL:https://ncssa.club
X-WR-CALDESC:Events for 
REFRESH-INTERVAL;VALUE=DURATION:PT1H
X-Robots-Tag:noindex
X-PUBLISHED-TTL:PT1H
BEGIN:VTIMEZONE
TZID:America/Los_Angeles
BEGIN:DAYLIGHT
TZOFFSETFROM:-0800
TZOFFSETTO:-0700
TZNAME:PDT
DTSTART:20180311T100000
END:DAYLIGHT
BEGIN:STANDARD
TZOFFSETFROM:-0700
TZOFFSETTO:-0800
TZNAME:PST
DTSTART:20181104T090000
END:STANDARD
BEGIN:DAYLIGHT
TZOFFSETFROM:-0800
TZOFFSETTO:-0700
TZNAME:PDT
DTSTART:20190310T100000
END:DAYLIGHT
BEGIN:STANDARD
TZOFFSETFROM:-0700
TZOFFSETTO:-0800
TZNAME:PST
DTSTART:20191103T090000
END:STANDARD
BEGIN:DAYLIGHT
TZOFFSETFROM:-0800
TZOFFSETTO:-0700
TZNAME:PDT
DTSTART:20200308T100000
END:DAYLIGHT
BEGIN:STANDARD
TZOFFSETFROM:-0700
TZOFFSETTO:-0800
TZNAME:PST
DTSTART:20201101T090000
END:STANDARD
BEGIN:DAYLIGHT
TZOFFSETFROM:-0800
TZOFFSETTO:-0700
TZNAME:PDT
DTSTART:20210314T100000
END:DAYLIGHT
BEGIN:STANDARD
TZOFFSETFROM:-0700
TZOFFSETTO:-0800
TZNAME:PST
DTSTART:20211107T090000
END:STANDARD
BEGIN:DAYLIGHT
TZOFFSETFROM:-0800
TZOFFSETTO:-0700
TZNAME:PDT
DTSTART:20220313T100000
END:DAYLIGHT
BEGIN:STANDARD
TZOFFSETFROM:-0700
TZOFFSETTO:-0800
TZNAME:PST
DTSTART:20221106T090000
END:STANDARD
END:VTIMEZONE
BEGIN:VEVENT
DTSTART;VALUE=DATE:20210320
DTEND;VALUE=DATE:20210322
DTSTAMP:20260419T072018
CREATED:20200111T195208Z
LAST-MODIFIED:20210303T013652Z
UID:15972-1616198400-1616371199@ncssa.club
SUMMARY:Elk Grove - NCSSA Classic (canceled)
DESCRIPTION:Unfortunately\, this tournament has been canceled.
URL:https://ncssa.club/event/elk-grove-1-day-2/
LOCATION:Elk Grove – Hal Bartholomew Sports Park\, 10150 Franklin High Rd\, Elk Grove\, CA\, 95624\, United States
CATEGORIES:Elk Grove
ORGANIZER;CN="John Reedy":MAILTO:jrbaldeagle@sbcglobal.net
END:VEVENT
BEGIN:VEVENT
DTSTART;VALUE=DATE:20210313
DTEND;VALUE=DATE:20210315
DTSTAMP:20260419T072018
CREATED:20200109T194036Z
LAST-MODIFIED:20210224T171059Z
UID:15934-1615593600-1615766399@ncssa.club
SUMMARY:Sacramento Complex - STPA (canceled)
DESCRIPTION:Note – Ball Field locations on 2nd page of flyer.\nUnfortunately\, this tournament has been canceled.
URL:https://ncssa.club/event/hayward-9/
LOCATION:Sacramento Softball Complex\, 3450 Longview Dr\, Sacramento\, CA\, 95821
CATEGORIES:Sacramento
END:VEVENT
BEGIN:VEVENT
DTSTART;VALUE=DATE:20210306
DTEND;VALUE=DATE:20210308
DTSTAMP:20260419T072019
CREATED:20210107T185319Z
LAST-MODIFIED:20210219T160306Z
UID:16985-1614988800-1615161599@ncssa.club
SUMMARY:Tracy - Spring Classic (canceled)
DESCRIPTION:Unfortunately\, this tournament has been canceled.
URL:https://ncssa.club/event/tracy-15/
LOCATION:Tracy – Sports Complex\, 955 Crossroads Dr\, Tracy\, CA\, 95377\, United States
CATEGORIES:Tracy
ORGANIZER;CN="John Reedy":MAILTO:jrbaldeagle@sbcglobal.net
END:VEVENT
BEGIN:VEVENT
DTSTART;VALUE=DATE:20210304
DTEND;VALUE=DATE:20210306
DTSTAMP:20260419T072019
CREATED:20210107T185127Z
LAST-MODIFIED:20210219T160229Z
UID:16983-1614816000-1614988799@ncssa.club
SUMMARY:Manteca BLD (Th\,Fr) (canceled)
DESCRIPTION:Unfortunately\, this tournament has been canceled.
URL:https://ncssa.club/event/manteca-bld-thfr/
LOCATION:Manteca – Big League Dreams\, 1077 Milo Candini Dr\, Manteca\, CA\, 95337\, United States
CATEGORIES:Manteca
ORGANIZER;CN="John Reedy":MAILTO:jrbaldeagle@sbcglobal.net
END:VEVENT
BEGIN:VEVENT
DTSTART;VALUE=DATE:20210227
DTEND;VALUE=DATE:20210301
DTSTAMP:20260419T072019
CREATED:20210107T184758Z
LAST-MODIFIED:20210224T171302Z
UID:16980-1614384000-1614556799@ncssa.club
SUMMARY:Yuba City - STPA (canceled)
DESCRIPTION:Note – Ball Field locations on 2nd page of flyer.\nUnfortunately\, this tournament has been canceled.
URL:https://ncssa.club/event/yuba-city-8/
LOCATION:CA
CATEGORIES:Yuba City
END:VEVENT
BEGIN:VEVENT
DTSTART;VALUE=DATE:20201107
DTEND;VALUE=DATE:20201109
DTSTAMP:20260419T072019
CREATED:20200114T174416Z
LAST-MODIFIED:20200917T163650Z
UID:16054-1604707200-1604879999@ncssa.club
SUMMARY:Antioch/Concord (canceled)
DESCRIPTION:Unfortunately\, this tournament has been canceled.
URL:https://ncssa.club/event/antioch-concord-3/
LOCATION:CA
END:VEVENT
BEGIN:VEVENT
DTSTART;VALUE=DATE:20201029
DTEND;VALUE=DATE:20201031
DTSTAMP:20260419T072019
CREATED:20200114T174202Z
LAST-MODIFIED:20200917T163521Z
UID:16050-1603929600-1604102399@ncssa.club
SUMMARY:Manteca BLD (canceled)
DESCRIPTION:Unfortunately\, this tournament has been canceled.
URL:https://ncssa.club/event/manteca-bld-th-fri-5/
LOCATION:Manteca – Big League Dreams\, 1077 Milo Candini Dr\, Manteca\, CA\, 95337\, United States
CATEGORIES:Manteca
ORGANIZER;CN="John Reedy":MAILTO:jrbaldeagle@sbcglobal.net
END:VEVENT
BEGIN:VEVENT
DTSTART;VALUE=DATE:20201024
DTEND;VALUE=DATE:20201026
DTSTAMP:20260419T072019
CREATED:20200114T173949Z
LAST-MODIFIED:20200917T163348Z
UID:16046-1603497600-1603670399@ncssa.club
SUMMARY:Pleasanton (canceled)
DESCRIPTION:Unfortunately\, this tournament has been canceled.
URL:https://ncssa.club/event/pleasanton-24/
LOCATION:CA
CATEGORIES:Pleasanton
END:VEVENT
BEGIN:VEVENT
DTSTART;VALUE=DATE:20201010
DTEND;VALUE=DATE:20201012
DTSTAMP:20260419T072019
CREATED:20200114T173835Z
LAST-MODIFIED:20200917T163312Z
UID:16044-1602288000-1602460799@ncssa.club
SUMMARY:Antioch/Concord (canceled)
DESCRIPTION:Unfortunately\, this tournament has been canceled.
URL:https://ncssa.club/event/antioch-concord-2/
LOCATION:CA
END:VEVENT
BEGIN:VEVENT
DTSTART;VALUE=DATE:20200813
DTEND;VALUE=DATE:20200817
DTSTAMP:20260419T072019
CREATED:20200114T173413Z
LAST-MODIFIED:20200802T170345Z
UID:16036-1597276800-1597622399@ncssa.club
SUMMARY:Manteca BLD - NCSSA Hall of Fame (canceled)
DESCRIPTION:  \nThe NCSSA HoF Tournament scheduled for 8/13-8/16 has been cancelled due to the fact that the BLD facility will not be available for use during that time period.\nFor those teams that wish to have their entry fee checks returned\, please contact Don Weber at d.wever@aol.com by Friday August 7th.\nDon will shred all remaining checks after the 7th.
URL:https://ncssa.club/event/manteca-bld-ncssa-hall-of-fame/
LOCATION:Manteca – Big League Dreams\, 1077 Milo Candini Dr\, Manteca\, CA\, 95337\, United States
CATEGORIES:Manteca
END:VEVENT
BEGIN:VEVENT
DTSTART;VALUE=DATE:20200718
DTEND;VALUE=DATE:20200720
DTSTAMP:20260419T072019
CREATED:20200114T173105Z
LAST-MODIFIED:20200709T141210Z
UID:16030-1595030400-1595203199@ncssa.club
SUMMARY:Pleasanton - (canceled)
DESCRIPTION:The Pleasanton Tournament on July 18/19 has been canceled due to field not available.
URL:https://ncssa.club/event/pleasanton-23/
LOCATION:CA
CATEGORIES:Pleasanton
END:VEVENT
BEGIN:VEVENT
DTSTART;VALUE=DATE:20200618
DTEND;VALUE=DATE:20200620
DTSTAMP:20260419T072019
CREATED:20200602T155059Z
LAST-MODIFIED:20200616T223239Z
UID:16740-1592438400-1592611199@ncssa.club
SUMMARY:Ripon NCSSA Classic Thu/Fri - (canceled)
DESCRIPTION:Ripon Social Guidelines (click here) \nBracket A \nBracket B \nBracket C \nBracket D \nThe Ripon Tournament on June 18/19 has been canceled.\nSan Joaquin County is not going to allow adults or youth to play games this Week at Mistlin so we are cancelled at least through June 22.
URL:https://ncssa.club/event/ripon-thu-fri/
LOCATION:Ripon – Mistlin Sports Complex\, 1201 West River Rd\, Ripon\, CA\, 95366\, United States
ORGANIZER;CN="John Reedy":MAILTO:jrbaldeagle@sbcglobal.net
END:VEVENT
BEGIN:VEVENT
DTSTART;VALUE=DATE:20200606
DTEND;VALUE=DATE:20200608
DTSTAMP:20260419T072019
CREATED:20200114T172034Z
LAST-MODIFIED:20200527T155707Z
UID:16018-1591401600-1591574399@ncssa.club
SUMMARY:Pleasanton - (canceled)
DESCRIPTION:The Pleasanton Tournament for June 6/7 has been canceled due to lack of field availability.
URL:https://ncssa.club/event/pleasanton-22/
LOCATION:CA
CATEGORIES:Pleasanton
END:VEVENT
BEGIN:VEVENT
DTSTART;VALUE=DATE:20200509
DTEND;VALUE=DATE:20200510
DTSTAMP:20260419T072019
CREATED:20200111T195606Z
LAST-MODIFIED:20200428T152553Z
UID:15982-1588982400-1589068799@ncssa.club
SUMMARY:Pleasanton (1 day) - (canceled)
DESCRIPTION:The Pleasanton 1 Day Tournament on May 9th has been Canceled.
URL:https://ncssa.club/event/pleasanton-1-day-4/
LOCATION:CA
CATEGORIES:Pleasanton
END:VEVENT
BEGIN:VEVENT
DTSTART;VALUE=DATE:20200321
DTEND;VALUE=DATE:20200323
DTSTAMP:20260419T072019
CREATED:20200109T194137Z
LAST-MODIFIED:20200314T193706Z
UID:15936-1584748800-1584921599@ncssa.club
SUMMARY:Antioch-Concord - (canceled)
DESCRIPTION:This tournament has been canceled.
URL:https://ncssa.club/event/antioch-concord/
LOCATION:CA
END:VEVENT
BEGIN:VEVENT
DTSTART;VALUE=DATE:20200307
DTEND;VALUE=DATE:20200309
DTSTAMP:20260419T072019
CREATED:20200109T193936Z
LAST-MODIFIED:20200115T164126Z
UID:15932-1583539200-1583711999@ncssa.club
SUMMARY:Tracy - Spring Classic
DESCRIPTION:
URL:https://ncssa.club/event/tracy-11/
LOCATION:Tracy – Sports Complex\, 955 Crossroads Dr\, Tracy\, CA\, 95377\, United States
CATEGORIES:Tracy
ORGANIZER;CN="John Reedy":MAILTO:jrbaldeagle@sbcglobal.net
END:VEVENT
BEGIN:VEVENT
DTSTART;VALUE=DATE:20200305
DTEND;VALUE=DATE:20200307
DTSTAMP:20260419T072019
CREATED:20200109T193834Z
LAST-MODIFIED:20200228T171930Z
UID:15930-1583366400-1583539199@ncssa.club
SUMMARY:Manteca BLD (Th-Fri) - March Madness
DESCRIPTION:  \nBracket A \nBracket B \nBracket C \n 
URL:https://ncssa.club/event/manteca-bld-th-fri/
LOCATION:Manteca – Big League Dreams\, 1077 Milo Candini Dr\, Manteca\, CA\, 95337\, United States
CATEGORIES:Manteca
ORGANIZER;CN="John Reedy":MAILTO:jrbaldeagle@sbcglobal.net
END:VEVENT
BEGIN:VEVENT
DTSTART;VALUE=DATE:20200229
DTEND;VALUE=DATE:20200302
DTSTAMP:20260419T072019
CREATED:20200109T192815Z
LAST-MODIFIED:20200222T172924Z
UID:15926-1582934400-1583107199@ncssa.club
SUMMARY:Yuba City STPA - Spring Warm Up
DESCRIPTION:All Brackets (Gold\, Silver & Bronze) \n 
URL:https://ncssa.club/event/yuba-city-6/
LOCATION:CA
CATEGORIES:Yuba City
END:VEVENT
BEGIN:VEVENT
DTSTART;VALUE=DATE:20191212
DTEND;VALUE=DATE:20191216
DTSTAMP:20260419T072019
CREATED:20190816T155415Z
LAST-MODIFIED:20191205T175232Z
UID:15551-1576108800-1576454399@ncssa.club
SUMMARY:Manteca BLD - Winter Try Outs (canceled)
DESCRIPTION:This tournament has been canceled due to lack of fields.\nJohn Reedy\nTournament Director
URL:https://ncssa.club/event/manteca-bld-4/
LOCATION:Manteca – Big League Dreams\, 1077 Milo Candini Dr\, Manteca\, CA\, 95337\, United States
CATEGORIES:Manteca
ORGANIZER;CN="John Reedy":MAILTO:jrbaldeagle@sbcglobal.net
END:VEVENT
BEGIN:VEVENT
DTSTART;VALUE=DATE:20191109
DTEND;VALUE=DATE:20191111
DTSTAMP:20260419T072019
CREATED:20190125T195036Z
LAST-MODIFIED:20191112T161832Z
UID:12949-1573257600-1573430399@ncssa.club
SUMMARY:Tracy Turkey Trot - Moved to Ripon Nov 9/10
DESCRIPTION:Please Note – this tournament has moved to Ripon & changed dates to Nov 9/10. \nBracket A \nBracket B
URL:https://ncssa.club/event/tracy-10/
LOCATION:Ripon – Mistlin Sports Complex\, 1201 West River Rd\, Ripon\, CA\, 95366\, United States
ORGANIZER;CN="John Reedy":MAILTO:jrbaldeagle@sbcglobal.net
END:VEVENT
BEGIN:VEVENT
DTSTART;VALUE=DATE:20191109
DTEND;VALUE=DATE:20191111
DTSTAMP:20260419T072019
CREATED:20190125T185231Z
LAST-MODIFIED:20190911T140215Z
UID:12757-1573257600-1573430399@ncssa.club
SUMMARY:Dublin/Livermore (canceled)
DESCRIPTION:Tournament canceled due to field not available!
URL:https://ncssa.club/event/dublin-livermore-5/
LOCATION:CA
END:VEVENT
BEGIN:VEVENT
DTSTART;VALUE=DATE:20191031
DTEND;VALUE=DATE:20191102
DTSTAMP:20260419T072019
CREATED:20190912T163109Z
LAST-MODIFIED:20191024T162557Z
UID:15725-1572480000-1572652799@ncssa.club
SUMMARY:Manteca BLD - Trick or Treat Classic (canceled)
DESCRIPTION:Note – Tournament canceled. BLD closed for Halloween
URL:https://ncssa.club/event/manteca-bld-trick-or-treat-classic/
LOCATION:Manteca – Big League Dreams\, 1077 Milo Candini Dr\, Manteca\, CA\, 95337\, United States
CATEGORIES:Manteca
ORGANIZER;CN="John Reedy":MAILTO:jrbaldeagle@sbcglobal.net
END:VEVENT
BEGIN:VEVENT
DTSTART;VALUE=DATE:20191026
DTEND;VALUE=DATE:20191028
DTSTAMP:20260419T072019
CREATED:20190703T152355Z
LAST-MODIFIED:20191031T162615Z
UID:15257-1572048000-1572220799@ncssa.club
SUMMARY:STPA Sacramento - Fall Classic
DESCRIPTION:Blue & Red Brackets
URL:https://ncssa.club/event/sacramento-3/
LOCATION:Sacramento Softball Complex\, 3450 Longview Dr\, Sacramento\, CA\, 95821
CATEGORIES:Sacramento
END:VEVENT
BEGIN:VEVENT
DTSTART;VALUE=DATE:20191026
DTEND;VALUE=DATE:20191028
DTSTAMP:20260419T072019
CREATED:20190125T184659Z
LAST-MODIFIED:20191006T162443Z
UID:12735-1572048000-1572220799@ncssa.club
SUMMARY:Pleasanton - Halloween Classic (canceled)
DESCRIPTION:I was notified by the City of Pleasanton today that the Complex is unavailable until the end February\, 2020 due to renovation.
URL:https://ncssa.club/event/pleasanton-21/
LOCATION:CA
CATEGORIES:Pleasanton
END:VEVENT
BEGIN:VEVENT
DTSTART;VALUE=DATE:20191012
DTEND;VALUE=DATE:20191014
DTSTAMP:20260419T072019
CREATED:20190125T184025Z
LAST-MODIFIED:20190911T140052Z
UID:12711-1570838400-1571011199@ncssa.club
SUMMARY:Dublin/Livermore (canceled)
DESCRIPTION:Tournament canceled due to field not available!
URL:https://ncssa.club/event/dublin-livermore/
LOCATION:CA
END:VEVENT
BEGIN:VEVENT
DTSTART;VALUE=DATE:20190914
DTEND;VALUE=DATE:20190916
DTSTAMP:20260419T072019
CREATED:20190125T194705Z
LAST-MODIFIED:20190916T182407Z
UID:12941-1568419200-1568591999@ncssa.club
SUMMARY:Turlock - SSSA Fall Classic
DESCRIPTION:Bracket A \nBracket (rev-1) \nBracket C \nBracket D
URL:https://ncssa.club/event/turlock-10/
LOCATION:Turlock – Pedretti Park Sports Complex\, 2400 N Tegner Rd\, Turlock\, CA\, 95380\, United States
CATEGORIES:Turlock
ORGANIZER;CN="Don Angle":MAILTO:don.angle@aol.com
END:VEVENT
BEGIN:VEVENT
DTSTART;VALUE=DATE:20190907
DTEND;VALUE=DATE:20190909
DTSTAMP:20260419T072019
CREATED:20190125T194546Z
LAST-MODIFIED:20190913T164816Z
UID:12934-1567814400-1567987199@ncssa.club
SUMMARY:Medford\, OR - Rogue Valley
DESCRIPTION:  \nBracket Green \nBracket Red \nBracket Yellow \nAttached are administrative changes to 3 division. The Blue division changes Joe’s Sports Bar and Grill to a rank of 2 instead of 3 and gives runs accordingly; the Orange division changes the age of It’s 5 O’Clock Somewhere from 60 to 65 year old team; and the Purple division changes the Redwood City Goldrush from a 70 to a 75 year old team. I will notify teams of changes. \nHarry Purslow\nTournament Director \nBracket Blue (rev-2) \nBracket Orange (rev-1) \nBracket Purple (rev-1) \n 
URL:https://ncssa.club/event/medford-or-3/
LOCATION:Medford\, Oregon – U.S. Cellular Community Park\, 300 Lowry Lane\, Medford\, OR\, OR\, 97501\, United States
END:VEVENT
BEGIN:VEVENT
DTSTART;VALUE=DATE:20190907
DTEND;VALUE=DATE:20190909
DTSTAMP:20260419T072019
CREATED:20190125T194322Z
LAST-MODIFIED:20190821T163323Z
UID:12896-1567814400-1567987199@ncssa.club
SUMMARY:Manteca (canceled)
DESCRIPTION:
URL:https://ncssa.club/event/manteca-9/
LOCATION:Manteca – Northgate Softball Complex\, 1750 Hoyt Ln\, Manteca\, CA\, 95336\, United States
CATEGORIES:Manteca
END:VEVENT
BEGIN:VEVENT
DTSTART;VALUE=DATE:20190824
DTEND;VALUE=DATE:20190826
DTSTAMP:20260419T072019
CREATED:20190125T192955Z
LAST-MODIFIED:20190826T144606Z
UID:12882-1566604800-1566777599@ncssa.club
SUMMARY:Tracy - Summer Madness
DESCRIPTION:Bracket AA \nBracket BB (rev-1) \nBracket CC (rev-1) \nBracket DD (rev-1)
URL:https://ncssa.club/event/tracy-summer-madness-2/
LOCATION:Tracy – Sports Complex\, 955 Crossroads Dr\, Tracy\, CA\, 95377\, United States
CATEGORIES:Tracy
ORGANIZER;CN="John Reedy":MAILTO:jrbaldeagle@sbcglobal.net
END:VEVENT
BEGIN:VEVENT
DTSTART;VALUE=DATE:20190817
DTEND;VALUE=DATE:20190819
DTSTAMP:20260419T072019
CREATED:20190125T192539Z
LAST-MODIFIED:20190731T170012Z
UID:12866-1566000000-1566172799@ncssa.club
SUMMARY:Redwood City 39th Annual Senors (canceled)
DESCRIPTION:This tournament has been moved to August 17/18. \n \n  \nAs of Wednesday July 31st\, this tournament has been cancelled.
URL:https://ncssa.club/event/redwood-city-4/
LOCATION:Redwood City – Red Morton Community Park\, 1120 Roosevelt Ave\, Redwood City\, CA\, 94061\, United States
CATEGORIES:Redwood City
ORGANIZER;CN="Bill Picht":MAILTO:william.picht@att.net
END:VEVENT
END:VCALENDAR