BEGIN:VCALENDAR
VERSION:2.0
PRODID:-// - ECPv6.15.12.2//NONSGML v1.0//EN
CALSCALE:GREGORIAN
METHOD:PUBLISH
X-ORIGINAL-URL:https://ncssa.club
X-WR-CALDESC:Events for 
REFRESH-INTERVAL;VALUE=DURATION:PT1H
X-Robots-Tag:noindex
X-PUBLISHED-TTL:PT1H
BEGIN:VTIMEZONE
TZID:America/Los_Angeles
BEGIN:DAYLIGHT
TZOFFSETFROM:-0800
TZOFFSETTO:-0700
TZNAME:PDT
DTSTART:20150308T100000
END:DAYLIGHT
BEGIN:STANDARD
TZOFFSETFROM:-0700
TZOFFSETTO:-0800
TZNAME:PST
DTSTART:20151101T090000
END:STANDARD
BEGIN:DAYLIGHT
TZOFFSETFROM:-0800
TZOFFSETTO:-0700
TZNAME:PDT
DTSTART:20160313T100000
END:DAYLIGHT
BEGIN:STANDARD
TZOFFSETFROM:-0700
TZOFFSETTO:-0800
TZNAME:PST
DTSTART:20161106T090000
END:STANDARD
BEGIN:DAYLIGHT
TZOFFSETFROM:-0800
TZOFFSETTO:-0700
TZNAME:PDT
DTSTART:20170312T100000
END:DAYLIGHT
BEGIN:STANDARD
TZOFFSETFROM:-0700
TZOFFSETTO:-0800
TZNAME:PST
DTSTART:20171105T090000
END:STANDARD
BEGIN:DAYLIGHT
TZOFFSETFROM:-0800
TZOFFSETTO:-0700
TZNAME:PDT
DTSTART:20180311T100000
END:DAYLIGHT
BEGIN:STANDARD
TZOFFSETFROM:-0700
TZOFFSETTO:-0800
TZNAME:PST
DTSTART:20181104T090000
END:STANDARD
END:VTIMEZONE
BEGIN:VEVENT
DTSTART;VALUE=DATE:20170701
DTEND;VALUE=DATE:20170703
DTSTAMP:20260419T204112
CREATED:20170102T192929Z
LAST-MODIFIED:20170709T174138Z
UID:5022-1498867200-1499039999@ncssa.club
SUMMARY:Twin Creeks\, Sunnyvale - 2nd Annual Fire Cracker Classic
DESCRIPTION:  \n  \n  \nGold Division REVISED 6.25.17
URL:https://ncssa.club/event/twin-creeks-sunnyvale-2/
LOCATION:Sunnyvale – Twin Creeks Sports Complex\, 969 E Caribbean Dr\, Sunnyvale\, CA\, 94089\, United States
CATEGORIES:Sunnyvale
END:VEVENT
BEGIN:VEVENT
DTSTART;VALUE=DATE:20170204
DTEND;VALUE=DATE:20170205
DTSTAMP:20260419T204112
CREATED:20161229T004705Z
LAST-MODIFIED:20170206T220806Z
UID:4935-1486166400-1486252799@ncssa.club
SUMMARY:Twin Creeks\, Sunnyvale (1 day)
DESCRIPTION:  \n  \n  \nFeb 4 Twin Creeks – Bracket\n \n  \n  \n  \n 
URL:https://ncssa.club/event/twin-creeks-sunnyvale-1-day/
LOCATION:Sunnyvale – Twin Creeks Sports Complex\, 969 E Caribbean Dr\, Sunnyvale\, CA\, 94089\, United States
CATEGORIES:Sunnyvale
END:VEVENT
BEGIN:VEVENT
DTSTART;VALUE=DATE:20160702
DTEND;VALUE=DATE:20160704
DTSTAMP:20260419T204112
CREATED:20160130T184033Z
LAST-MODIFIED:20160706T195521Z
UID:2303-1467417600-1467590399@ncssa.club
SUMMARY:Sunnyvale - Fire Cracker Classic
DESCRIPTION:Flyer Twin Creeks-July 2\,3 \nBlue Division revised June 27 \nGold Division revised June 29 \nRed Division revised June 29 \nGold Division Results \nRed Division Results \nBlue Division Results \n 
URL:https://ncssa.club/event/twin-creeks-sunnyvale/
LOCATION:Sunnyvale – Twin Creeks Sports Complex\, 969 E Caribbean Dr\, Sunnyvale\, CA\, 94089\, United States
CATEGORIES:Sunnyvale
END:VEVENT
END:VCALENDAR