BEGIN:VCALENDAR
VERSION:2.0
PRODID:-// - ECPv6.15.12.2//NONSGML v1.0//EN
CALSCALE:GREGORIAN
METHOD:PUBLISH
X-ORIGINAL-URL:https://ncssa.club
X-WR-CALDESC:Events for 
REFRESH-INTERVAL;VALUE=DURATION:PT1H
X-Robots-Tag:noindex
X-PUBLISHED-TTL:PT1H
BEGIN:VTIMEZONE
TZID:America/Los_Angeles
BEGIN:DAYLIGHT
TZOFFSETFROM:-0800
TZOFFSETTO:-0700
TZNAME:PDT
DTSTART:20160313T100000
END:DAYLIGHT
BEGIN:STANDARD
TZOFFSETFROM:-0700
TZOFFSETTO:-0800
TZNAME:PST
DTSTART:20161106T090000
END:STANDARD
BEGIN:DAYLIGHT
TZOFFSETFROM:-0800
TZOFFSETTO:-0700
TZNAME:PDT
DTSTART:20170312T100000
END:DAYLIGHT
BEGIN:STANDARD
TZOFFSETFROM:-0700
TZOFFSETTO:-0800
TZNAME:PST
DTSTART:20171105T090000
END:STANDARD
BEGIN:DAYLIGHT
TZOFFSETFROM:-0800
TZOFFSETTO:-0700
TZNAME:PDT
DTSTART:20180311T100000
END:DAYLIGHT
BEGIN:STANDARD
TZOFFSETFROM:-0700
TZOFFSETTO:-0800
TZNAME:PST
DTSTART:20181104T090000
END:STANDARD
BEGIN:DAYLIGHT
TZOFFSETFROM:-0800
TZOFFSETTO:-0700
TZNAME:PDT
DTSTART:20190310T100000
END:DAYLIGHT
BEGIN:STANDARD
TZOFFSETFROM:-0700
TZOFFSETTO:-0800
TZNAME:PST
DTSTART:20191103T090000
END:STANDARD
BEGIN:DAYLIGHT
TZOFFSETFROM:-0800
TZOFFSETTO:-0700
TZNAME:PDT
DTSTART:20200308T100000
END:DAYLIGHT
BEGIN:STANDARD
TZOFFSETFROM:-0700
TZOFFSETTO:-0800
TZNAME:PST
DTSTART:20201101T090000
END:STANDARD
BEGIN:DAYLIGHT
TZOFFSETFROM:-0800
TZOFFSETTO:-0700
TZNAME:PDT
DTSTART:20210314T100000
END:DAYLIGHT
BEGIN:STANDARD
TZOFFSETFROM:-0700
TZOFFSETTO:-0800
TZNAME:PST
DTSTART:20211107T090000
END:STANDARD
BEGIN:DAYLIGHT
TZOFFSETFROM:-0800
TZOFFSETTO:-0700
TZNAME:PDT
DTSTART:20220313T100000
END:DAYLIGHT
BEGIN:STANDARD
TZOFFSETFROM:-0700
TZOFFSETTO:-0800
TZNAME:PST
DTSTART:20221106T090000
END:STANDARD
BEGIN:DAYLIGHT
TZOFFSETFROM:-0800
TZOFFSETTO:-0700
TZNAME:PDT
DTSTART:20230312T100000
END:DAYLIGHT
BEGIN:STANDARD
TZOFFSETFROM:-0700
TZOFFSETTO:-0800
TZNAME:PST
DTSTART:20231105T090000
END:STANDARD
END:VTIMEZONE
BEGIN:VEVENT
DTSTART;VALUE=DATE:20220521
DTEND;VALUE=DATE:20220523
DTSTAMP:20260421T045547
CREATED:20220125T183004Z
LAST-MODIFIED:20220525T150640Z
UID:18948-1653091200-1653263999@ncssa.club
SUMMARY:Manteca - Animals Invitational
DESCRIPTION:Bracket A (rev-1)\nBracket B
URL:https://ncssa.club/event/manteca-11/
LOCATION:Manteca – Northgate Softball Complex\, 1750 Hoyt Ln\, Manteca\, CA\, 95336\, United States
CATEGORIES:Manteca
ORGANIZER;CN="Don Angle":MAILTO:don.angle@aol.com
END:VEVENT
BEGIN:VEVENT
DTSTART;VALUE=DATE:20220505
DTEND;VALUE=DATE:20220507
DTSTAMP:20260421T045547
CREATED:20220125T181752Z
LAST-MODIFIED:20220508T161907Z
UID:18944-1651708800-1651881599@ncssa.club
SUMMARY:Manteca BLD (Thu\, Fri) - Mothers Day Classic
DESCRIPTION:BIG LEAGUE DREAMS SPORTS PARK ACKNOWLEDGEMENT\nAND ASSUMPTION OF RISK\, RELEASE\, WAIVER AND INDEMNITY\nTournament Team Form (click here)\nRevised Brackets\, original post deleted.\nBracket A\nBracket B\nBracket C (rev 2)
URL:https://ncssa.club/event/manteca-bld-thu-fri-3/
LOCATION:Manteca – Big League Dreams\, 1077 Milo Candini Dr\, Manteca\, CA\, 95337\, United States
CATEGORIES:Manteca
ORGANIZER;CN="John Reedy":MAILTO:jrbaldeagle@sbcglobal.net
END:VEVENT
BEGIN:VEVENT
DTSTART;VALUE=DATE:20220414
DTEND;VALUE=DATE:20220416
DTSTAMP:20260421T045547
CREATED:20220124T175241Z
LAST-MODIFIED:20220420T210635Z
UID:18931-1649894400-1650067199@ncssa.club
SUMMARY:Manteca BLD (Thu\, Friday) - Easter Ball Hunt
DESCRIPTION:BIG LEAGUE DREAMS SPORTS PARK ACKNOWLEDGEMENT\nAND ASSUMPTION OF RISK\, RELEASE\, WAIVER AND INDEMNITY\nTournament Team Form (click here)\nBracket AA\nBracket BB\nBracket EGG
URL:https://ncssa.club/event/manteca-bld-thu-fri-2/
LOCATION:Manteca – Big League Dreams\, 1077 Milo Candini Dr\, Manteca\, CA\, 95337\, United States
CATEGORIES:Manteca
ORGANIZER;CN="John Reedy":MAILTO:jrbaldeagle@sbcglobal.net
END:VEVENT
BEGIN:VEVENT
DTSTART;VALUE=DATE:20220303
DTEND;VALUE=DATE:20220305
DTSTAMP:20260421T045547
CREATED:20220124T173622Z
LAST-MODIFIED:20220308T173112Z
UID:18916-1646265600-1646438399@ncssa.club
SUMMARY:Manteca BLD (Thu\, Fri)
DESCRIPTION:BIG LEAGUE DREAMS SPORTS PARK ACKNOWLEDGEMENT\nAND ASSUMPTION OF RISK\, RELEASE\, WAIVER AND INDEMNITY\nTournament Team Form (click here)\nBracket A\nBracket B\nBracket C\nBracket D
URL:https://ncssa.club/event/manteca-bld-thu-fri/
LOCATION:Manteca – Big League Dreams\, 1077 Milo Candini Dr\, Manteca\, CA\, 95337\, United States
CATEGORIES:Manteca
ORGANIZER;CN="John Reedy":MAILTO:jrbaldeagle@sbcglobal.net
END:VEVENT
BEGIN:VEVENT
DTSTART;TZID=America/Los_Angeles:20211204T100000
DTEND;TZID=America/Los_Angeles:20211204T120000
DTSTAMP:20260421T045547
CREATED:20210918T162549Z
LAST-MODIFIED:20211125T174459Z
UID:18571-1638612000-1638619200@ncssa.club
SUMMARY:Annual Membership Meeting
DESCRIPTION:Please Note – bring a copy of the agenda\, current rules and by-laws with you to the meeting.\nNCSSA General Meeting Agenda – (click here) \nNCSSA Members \nThe Annual General Meeting will be held at the Manteca City Council Chambers\, 1001 W Center St\, Manteca\,CA. 95337\, at 10:00am Saturday\, December 4\, 2021.\nThis meeting is held only one time each year for the General membership. There will be elections for the 5 Regions\, 3 for each Region\, who will be the next years Board of Directors. \nEveryone is encouraged to attend\, with special emphasis on the managers and assistant managers. Each team attending will be allowed 1 vote per team on any rule change or deviation from the current rules or procedures. Remember\, all rules and procedures can be added or changed only by a Team Representative attending the meeting. \nTopics of interest and discussion this year will center on Tournament Venues; Rules comparison with SSUSA rules; types and models of softballs to be used; and the 1-1 count. The floor will be open for discussion on any item brought forth that is relevant to our game. \nManagers\, this is your opportunity to voice your concerns\, action or change can come from it. Please ensure that you attend or send a representative for you. \nSee you at the meeting in Dec 4th. \n  \n 
URL:https://ncssa.club/event/annual-membership-meeting/
LOCATION:CA
CATEGORIES:Manteca
END:VEVENT
BEGIN:VEVENT
DTSTART;VALUE=DATE:20210902
DTEND;VALUE=DATE:20210904
DTSTAMP:20260421T045547
CREATED:20200114T173617Z
LAST-MODIFIED:20210904T162315Z
UID:16040-1630540800-1630713599@ncssa.club
SUMMARY:Manteca BLD (Th-Fr)
DESCRIPTION:BIG LEAGUE DREAMS SPORTS PARK ACKNOWLEDGEMENT\nAND ASSUMPTION OF RISK\, RELEASE\, WAIVER AND INDEMNITY\nTournament Waiver Form (click here)\nBracket A \nBracket B \nBracket C
URL:https://ncssa.club/event/manteca-bld-th-fri-4/
LOCATION:Manteca – Big League Dreams\, 1077 Milo Candini Dr\, Manteca\, CA\, 95337\, United States
CATEGORIES:Manteca
ORGANIZER;CN="John Reedy":MAILTO:jrbaldeagle@sbcglobal.net
END:VEVENT
BEGIN:VEVENT
DTSTART;VALUE=DATE:20210812
DTEND;VALUE=DATE:20210816
DTSTAMP:20260421T045547
CREATED:20210108T002833Z
LAST-MODIFIED:20210817T003108Z
UID:17022-1628726400-1629071999@ncssa.club
SUMMARY:Manteca BLD NCSSA Hall of Fame
DESCRIPTION:BLD Park Clarification for Tournaments – (click here)\nBIG LEAGUE DREAMS SPORTS PARK ACKNOWLEDGEMENT\nAND ASSUMPTION OF RISK\, RELEASE\, WAIVER AND INDEMNITY\nTournament Waiver Form (click here)\n“For Clarification: Coolers may be brought in with water\, ice and fresh fruit. A City ordinance prohibits RV parking on city owned property so parking is at your own risk and must be on the perimeter of the parking lot \, not taking any parking spots.”\nBracket – Black \nBracket – Blue \nBracket – Gold \nBracket – Orange \nBracket – Platinum \nBracket – Red \nBracket – White \nBracket – Gray (rev) \nBracket – Purple (rev) \nBracket – Yellow (rev)
URL:https://ncssa.club/event/manteca-bld-ncssa-hof/
LOCATION:Manteca – Big League Dreams\, 1077 Milo Candini Dr\, Manteca\, CA\, 95337\, United States
CATEGORIES:Manteca
END:VEVENT
BEGIN:VEVENT
DTSTART;VALUE=DATE:20210701
DTEND;VALUE=DATE:20210703
DTSTAMP:20260421T045547
CREATED:20200114T172924Z
LAST-MODIFIED:20210704T160633Z
UID:16026-1625097600-1625270399@ncssa.club
SUMMARY:Manteca BLD (Th-Fri)
DESCRIPTION:BIG LEAGUE DREAMS SPORTS PARK ACKNOWLEDGEMENT\nAND ASSUMPTION OF RISK\, RELEASE\, WAIVER AND INDEMNITY\nTournament Waiver Form (click here)\nBracket A \nBracket B \nBracket C \nBracket D \nRevised results\, In Bracket B the Champions are Nor Cal 70’s not Lincoln Hills Coyotes 70’s.
URL:https://ncssa.club/event/manteca-bld-th-fri-3/
LOCATION:Manteca – Big League Dreams\, 1077 Milo Candini Dr\, Manteca\, CA\, 95337\, United States
CATEGORIES:Manteca
ORGANIZER;CN="John Reedy":MAILTO:jrbaldeagle@sbcglobal.net
END:VEVENT
BEGIN:VEVENT
DTSTART;VALUE=DATE:20210515
DTEND;VALUE=DATE:20210517
DTSTAMP:20260421T045547
CREATED:20200111T195809Z
LAST-MODIFIED:20210421T232749Z
UID:15986-1621036800-1621209599@ncssa.club
SUMMARY:Manteca Animals Invitational - (canceled)
DESCRIPTION:Unfortunately\, this tournament has been canceled due to fields not available.
URL:https://ncssa.club/event/manteca-10/
LOCATION:Manteca – Northgate Softball Complex\, 1750 Hoyt Ln\, Manteca\, CA\, 95336\, United States
CATEGORIES:Manteca
ORGANIZER;CN="Don Angle":MAILTO:don.angle@aol.com
END:VEVENT
BEGIN:VEVENT
DTSTART;VALUE=DATE:20210506
DTEND;VALUE=DATE:20210508
DTSTAMP:20260421T045547
CREATED:20210108T180025Z
LAST-MODIFIED:20210510T153754Z
UID:17033-1620259200-1620431999@ncssa.club
SUMMARY:Manteca BLD (Th\, Fr)
DESCRIPTION:BIG LEAGUE DREAMS SPORTS PARK ACKNOWLEDGEMENT\nAND ASSUMPTION OF RISK\, RELEASE\, WAIVER AND INDEMNITY\nTournament Waiver Form (click here)\nBracket A \nBracket B (rev-3) \nBracket C \nBracket D \nBracket E \n2021 NCSSA Covid RULES AND RECOMMENDATIONS\n  \nFor Bracket C\, the scores were correct but wrong team names. 
URL:https://ncssa.club/event/manteca-bld-th-fr-5/
LOCATION:Manteca – Big League Dreams\, 1077 Milo Candini Dr\, Manteca\, CA\, 95337\, United States
CATEGORIES:Manteca
ORGANIZER;CN="John Reedy":MAILTO:jrbaldeagle@sbcglobal.net
END:VEVENT
BEGIN:VEVENT
DTSTART;VALUE=DATE:20210408
DTEND;VALUE=DATE:20210410
DTSTAMP:20260421T045547
CREATED:20200111T195052Z
LAST-MODIFIED:20210421T231942Z
UID:15970-1617840000-1618012799@ncssa.club
SUMMARY:Manteca BLD (Th-Fri)
DESCRIPTION:BLD Park Clarification for Tournaments – Must Read\nBracket A \nBracket B \nBracket C \nBracket D \nBIG LEAGUE DREAMS SPORTS PARK ACKNOWLEDGEMENT\nAND ASSUMPTION OF RISK\, RELEASE\, WAIVER AND INDEMNITY\nTournament Waiver Form (click here)
URL:https://ncssa.club/event/manteca-bld-th-fri-2/
LOCATION:Manteca – Big League Dreams\, 1077 Milo Candini Dr\, Manteca\, CA\, 95337\, United States
CATEGORIES:Manteca
ORGANIZER;CN="John Reedy":MAILTO:jrbaldeagle@sbcglobal.net
END:VEVENT
BEGIN:VEVENT
DTSTART;VALUE=DATE:20210304
DTEND;VALUE=DATE:20210306
DTSTAMP:20260421T045547
CREATED:20210107T185127Z
LAST-MODIFIED:20210219T160229Z
UID:16983-1614816000-1614988799@ncssa.club
SUMMARY:Manteca BLD (Th\,Fr) (canceled)
DESCRIPTION:Unfortunately\, this tournament has been canceled.
URL:https://ncssa.club/event/manteca-bld-thfr/
LOCATION:Manteca – Big League Dreams\, 1077 Milo Candini Dr\, Manteca\, CA\, 95337\, United States
CATEGORIES:Manteca
ORGANIZER;CN="John Reedy":MAILTO:jrbaldeagle@sbcglobal.net
END:VEVENT
BEGIN:VEVENT
DTSTART;VALUE=DATE:20201029
DTEND;VALUE=DATE:20201031
DTSTAMP:20260421T045547
CREATED:20200114T174202Z
LAST-MODIFIED:20200917T163521Z
UID:16050-1603929600-1604102399@ncssa.club
SUMMARY:Manteca BLD (canceled)
DESCRIPTION:Unfortunately\, this tournament has been canceled.
URL:https://ncssa.club/event/manteca-bld-th-fri-5/
LOCATION:Manteca – Big League Dreams\, 1077 Milo Candini Dr\, Manteca\, CA\, 95337\, United States
CATEGORIES:Manteca
ORGANIZER;CN="John Reedy":MAILTO:jrbaldeagle@sbcglobal.net
END:VEVENT
BEGIN:VEVENT
DTSTART;VALUE=DATE:20200813
DTEND;VALUE=DATE:20200817
DTSTAMP:20260421T045547
CREATED:20200114T173413Z
LAST-MODIFIED:20200802T170345Z
UID:16036-1597276800-1597622399@ncssa.club
SUMMARY:Manteca BLD - NCSSA Hall of Fame (canceled)
DESCRIPTION:  \nThe NCSSA HoF Tournament scheduled for 8/13-8/16 has been cancelled due to the fact that the BLD facility will not be available for use during that time period.\nFor those teams that wish to have their entry fee checks returned\, please contact Don Weber at d.wever@aol.com by Friday August 7th.\nDon will shred all remaining checks after the 7th.
URL:https://ncssa.club/event/manteca-bld-ncssa-hall-of-fame/
LOCATION:Manteca – Big League Dreams\, 1077 Milo Candini Dr\, Manteca\, CA\, 95337\, United States
CATEGORIES:Manteca
END:VEVENT
BEGIN:VEVENT
DTSTART;VALUE=DATE:20200305
DTEND;VALUE=DATE:20200307
DTSTAMP:20260421T045547
CREATED:20200109T193834Z
LAST-MODIFIED:20200228T171930Z
UID:15930-1583366400-1583539199@ncssa.club
SUMMARY:Manteca BLD (Th-Fri) - March Madness
DESCRIPTION:  \nBracket A \nBracket B \nBracket C \n 
URL:https://ncssa.club/event/manteca-bld-th-fri/
LOCATION:Manteca – Big League Dreams\, 1077 Milo Candini Dr\, Manteca\, CA\, 95337\, United States
CATEGORIES:Manteca
ORGANIZER;CN="John Reedy":MAILTO:jrbaldeagle@sbcglobal.net
END:VEVENT
BEGIN:VEVENT
DTSTART;VALUE=DATE:20191212
DTEND;VALUE=DATE:20191216
DTSTAMP:20260421T045547
CREATED:20190816T155415Z
LAST-MODIFIED:20191205T175232Z
UID:15551-1576108800-1576454399@ncssa.club
SUMMARY:Manteca BLD - Winter Try Outs (canceled)
DESCRIPTION:This tournament has been canceled due to lack of fields.\nJohn Reedy\nTournament Director
URL:https://ncssa.club/event/manteca-bld-4/
LOCATION:Manteca – Big League Dreams\, 1077 Milo Candini Dr\, Manteca\, CA\, 95337\, United States
CATEGORIES:Manteca
ORGANIZER;CN="John Reedy":MAILTO:jrbaldeagle@sbcglobal.net
END:VEVENT
BEGIN:VEVENT
DTSTART;VALUE=DATE:20191031
DTEND;VALUE=DATE:20191102
DTSTAMP:20260421T045547
CREATED:20190912T163109Z
LAST-MODIFIED:20191024T162557Z
UID:15725-1572480000-1572652799@ncssa.club
SUMMARY:Manteca BLD - Trick or Treat Classic (canceled)
DESCRIPTION:Note – Tournament canceled. BLD closed for Halloween
URL:https://ncssa.club/event/manteca-bld-trick-or-treat-classic/
LOCATION:Manteca – Big League Dreams\, 1077 Milo Candini Dr\, Manteca\, CA\, 95337\, United States
CATEGORIES:Manteca
ORGANIZER;CN="John Reedy":MAILTO:jrbaldeagle@sbcglobal.net
END:VEVENT
BEGIN:VEVENT
DTSTART;VALUE=DATE:20190907
DTEND;VALUE=DATE:20190909
DTSTAMP:20260421T045547
CREATED:20190125T194322Z
LAST-MODIFIED:20190821T163323Z
UID:12896-1567814400-1567987199@ncssa.club
SUMMARY:Manteca (canceled)
DESCRIPTION:
URL:https://ncssa.club/event/manteca-9/
LOCATION:Manteca – Northgate Softball Complex\, 1750 Hoyt Ln\, Manteca\, CA\, 95336\, United States
CATEGORIES:Manteca
END:VEVENT
BEGIN:VEVENT
DTSTART;VALUE=DATE:20190808
DTEND;VALUE=DATE:20190812
DTSTAMP:20260421T045547
CREATED:20190125T192743Z
LAST-MODIFIED:20190813T141158Z
UID:12873-1565222400-1565567999@ncssa.club
SUMMARY:Manteca - NCSSA Hall of Fame
DESCRIPTION:Thursday & Friday Brackets\nBracket A \nBracket B \nBracket C \nBracket D (rev-1) \n\nSaturday & Sunday Brackets\nBracket AA (rev-1) \nBracket BB \nBracket CC \nBracket DD \nBracket EE (rev-1) \nBracket FF \n\n \n  \n  \n  \n\nTo all Tournament Teams\,\nBelow is a copy of the tournament liability release waiver form for 2019. Due to the ever increasing number of law suits our corporate legal staff is cracking down and requiring that these waivers be complete filled out and turned into the park before teams participate in your events. Games will have to be held up until all waivers are collected. Please be one of the good guys and either you or someone in your organization collect these waivers and turn them in to our daytime coordinators. \nThanks. \nRoy Fetherolf\nGeneral Manager\nBig League Dreams Sports Park\n1077 Milo Candini Drive\nManteca\, CA 95337\n209-824-2400 Ext 101\n209-824-2442 Fax \nTournament Liability Release Waiver (click here)
URL:https://ncssa.club/event/manteca-ncssa-hall-of-fame-4/
LOCATION:Manteca – Big League Dreams\, 1077 Milo Candini Dr\, Manteca\, CA\, 95337\, United States
CATEGORIES:Manteca
ORGANIZER;CN="John Reedy":MAILTO:jrbaldeagle@sbcglobal.net
END:VEVENT
BEGIN:VEVENT
DTSTART;VALUE=DATE:20190613
DTEND;VALUE=DATE:20190615
DTSTAMP:20260421T045547
CREATED:20190125T182655Z
LAST-MODIFIED:20190704T214241Z
UID:12647-1560384000-1560556799@ncssa.club
SUMMARY:Manteca BLD (Th-Fr)
DESCRIPTION:Bracket A \nBracket B \n \n\n\n\n\n\nTo all Tournament Teams\,\nBelow is a copy of the tournament liability release waiver form for 2019. Due to the ever increasing number of law suits our corporate legal staff is cracking down and requiring that these waivers be complete filled out and turned into the park before teams participate in your events. Games will have to be held up until all waivers are collected. Please be one of the good guys and either you or someone in your organization collect these waivers and turn them in to our daytime coordinators. \nThanks. \nRoy Fetherolf\nGeneral Manager\nBig League Dreams Sports Park\n1077 Milo Candini Drive\nManteca\, CA 95337\n209-824-2400 Ext 101\n209-824-2442 Fax \nTournament Liability Release Waiver (click here)
URL:https://ncssa.club/event/manteca-bld-th-fr-4/
LOCATION:Manteca – Big League Dreams\, 1077 Milo Candini Dr\, Manteca\, CA\, 95337\, United States
CATEGORIES:Manteca
ORGANIZER;CN="John Reedy":MAILTO:jrbaldeagle@sbcglobal.net
END:VEVENT
BEGIN:VEVENT
DTSTART;VALUE=DATE:20190518
DTEND;VALUE=DATE:20190520
DTSTAMP:20260421T045547
CREATED:20190125T191202Z
LAST-MODIFIED:20190517T235907Z
UID:12813-1558137600-1558310399@ncssa.club
SUMMARY:Manteca - Animals Invitational (canceled)
DESCRIPTION:Group A \nGroup B \nGroup C \nThe Manteca tourney is canceled\, the fields at Northgate will not improve with expected additional rain this weekend. Thanks to all who have entered.\nDon Angle\nTournament Director
URL:https://ncssa.club/event/manteca-8/
LOCATION:Manteca – Northgate Softball Complex\, 1750 Hoyt Ln\, Manteca\, CA\, 95336\, United States
CATEGORIES:Manteca
ORGANIZER;CN="Don Angle":MAILTO:don.angle@aol.com
END:VEVENT
BEGIN:VEVENT
DTSTART;VALUE=DATE:20190509
DTEND;VALUE=DATE:20190511
DTSTAMP:20260421T045547
CREATED:20190125T182507Z
LAST-MODIFIED:20190503T155421Z
UID:12632-1557360000-1557532799@ncssa.club
SUMMARY:Manteca BLD - Canceled
DESCRIPTION:As of Friday May 3rd\, this tournament has been cancelled.\nJohn Reedy\nTournament Director\n\nTo all Tournament Teams\,\nBelow is a copy of the tournament liability release waiver form for 2019. Due to the ever increasing number of law suits our corporate legal staff is cracking down and requiring that these waivers be complete filled out and turned into the park before teams participate in your events. Games will have to be held up until all waivers are collected. Please be one of the good guys and either you or someone in your organization collect these waivers and turn them in to our daytime coordinators. \nThanks. \nRoy Fetherolf\nGeneral Manager\nBig League Dreams Sports Park\n1077 Milo Candini Drive\nManteca\, CA 95337\n209-824-2400 Ext 101\n209-824-2442 Fax \nTournament Liability Release Waiver (click here)
URL:https://ncssa.club/event/manteca-bld-th-fr-3/
LOCATION:Manteca – Big League Dreams\, 1077 Milo Candini Dr\, Manteca\, CA\, 95337\, United States
CATEGORIES:Manteca
ORGANIZER;CN="John Reedy":MAILTO:jrbaldeagle@sbcglobal.net
END:VEVENT
BEGIN:VEVENT
DTSTART;VALUE=DATE:20190418
DTEND;VALUE=DATE:20190420
DTSTAMP:20260421T045547
CREATED:20190125T180924Z
LAST-MODIFIED:20190421T161455Z
UID:12545-1555545600-1555718399@ncssa.club
SUMMARY:Manteca BLD (Th-Fr)
DESCRIPTION:Bracket AA (rev-1) \nBracket BB \nBracket CC (rev-2) \nBracket DD (rev-1) \n \n \nTo all Tournament Teams\,\nBelow is a copy of the tournament liability release waiver form for 2019. Due to the ever increasing number of law suits our corporate legal staff is cracking down and requiring that these waivers be complete filled out and turned into the park before teams participate in your events. Games will have to be held up until all waivers are collected. Please be one of the good guys and either you or someone in your organization collect these waivers and turn them in to our daytime coordinators. \nThanks. \nRoy Fetherolf\nGeneral Manager\nBig League Dreams Sports Park\n1077 Milo Candini Drive\nManteca\, CA 95337\n209-824-2400 Ext 101\n209-824-2442 Fax \nTournament Liability Release Waiver (click here)
URL:https://ncssa.club/event/manteca-bld-th-fr-2/
LOCATION:Manteca – Big League Dreams\, 1077 Milo Candini Dr\, Manteca\, CA\, 95337\, United States
CATEGORIES:Manteca
ORGANIZER;CN="John Reedy":MAILTO:jrbaldeagle@sbcglobal.net
END:VEVENT
BEGIN:VEVENT
DTSTART;VALUE=DATE:20190307
DTEND;VALUE=DATE:20190309
DTSTAMP:20260421T045547
CREATED:20190122T204140Z
LAST-MODIFIED:20190311T161958Z
UID:12269-1551916800-1552089599@ncssa.club
SUMMARY:Manteca\, BLD (1 day)
DESCRIPTION:  \n\n\n\n\n\nThe Manteca BLD Tournament has been changed to a 1 day tournament on Friday March 8th. \nBrackets A & B replaced with BB. I kept all starting time same except “WHO”\nBracket BB \nBracket C \nResults Bracket BB \nResults Bracket C \n 
URL:https://ncssa.club/event/manteca-bld-th-fr/
LOCATION:Manteca – Big League Dreams\, 1077 Milo Candini Dr\, Manteca\, CA\, 95337\, United States
CATEGORIES:Manteca
ORGANIZER;CN="John Reedy":MAILTO:jrbaldeagle@sbcglobal.net
END:VEVENT
BEGIN:VEVENT
DTSTART;TZID=America/Los_Angeles:20181201T100000
DTEND;TZID=America/Los_Angeles:20181201T120000
DTSTAMP:20260421T045547
CREATED:20181112T185239Z
LAST-MODIFIED:20181112T185303Z
UID:11817-1543658400-1543665600@ncssa.club
SUMMARY:NCSSA General Meeting in Manteca
DESCRIPTION:  \nThe General Meeting is scheduled for:\nSaturday December 1\, 2018 at 10:00 AM\nManteca City Council Chambers\n1001 West Center Street\nManteca\, CA\n 
URL:https://ncssa.club/event/ncssa-general-meeting/
LOCATION:CA
CATEGORIES:Manteca
END:VEVENT
BEGIN:VEVENT
DTSTART;VALUE=DATE:20180915
DTEND;VALUE=DATE:20180917
DTSTAMP:20260421T045547
CREATED:20180120T173329Z
LAST-MODIFIED:20180912T153106Z
UID:9418-1536969600-1537142399@ncssa.club
SUMMARY:Manteca - Parks & Rec (canceled)
DESCRIPTION:Canceled Sept 6th due to lack of teams.
URL:https://ncssa.club/event/manteca-7/
LOCATION:Manteca – Northgate Softball Complex\, 1750 Hoyt Ln\, Manteca\, CA\, 95336\, United States
CATEGORIES:Manteca
END:VEVENT
BEGIN:VEVENT
DTSTART;VALUE=DATE:20180809
DTEND;VALUE=DATE:20180813
DTSTAMP:20260421T045547
CREATED:20180120T172822Z
LAST-MODIFIED:20180814T153446Z
UID:9408-1533772800-1534118399@ncssa.club
SUMMARY:Manteca - Hall of Fame
DESCRIPTION:To all Tournament Teams\,\nBelow is a copy of the tournament liability release waiver form for 2018. Due to the ever increasing number of law suits our corporate legal staff is cracking down and requiring that these waivers be complete filled out and turned into the park before teams participate in your events. Games will have to be held up until all waivers are collected. Please be one of the good guys and either you or someone in your organization collect these waivers and turn them in to our daytime coordinators. \n  \nThanks. \nRoy Fetherolf\nGeneral Manager\nBig League Dreams Sports Park\n1077 Milo Candini Drive\nManteca\, CA 95337\n209-824-2400 Ext 101\n209-824-2442 Fax \nTournament Liability Release Waiver (click here) \n \n  \n  \n  \n  \n  \n  \n==============================================================================\nHere’s a list of teams for the 2018 NCSSA Tournament as of July 31st. \nContact John Reedy (jrbaldeagle@sbcglobal.net) if you don’t see your team listed. \nHOF Teams as of July 31 (click here) \n============================================================================== \nBrackets for Thursday & Friday \nGeneral Information (All Read)\nBracket A\nBracket B\nBracket C\nBracket D (rev 8/6)\nBracket E\nBracket F (rev 8/6) \n \n  \n  \n  \n============================================================================== \nBrackets for Saturday & Sunday \nGeneral Information (All Read)\nBracket AA (rev 8-9)\nBracket BB (rev 8-7)\nBracket CC (rev 8-7)\nBracket DD\nBracket EE\nBracket FF \n \n  \n  \n  \n==================================================================================
URL:https://ncssa.club/event/manteca-hall-of-fame/
LOCATION:Manteca – Big League Dreams\, 1077 Milo Candini Dr\, Manteca\, CA\, 95337\, United States
CATEGORIES:Manteca
ORGANIZER;CN="John Reedy":MAILTO:jrbaldeagle@sbcglobal.net
END:VEVENT
BEGIN:VEVENT
DTSTART;VALUE=DATE:20180519
DTEND;VALUE=DATE:20180521
DTSTAMP:20260421T045547
CREATED:20180120T170641Z
LAST-MODIFIED:20180525T160348Z
UID:9382-1526688000-1526860799@ncssa.club
SUMMARY:Manteca - Animals Invitational
DESCRIPTION:Bracket A\nBracket B\nBracket C
URL:https://ncssa.club/event/manteca-6/
LOCATION:Manteca – Northgate Softball Complex\, 1750 Hoyt Ln\, Manteca\, CA\, 95336\, United States
CATEGORIES:Manteca
ORGANIZER;CN="Don Angle":MAILTO:don.angle@aol.com
END:VEVENT
BEGIN:VEVENT
DTSTART;VALUE=DATE:20180308
DTEND;VALUE=DATE:20180310
DTSTAMP:20260421T045547
CREATED:20180120T004205Z
LAST-MODIFIED:20180311T152139Z
UID:9351-1520467200-1520639999@ncssa.club
SUMMARY:Manteca BLD - March Madness
DESCRIPTION:  \nAA Bracket \nBB Bracket \nCC Bracket (revised)\n \n  \n  \n  \nTo all Tournament Teams\,\nBelow is a copy of the tournament liability release waiver form for 2018. Due to the ever increasing number of law suits our corporate legal staff is cracking down and requiring that these waivers be complete filled out and turned into the park before teams participate in your events. Games will have to be held up until all waivers are collected. Please be one of the good guys and either you or someone in your organization collect these waivers and turn them in to our daytime coordinators. \n  \nThanks. \nRoy Fetherolf\nGeneral Manager\nBig League Dreams Sports Park\n1077 Milo Candini Drive\nManteca\, CA 95337\n209-824-2400 Ext 101\n209-824-2442 Fax \nTournament Liability Release Waiver (click here) \n \n 
URL:https://ncssa.club/event/manteca-bld-3/
LOCATION:Manteca – Big League Dreams\, 1077 Milo Candini Dr\, Manteca\, CA\, 95337\, United States
CATEGORIES:Manteca
ORGANIZER;CN="John Reedy":MAILTO:jrbaldeagle@sbcglobal.net
END:VEVENT
BEGIN:VEVENT
DTSTART;VALUE=DATE:20170909
DTEND;VALUE=DATE:20170911
DTSTAMP:20260421T045547
CREATED:20170102T195130Z
LAST-MODIFIED:20170901T224953Z
UID:5059-1504915200-1505087999@ncssa.club
SUMMARY:Manteca - Park & Record (canceled)
DESCRIPTION:  \n  \n  \nTournament canceled as of Friday Sept 1st due to lack of teams.\n 
URL:https://ncssa.club/event/manteca-5/
LOCATION:Manteca – Northgate Softball Complex\, 1750 Hoyt Ln\, Manteca\, CA\, 95336\, United States
CATEGORIES:Manteca
END:VEVENT
END:VCALENDAR